BEGIN:VCALENDAR
VERSION:2.0
PRODID:-//Soralia - ECPv6.15.17.1//NONSGML v1.0//EN
CALSCALE:GREGORIAN
METHOD:PUBLISH
X-WR-CALNAME:Soralia
X-ORIGINAL-URL:https://www.soralia.be/accueil
X-WR-CALDESC:Évènements pour Soralia
REFRESH-INTERVAL;VALUE=DURATION:PT1H
X-Robots-Tag:noindex
X-PUBLISHED-TTL:PT1H
BEGIN:VTIMEZONE
TZID:Europe/Paris
BEGIN:DAYLIGHT
TZOFFSETFROM:+0100
TZOFFSETTO:+0200
TZNAME:CEST
DTSTART:20250330T010000
END:DAYLIGHT
BEGIN:STANDARD
TZOFFSETFROM:+0200
TZOFFSETTO:+0100
TZNAME:CET
DTSTART:20251026T010000
END:STANDARD
BEGIN:DAYLIGHT
TZOFFSETFROM:+0100
TZOFFSETTO:+0200
TZNAME:CEST
DTSTART:20260329T010000
END:DAYLIGHT
BEGIN:STANDARD
TZOFFSETFROM:+0200
TZOFFSETTO:+0100
TZNAME:CET
DTSTART:20261025T010000
END:STANDARD
BEGIN:DAYLIGHT
TZOFFSETFROM:+0100
TZOFFSETTO:+0200
TZNAME:CEST
DTSTART:20270328T010000
END:DAYLIGHT
BEGIN:STANDARD
TZOFFSETFROM:+0200
TZOFFSETTO:+0100
TZNAME:CET
DTSTART:20271031T010000
END:STANDARD
END:VTIMEZONE
BEGIN:VEVENT
DTSTART;TZID=Europe/Paris:20260608T133000
DTEND;TZID=Europe/Paris:20260608T160000
DTSTAMP:20260425T200525
CREATED:20260424T143207Z
LAST-MODIFIED:20260424T143207Z
UID:10006479-1780925400-1780934400@www.soralia.be
SUMMARY:Parcours artistique – « Portrait de femme » à Wavre
DESCRIPTION:𝑷𝒐𝒓𝒕𝒓𝒂𝒊𝒕 𝒅𝒆 𝒇𝒆𝒎𝒎𝒆 : 𝒐𝒔𝒆𝒛 𝒆𝒙𝒑𝒓𝒊𝒎𝒆𝒓 𝒗𝒐𝒕𝒓𝒆 𝒑𝒍𝒂𝒄𝒆 𝒅𝒆 𝒇𝒆𝒎𝒎𝒆 𝒂̀ 𝒕𝒓𝒂𝒗𝒆𝒓𝒔 𝒍𝒂 𝒑𝒉𝒐𝒕𝒐 𝒂𝒓𝒈𝒆𝒏𝒕𝒊𝒒𝒖𝒆 \n\nEt si vous osiez exprimer votre place de femme à travers l’objectif ?\nPortrait de femme est un parcours artistique et réflexif en quatre séances\, porté par Citoyenneté & Participation\, La Maison Ose Aller\, en partenariat avec Visit’Wavre\, PAC Brabançonne\, Soralia et l’Instant Emotion (Déborah Gigliotti).\n\n Pourquoi la photo argentique ?Ce parcours fait le choix d’un outil particulier : la photographie argentique. Loin de la logique instantanée du téléphone\, ce procédé invite à ralentir le regard\, à expérimenter et à accepter l’imperfection. Photographie et écriture s’y combinent pour donner voix à vos récits et à vos représentations.\n\nUn projet ancré dans WavreCe parcours s’inscrit dans une démarche citoyenne plus large\, entre 𝐥𝐚 𝐬𝐞𝐦𝐚𝐢𝐧𝐞 𝐖𝐨𝐦𝐚𝐧 𝐖𝐚𝐯𝐫𝐞 (𝐦𝐚𝐫𝐬 𝟐𝟎𝟐𝟔) et 𝐥𝐚 𝐬𝐞𝐦𝐚𝐢𝐧𝐞 𝐝𝐮 𝐌𝐚𝐭𝐫𝐢𝐦𝐨𝐢𝐧𝐞 (𝐬𝐞𝐩𝐭𝐞𝐦𝐛𝐫𝐞 𝟐𝟎𝟐𝟔)\, qui sera l’occasion d’une exposition collective valorisant le travail réalisé.\n\nINFOS PRATIQUES :Les quatre séances se déroulent aux dates suivantes :→ 30 avril : Découverte de la photo à l’argentique et échanges autour de la place des femmes à Wavre→ 4 juin : Découverte de vos photos et premier atelier d’écriture→ 8 juin : Sélection collective des photos pour l’exposition→ 25 juin : Ecriture sur vos ressentis à partir des photos réalisées\nSeptembre : Exposition collective\nToujours de 13h30 à 16h00 – Ateliers gratuits\n\n Maison Ose Aller \, Rue de Bruxelles\, 15 à 1300 WavreInfos et inscriptions : osealler@gmail.com | 0471 21 00 23\n\nPrérequis : Aucune expérience en photographie et écriture est nécessaire. Le matériel est founit par les aninmateur·ices\nLes ateliers forment un parcours complet : il est donc demandé de pouvoir participer aux 4 séances.\n\nPartenaires : Ce projet est soutenu par Visit’Wavre\, le PAC-BW\, Soralia\, l’Instant Emotion (Déborah Gigliotti)\, la Maison Ose Aller et Citoyenneté & Participation\n\n\n\n\n\n \n\nModalités\nPublic : Dès 16 ans \nLieu : Rue de Bruxelles 15\, 1300 Wavre\, Belgique \nDates : \n→ 30 avril→ 4 juin→ 8 juin→ 25 juin \nPrix : Gratuit\n\n \n\nInscription\nInscription obligatoire : osealler@gmail.com | 0471 21 00 23
URL:https://www.soralia.be/accueil/event/parcours-artistique-portrait-de-femme-a-wavre/2026-06-08/
LOCATION:Maison Ouverte Ose Aller\, Rue de Bruxelles\, 15\, Wavre\, Brabant wallon\, 1300\, Belgium
CATEGORIES:Brabant wallon,Egalité femme-homme
ATTACH;FMTTYPE=image/png:https://www.soralia.be/wp-content/uploads/2017/01/calendrier-avril.png
ORGANIZER;CN="Soralia Brabant wallon":MAILTO:soralia.bw@solidaris.be
END:VEVENT
BEGIN:VEVENT
DTSTART;TZID=Europe/Paris:20260613T100000
DTEND;TZID=Europe/Paris:20260613T120000
DTSTAMP:20260425T200525
CREATED:20260116T130153Z
LAST-MODIFIED:20260413T130527Z
UID:10006307-1781344800-1781352000@www.soralia.be
SUMMARY:Atelier Santé: Chevaux & Shiatsu
DESCRIPTION:Venez découvrir une expérience unique par la sagesse des chevaux et les bienfaits du Shiatsu ! Laissez-vous guider par le souffle du cheval et le silence apaisant de la nature.\nLe shiatsu\, inspiré de la médecine traditionnelle chinoise\, vous ouvre les portes d’un voyage intérieur\, entre respiration\, ancrage et toucher énergétique\, vous retrouverez l’harmonie du corps et de l’esprit. Aucune expérience avec les chevaux n’est nécessaire\, juste l’envie de se recentrer. Offrez-vous un moment hors du temps pour se découvrir autrement ! \nLes Ateliers Santé vous emmèneront sur le chemin du bien-être\, du moment “pour soi” et du regard sur votre santé ! Ouverts à toutes et tous\, ils sont assurés par des professionnel.e.s de la thématique et s’organisent en petits groupes afin de garantir le confort des séances. \nQuand? Samedi 13 juin 2026 de 10h à 12h\nOù? Au Manège Hof te Bever à Strombeek-Bever/Grimbergen (à 5 minutes de l’Atomium en transport en commun). Un service navette gratuit sera mis à votre disposition à partir de la station de métro Heyzel\nCombien? 20 euros\nInscriptions au préalable : par courriel à  soralia.bxl@solidaris.be ou par téléphone au 02/546 14 07
URL:https://www.soralia.be/accueil/event/atelier-sante-chevaux-shiatsu/
LOCATION:Manège Hof te Bever\, Manège Hof te Bever à Strombeek-Bever/Grimbergen\, Strombeek-Bever\, Grimbergen\, 1853\, Belgium
CATEGORIES:Bruxelles,Familles,Général,Loisirs,Santé
ATTACH;FMTTYPE=image/png:https://www.soralia.be/wp-content/uploads/2017/01/calendrier-mai.png
END:VEVENT
END:VCALENDAR