BEGIN:VCALENDAR
VERSION:2.0
PRODID:-//Soralia - ECPv6.15.17.1//NONSGML v1.0//EN
CALSCALE:GREGORIAN
METHOD:PUBLISH
X-ORIGINAL-URL:https://www.soralia.be/accueil
X-WR-CALDESC:Évènements pour Soralia
REFRESH-INTERVAL;VALUE=DURATION:PT1H
X-Robots-Tag:noindex
X-PUBLISHED-TTL:PT1H
BEGIN:VTIMEZONE
TZID:Europe/Paris
BEGIN:DAYLIGHT
TZOFFSETFROM:+0100
TZOFFSETTO:+0200
TZNAME:CEST
DTSTART:20240331T010000
END:DAYLIGHT
BEGIN:STANDARD
TZOFFSETFROM:+0200
TZOFFSETTO:+0100
TZNAME:CET
DTSTART:20241027T010000
END:STANDARD
BEGIN:DAYLIGHT
TZOFFSETFROM:+0100
TZOFFSETTO:+0200
TZNAME:CEST
DTSTART:20250330T010000
END:DAYLIGHT
BEGIN:STANDARD
TZOFFSETFROM:+0200
TZOFFSETTO:+0100
TZNAME:CET
DTSTART:20251026T010000
END:STANDARD
BEGIN:DAYLIGHT
TZOFFSETFROM:+0100
TZOFFSETTO:+0200
TZNAME:CEST
DTSTART:20260329T010000
END:DAYLIGHT
BEGIN:STANDARD
TZOFFSETFROM:+0200
TZOFFSETTO:+0100
TZNAME:CET
DTSTART:20261025T010000
END:STANDARD
END:VTIMEZONE
BEGIN:VEVENT
DTSTART;TZID=Europe/Paris:20250419T090000
DTEND;TZID=Europe/Paris:20250419T163000
DTSTAMP:20260420T151649
CREATED:20250409T095556Z
LAST-MODIFIED:20250409T095556Z
UID:10006126-1745053200-1745080200@www.soralia.be
SUMMARY:[Atelier] - Journée bien-être - L'amour de soi
DESCRIPTION:Puisque la première édition vous a beaucoup plu\, nous en lançons une deuxième! \nCette journée sera sous le signe de l’amour au travers des ateliers créatifs et relaxants. \nCe moment dédiée au bien-être sera ponctuée de deux ateliers.\nLe premier\, on vous donne rendez-vous pour de l’aquarelle intuitive et et le second\, pour de la sophrologie. Une journée dédiée au bien être ponctuée de 2 ateliers = Aquarelles intuitives et sophrologie. \nDétendez vous et laissez vous transportez pour une journée remplie de douceurs et de bienveillance. \nL’objectif: prendre soin de soi ! \n💲 30€ pour la journée\n☎️ Inscription obligatoire du lundi au vendredi de 9h00 à 12h00 au 071/507 819 ou 0474/564.234\n📧 soralia.charleroi@solidaris.be\n📍 Maison Soralia – chaussée de Lodelinsart 100 – 6060 Gilly\n🥙 Vous pouvez prévoir votre casse croute et des petits snacks sympas sont ouverts à proximité de la Maison Soralia
URL:https://www.soralia.be/accueil/event/atelier-journee-bien-etre-lamour-de-soi/
LOCATION:Maison Soralia\, Chaussée de Lodelinsart 100\, Gilly\, Hainaut\, 6060\, Belgique
CATEGORIES:Charleroi,Santé
ATTACH;FMTTYPE=image/png:https://www.soralia.be/wp-content/uploads/2017/01/calendrier-avril.png
END:VEVENT
END:VCALENDAR