BEGIN:VCALENDAR
VERSION:2.0
PRODID:-//Soralia - ECPv6.15.17.1//NONSGML v1.0//EN
CALSCALE:GREGORIAN
METHOD:PUBLISH
X-WR-CALNAME:Soralia
X-ORIGINAL-URL:https://www.soralia.be/accueil
X-WR-CALDESC:Évènements pour Soralia
REFRESH-INTERVAL;VALUE=DURATION:PT1H
X-Robots-Tag:noindex
X-PUBLISHED-TTL:PT1H
BEGIN:VTIMEZONE
TZID:Europe/Paris
BEGIN:DAYLIGHT
TZOFFSETFROM:+0100
TZOFFSETTO:+0200
TZNAME:CEST
DTSTART:20240331T010000
END:DAYLIGHT
BEGIN:STANDARD
TZOFFSETFROM:+0200
TZOFFSETTO:+0100
TZNAME:CET
DTSTART:20241027T010000
END:STANDARD
BEGIN:DAYLIGHT
TZOFFSETFROM:+0100
TZOFFSETTO:+0200
TZNAME:CEST
DTSTART:20250330T010000
END:DAYLIGHT
BEGIN:STANDARD
TZOFFSETFROM:+0200
TZOFFSETTO:+0100
TZNAME:CET
DTSTART:20251026T010000
END:STANDARD
BEGIN:DAYLIGHT
TZOFFSETFROM:+0100
TZOFFSETTO:+0200
TZNAME:CEST
DTSTART:20260329T010000
END:DAYLIGHT
BEGIN:STANDARD
TZOFFSETFROM:+0200
TZOFFSETTO:+0100
TZNAME:CET
DTSTART:20261025T010000
END:STANDARD
END:VTIMEZONE
BEGIN:VEVENT
DTSTART;TZID=Europe/Paris:20250725T090000
DTEND;TZID=Europe/Paris:20250725T120000
DTSTAMP:20260421T235601
CREATED:20250522T095831Z
LAST-MODIFIED:20250522T101629Z
UID:10006184-1753434000-1753444800@www.soralia.be
SUMMARY:[Atelier] - Un été pas comme les autres - La fleur et le carton - Atelier floral
DESCRIPTION:Lors de cet atelier\, tu découvriras l’art de créér ta composition florale. Pas à pas\, Béné t’accompagnera dans le montage\, le choix de tes fleurs\, dans l’harmonie des couleurs pour repartir avec une création florale qui rendra votre voisin jaloux! \nAucun prérequis n’est nécessaire pour cet atelier! Vous devez juste venir chargée d’envie\, le pouvoir des fleurs fera le reste! \nPrix| 25€ matériel compris \nInscriptions à partir du 2 juin. Aucune inscription demandée avant cette date ne sera prise en compte. \nInfos & inscription obligatoire au 071/507 819 ou 0474/564 234 ou soralia.charleroi@solidaris.be du lundi au vendredi entre 9h00 et 12h00
URL:https://www.soralia.be/accueil/event/atelier-un-ete-pas-comme-les-autres-la-fleur-et-le-carton-atelier-floral/
LOCATION:Maison Soralia\, Chaussée de Lodelinsart 100\, Gilly\, Hainaut\, 6060\, Belgique
CATEGORIES:Charleroi,Loisirs
ATTACH;FMTTYPE=image/png:https://www.soralia.be/wp-content/uploads/2017/01/calendrier-juillet.png
END:VEVENT
END:VCALENDAR