BEGIN:VCALENDAR
VERSION:2.0
PRODID:-//Soralia - ECPv6.15.17.1//NONSGML v1.0//EN
CALSCALE:GREGORIAN
METHOD:PUBLISH
X-WR-CALNAME:Soralia
X-ORIGINAL-URL:https://www.soralia.be/accueil
X-WR-CALDESC:Évènements pour Soralia
REFRESH-INTERVAL;VALUE=DURATION:PT1H
X-Robots-Tag:noindex
X-PUBLISHED-TTL:PT1H
BEGIN:VTIMEZONE
TZID:Europe/Paris
BEGIN:DAYLIGHT
TZOFFSETFROM:+0100
TZOFFSETTO:+0200
TZNAME:CEST
DTSTART:20240331T010000
END:DAYLIGHT
BEGIN:STANDARD
TZOFFSETFROM:+0200
TZOFFSETTO:+0100
TZNAME:CET
DTSTART:20241027T010000
END:STANDARD
BEGIN:DAYLIGHT
TZOFFSETFROM:+0100
TZOFFSETTO:+0200
TZNAME:CEST
DTSTART:20250330T010000
END:DAYLIGHT
BEGIN:STANDARD
TZOFFSETFROM:+0200
TZOFFSETTO:+0100
TZNAME:CET
DTSTART:20251026T010000
END:STANDARD
BEGIN:DAYLIGHT
TZOFFSETFROM:+0100
TZOFFSETTO:+0200
TZNAME:CEST
DTSTART:20260329T010000
END:DAYLIGHT
BEGIN:STANDARD
TZOFFSETFROM:+0200
TZOFFSETTO:+0100
TZNAME:CET
DTSTART:20261025T010000
END:STANDARD
END:VTIMEZONE
BEGIN:VEVENT
DTSTART;TZID=Europe/Paris:20250718T090000
DTEND;TZID=Europe/Paris:20250718T140000
DTSTAMP:20260419T204205
CREATED:20250522T093432Z
LAST-MODIFIED:20250522T104418Z
UID:10006179-1752829200-1752847200@www.soralia.be
SUMMARY:[Atelier] - Un été pas comme les autres - Balade à la découverte des plantes sauvages comestibles
DESCRIPTION:La cueillette de plantes sauvages pour se nourrir a été le quotidien des humain·es pendant près de 3 millions d’années avant de tomber peu à peu dans la désuétude depuis l’avènement de l’agriculture… \nAujourd’hui\, on redécouvre avec bonheur toutes les saveurs de nos sauvageonnes et les multiples façons de les accommoder. Mais bien des savoirs ancestraux sont à se réapproprier pour les trouver et surtout les reconnaître. La balade sera suivie d’une dégustation. \nPrix| 20€ \nMatériel à prévoir| Chaussure de marche / de quoi se couvrir la tête / crème solaire / vêtements de pluie (en fonction de la météo du jour) \nLieu de RDV | Toutes les infos vous seront communiquées lors de votre inscription \nInscriptions à partir du 2 juin. Aucune inscription demandée avant cette date ne sera prise en compte. \nInfos & inscription obligatoire au 071/507 819 ou 0474/564 234 ou soralia.charleroi@solidaris.be du lundi au vendredi entre 9h00 et 12h00
URL:https://www.soralia.be/accueil/event/atelier-un-ete-pas-comme-les-autres-balade-a-la-decouverte-des-plantes-sauvages-comestibles/
LOCATION:Maison Soralia\, Chaussée de Lodelinsart 100\, Gilly\, Hainaut\, 6060\, Belgique
CATEGORIES:Charleroi,Loisirs
ATTACH;FMTTYPE=image/png:https://www.soralia.be/wp-content/uploads/2017/01/calendrier-juillet.png
END:VEVENT
BEGIN:VEVENT
DTSTART;TZID=Europe/Paris:20250718T130000
DTEND;TZID=Europe/Paris:20250718T160000
DTSTAMP:20260419T204205
CREATED:20250522T092614Z
LAST-MODIFIED:20250522T104332Z
UID:10006178-1752843600-1752854400@www.soralia.be
SUMMARY:[Atelier] - Un été pas comme les autres - Mantra ta vie! Création de ta carte d’affirmation
DESCRIPTION:Un moment pour te reconnecter à toi\, poser tes intentions et leur donner une forme artistique. \nDans cet atelier\, tu écris ton mantra perso – puissant\, doux\, motivant\, drôle ou guérisseur – puis tu le transformes en carte unique avec peinture\, collage\, dessin\, typo\, textures… à ton image. \nUne journée rythmée d’écriture intuitive et de création libre et sensible. Tu repars avec une carte qui te booste et t’inspire au quotidien. Pas besoin de savoir écrire ou dessiner\, juste l’envie de t’exprimer. \nPrix| 70€ \nInscriptions à partir du 2 juin. Aucune inscription demandée avant cette date ne sera prise en compte. \nInfos & inscription obligatoire au 071/507 819 ou 0474/564 234 ou soralia.charleroi@solidaris.be du lundi au vendredi entre 9h00 et 12h00
URL:https://www.soralia.be/accueil/event/atelier-un-ete-pas-comme-les-autres-mantra-ta-vie-creation-de-ta-carte-daffirmation/
LOCATION:Maison Soralia\, Chaussée de Lodelinsart 100\, Gilly\, Hainaut\, 6060\, Belgique
CATEGORIES:Charleroi,Loisirs
ATTACH;FMTTYPE=image/png:https://www.soralia.be/wp-content/uploads/2017/01/calendrier-juillet.png
END:VEVENT
BEGIN:VEVENT
DTSTART;TZID=Europe/Paris:20250718T133000
DTEND;TZID=Europe/Paris:20250718T163000
DTSTAMP:20260419T204205
CREATED:20250522T091432Z
LAST-MODIFIED:20250522T104030Z
UID:10006172-1752845400-1752856200@www.soralia.be
SUMMARY:[Atelier] - Un été pas comme les autres - Power Papier – Sculptures inspirées de grandes artistes
DESCRIPTION:Un atelier pour explorer le papier mâché en mode libre et créatif\, inspiré par des sculptrices puissantes et singulières (Niki de Saint Phalle\, Louise Bourgeois\, Frida\, et d’autres badass de la forme). \nTu vas modeler\, coller\, construire et donner vie à une pièce sculpturale à ton image\, entre matière brute et imagination débridée. \nOn fait quoi ? \n🎭 Apprendre les bases du volume en papier mâché; \n🖌 Créer ta propre sculpture\, personnage\, créature ou totem; \n🔥 S’inspirer de grandes artistes tout en développant ton univers \n💡 Aucun prérequis\, juste l’envie de créer avec tes mains et d’exprimer ton énergie ! \nPrix | 50€ pour le module de 5 après-midi \nMatériel à prévoir| 1 tablier et 1 ou 2 journaux de presse sans couleurs (style Nouvelle Gazette)\, 1 bouteille de plastique vide (1l – 1\,5l) \nInscriptions à partir du 2 juin. Aucune inscription demandée avant cette date ne sera prise en compte. \nInfos & inscription obligatoire au 071/507 819 ou 0474/564 234 ou soralia.charleroi@solidaris.be du lundi au vendredi entre 9h00 et 12h00
URL:https://www.soralia.be/accueil/event/atelier-un-ete-pas-comme-les-autres-power-papier-sculptures-inspirees-de-grandes-artistes-5/
LOCATION:Maison Soralia\, Chaussée de Lodelinsart 100\, Gilly\, Hainaut\, 6060\, Belgique
CATEGORIES:Charleroi,Loisirs
ATTACH;FMTTYPE=image/png:https://www.soralia.be/wp-content/uploads/2017/01/calendrier-juillet.png
END:VEVENT
END:VCALENDAR