BEGIN:VCALENDAR
VERSION:2.0
PRODID:-//Soralia - ECPv6.15.17.1//NONSGML v1.0//EN
CALSCALE:GREGORIAN
METHOD:PUBLISH
X-WR-CALNAME:Soralia
X-ORIGINAL-URL:https://www.soralia.be/accueil
X-WR-CALDESC:Évènements pour Soralia
REFRESH-INTERVAL;VALUE=DURATION:PT1H
X-Robots-Tag:noindex
X-PUBLISHED-TTL:PT1H
BEGIN:VTIMEZONE
TZID:Europe/Paris
BEGIN:DAYLIGHT
TZOFFSETFROM:+0100
TZOFFSETTO:+0200
TZNAME:CEST
DTSTART:20240331T010000
END:DAYLIGHT
BEGIN:STANDARD
TZOFFSETFROM:+0200
TZOFFSETTO:+0100
TZNAME:CET
DTSTART:20241027T010000
END:STANDARD
BEGIN:DAYLIGHT
TZOFFSETFROM:+0100
TZOFFSETTO:+0200
TZNAME:CEST
DTSTART:20250330T010000
END:DAYLIGHT
BEGIN:STANDARD
TZOFFSETFROM:+0200
TZOFFSETTO:+0100
TZNAME:CET
DTSTART:20251026T010000
END:STANDARD
BEGIN:DAYLIGHT
TZOFFSETFROM:+0100
TZOFFSETTO:+0200
TZNAME:CEST
DTSTART:20260329T010000
END:DAYLIGHT
BEGIN:STANDARD
TZOFFSETFROM:+0200
TZOFFSETTO:+0100
TZNAME:CET
DTSTART:20261025T010000
END:STANDARD
END:VTIMEZONE
BEGIN:VEVENT
DTSTART;TZID=Europe/Paris:20250722T090000
DTEND;TZID=Europe/Paris:20250722T120000
DTSTAMP:20260421T081505
CREATED:20250522T093608Z
LAST-MODIFIED:20250522T103918Z
UID:10006180-1753174800-1753185600@www.soralia.be
SUMMARY:[Atelier] - Un été pas comme les autres - Arpentage du roman Feel-good de l’été: Villa Gloria de Serena Giuliano
DESCRIPTION:L’arpentage est une façon d’appréhender la lecture qui séduit de plus en plus et qui laisse à chacun.e une place égale qu’on soit un.e lecteur.ice assidu.e ou pas du tout. \nChaque participant·e recevra un extrait du livre et le découvre. \nEnsuite\, nous partagerons ensemble son contenu mais aussi son ressenti\, sa perception de la lecture selon ses propres émotions. \nLors de cet atelier\, nous arpenterons « Villa Gloria »\, un roman feel-good envoûtant de Serena Giuliano qui nous transporte au cœur des Pouilles\, en Italie. 🌞 \nIris et Gloria\, mère et fille\, gèrent une maison d’hôtes où chaque séjour devient une aventure inoubliable. \nAvec des personnages hauts en couleur\, des caractères bien trempés\, une maitresse de maison qui se mêle des affaires de ses hôtes pour résoudre leurs problèmes\, on s’assure une touche de magie et de chaleur humaine à chaque histoire. \nCe livre est un mélange parfait d’humour\, d’amour et d’amitié\, idéal pour celles et ceux qui cherchent une lecture réconfortante et pleine de vie à partager avec nous cet été ! \nA l’issue de l’atelier vous repartirez avec votre propre exemplaire du livre. \nPrix| 20€ \nInscriptions à partir du 2 juin. Aucune inscription demandée avant cette date ne sera prise en compte. \nInfos & inscription obligatoire au 071/507 819 ou 0474/564 234 ou soralia.charleroi@solidaris.be du lundi au vendredi entre 9h00 et 12h00
URL:https://www.soralia.be/accueil/event/atelier-un-ete-pas-comme-les-autres-arpentage-du-roman-feel-good-de-lete-villa-gloria-de-serena-giuliano/
LOCATION:Maison Soralia\, Chaussée de Lodelinsart 100\, Gilly\, Hainaut\, 6060\, Belgique
CATEGORIES:Charleroi,Loisirs
ATTACH;FMTTYPE=image/png:https://www.soralia.be/wp-content/uploads/2017/01/calendrier-juillet.png
END:VEVENT
END:VCALENDAR