BEGIN:VCALENDAR
VERSION:2.0
PRODID:-//Soralia - ECPv6.15.17.1//NONSGML v1.0//EN
CALSCALE:GREGORIAN
METHOD:PUBLISH
X-ORIGINAL-URL:https://www.soralia.be/accueil
X-WR-CALDESC:Évènements pour Soralia
REFRESH-INTERVAL;VALUE=DURATION:PT1H
X-Robots-Tag:noindex
X-PUBLISHED-TTL:PT1H
BEGIN:VTIMEZONE
TZID:Europe/Paris
BEGIN:DAYLIGHT
TZOFFSETFROM:+0100
TZOFFSETTO:+0200
TZNAME:CEST
DTSTART:20240331T010000
END:DAYLIGHT
BEGIN:STANDARD
TZOFFSETFROM:+0200
TZOFFSETTO:+0100
TZNAME:CET
DTSTART:20241027T010000
END:STANDARD
BEGIN:DAYLIGHT
TZOFFSETFROM:+0100
TZOFFSETTO:+0200
TZNAME:CEST
DTSTART:20250330T010000
END:DAYLIGHT
BEGIN:STANDARD
TZOFFSETFROM:+0200
TZOFFSETTO:+0100
TZNAME:CET
DTSTART:20251026T010000
END:STANDARD
BEGIN:DAYLIGHT
TZOFFSETFROM:+0100
TZOFFSETTO:+0200
TZNAME:CEST
DTSTART:20260329T010000
END:DAYLIGHT
BEGIN:STANDARD
TZOFFSETFROM:+0200
TZOFFSETTO:+0100
TZNAME:CET
DTSTART:20261025T010000
END:STANDARD
END:VTIMEZONE
BEGIN:VEVENT
DTSTART;TZID=Europe/Paris:20250723T070000
DTEND;TZID=Europe/Paris:20250723T093000
DTSTAMP:20260420T170445
CREATED:20250522T094141Z
LAST-MODIFIED:20250602T074251Z
UID:10006181-1753254000-1753263000@www.soralia.be
SUMMARY:[Atelier] - Un été pas comme les autres - Balade avec vue au terril du Bayemont à La Docherie
DESCRIPTION:Aube urbaine: visite guidée et commentée à pas feutrés sur le terril du Bayemont Saint-Charles à Marchienne Docherie. Ascension silencieuse dans la pénombre du matin où tous nos sens en éveil. Observons le réveil de la ville ! \nNous y découvrirons également les caractéristiques des terrils\, leur composition\, l’origine du charbon. \nLes différentes générations de terrils\, la végétalisation et son évolution\, les terrils à l’heure actuelle\, les différents arbres observés et les différentes plantes présentes\, étude du paysage au sommet\, court historique des charbonnages en général. \nAspects sociaux: conditions de travail\, travail des enfants\, immigration etc… La faune\, la flore et la géologie des terrils. \nLa balade pourra se prolonger\, si souhaité par les participant·es\, par une promenade aux alentours du terril. \nLa visite pourra être reportée en cas de conditions météo défavorables\, un avertissement serait alors envoyé par mail au plus tard 24heures avant. \nPrix| 9€ \nMatériel à prévoir| Chaussure de marche / de quoi se couvrir la tête / crème solaire / vêtements de pluie (en fonction de la météo du jour) \nLieu de RDV | Toutes les infos vous seront communiquées lors de votre inscription \nInscriptions à partir du 2 juin. Aucune inscription demandée avant cette date ne sera prise en compte. \nInfos & inscription obligatoire au 071/507 819 ou 0474/564 234 ou soralia.charleroi@solidaris.be du lundi au vendredi entre 9h00 et 12h00
URL:https://www.soralia.be/accueil/event/atelier-un-ete-pas-comme-les-autres-aube-urbaine-au-terril-du-bayemont-a-la-docherie/
LOCATION:Maison Soralia\, Chaussée de Lodelinsart 100\, Gilly\, Hainaut\, 6060\, Belgique
CATEGORIES:Charleroi,Loisirs
ATTACH;FMTTYPE=image/png:https://www.soralia.be/wp-content/uploads/2017/01/calendrier-juillet.png
END:VEVENT
END:VCALENDAR