BEGIN:VCALENDAR
VERSION:2.0
PRODID:-//Soralia - ECPv6.15.17.1//NONSGML v1.0//EN
CALSCALE:GREGORIAN
METHOD:PUBLISH
X-ORIGINAL-URL:https://www.soralia.be/accueil
X-WR-CALDESC:Évènements pour Soralia
REFRESH-INTERVAL;VALUE=DURATION:PT1H
X-Robots-Tag:noindex
X-PUBLISHED-TTL:PT1H
BEGIN:VTIMEZONE
TZID:Europe/Paris
BEGIN:DAYLIGHT
TZOFFSETFROM:+0100
TZOFFSETTO:+0200
TZNAME:CEST
DTSTART:20240331T010000
END:DAYLIGHT
BEGIN:STANDARD
TZOFFSETFROM:+0200
TZOFFSETTO:+0100
TZNAME:CET
DTSTART:20241027T010000
END:STANDARD
BEGIN:DAYLIGHT
TZOFFSETFROM:+0100
TZOFFSETTO:+0200
TZNAME:CEST
DTSTART:20250330T010000
END:DAYLIGHT
BEGIN:STANDARD
TZOFFSETFROM:+0200
TZOFFSETTO:+0100
TZNAME:CET
DTSTART:20251026T010000
END:STANDARD
BEGIN:DAYLIGHT
TZOFFSETFROM:+0100
TZOFFSETTO:+0200
TZNAME:CEST
DTSTART:20260329T010000
END:DAYLIGHT
BEGIN:STANDARD
TZOFFSETFROM:+0200
TZOFFSETTO:+0100
TZNAME:CET
DTSTART:20261025T010000
END:STANDARD
END:VTIMEZONE
BEGIN:VEVENT
DTSTART;TZID=Europe/Paris:20250730T073000
DTEND;TZID=Europe/Paris:20250730T221500
DTSTAMP:20260425T014742
CREATED:20250522T100458Z
LAST-MODIFIED:20250522T105411Z
UID:10006186-1753860600-1753913700@www.soralia.be
SUMMARY:[Atelier] - Un été pas comme les autres - Journée libre à Luxembourg Ville
DESCRIPTION:Perchée sur un plateau rocheux et entourée de rivières\, la ville-haute adore se faire prendre en photo … Réussissez vos plus beaux clichés avec une halte sur le chemin de la Corniche surnommé le plus beau balcon d’Europe. \nLes imposantes fortifications de la ville (inscrites au patrimoine mondial de l’UNESCO)\, protègent de fabuleux trésors comme le palais Grand-Ducal\, la cathédrale Notre-Dame et le pont Adolphe et vous en mettront plein les yeux. \nEn ce jour de marché hebdomadaire et entre toutes ces riches découvertes\, rien de tel qu’une pause au cœur de la ville pour reprendre des forces. Venez profiter des nombreuses terrasses animées et tavernes typiques pour goûter la cuisine luxembourgeoise\, généreuse et savoureuse. \nPrix | 30€ \nLieu de RDV | Toutes les infos vous seront communiqués lors de votre inscription \nInscriptions à partir du 2 juin. Aucune inscription demandée avant cette date ne sera prise en compte. \nInfos & inscription obligatoire au 071/507 819 ou 0474/564 234 ou soralia.charleroi@solidaris.be du lundi au vendredi entre 9h00 et 12h00
URL:https://www.soralia.be/accueil/event/atelier-un-ete-pas-comme-les-autres-pesto-tartinades/
LOCATION:Maison Soralia\, Chaussée de Lodelinsart 100\, Gilly\, Hainaut\, 6060\, Belgique
CATEGORIES:Charleroi,Loisirs
ATTACH;FMTTYPE=image/png:https://www.soralia.be/wp-content/uploads/2017/01/calendrier-juillet.png
END:VEVENT
END:VCALENDAR