BEGIN:VCALENDAR
VERSION:2.0
PRODID:-//Soralia - ECPv6.15.17.1//NONSGML v1.0//EN
CALSCALE:GREGORIAN
METHOD:PUBLISH
X-ORIGINAL-URL:https://www.soralia.be/accueil
X-WR-CALDESC:Évènements pour Soralia
REFRESH-INTERVAL;VALUE=DURATION:PT1H
X-Robots-Tag:noindex
X-PUBLISHED-TTL:PT1H
BEGIN:VTIMEZONE
TZID:Europe/Paris
BEGIN:DAYLIGHT
TZOFFSETFROM:+0100
TZOFFSETTO:+0200
TZNAME:CEST
DTSTART:20160327T010000
END:DAYLIGHT
BEGIN:STANDARD
TZOFFSETFROM:+0200
TZOFFSETTO:+0100
TZNAME:CET
DTSTART:20161030T010000
END:STANDARD
BEGIN:DAYLIGHT
TZOFFSETFROM:+0100
TZOFFSETTO:+0200
TZNAME:CEST
DTSTART:20170326T010000
END:DAYLIGHT
BEGIN:STANDARD
TZOFFSETFROM:+0200
TZOFFSETTO:+0100
TZNAME:CET
DTSTART:20171029T010000
END:STANDARD
BEGIN:DAYLIGHT
TZOFFSETFROM:+0100
TZOFFSETTO:+0200
TZNAME:CEST
DTSTART:20180325T010000
END:DAYLIGHT
BEGIN:STANDARD
TZOFFSETFROM:+0200
TZOFFSETTO:+0100
TZNAME:CET
DTSTART:20181028T010000
END:STANDARD
END:VTIMEZONE
BEGIN:VEVENT
DTSTART;TZID=Europe/Paris:20170218T110000
DTEND;TZID=Europe/Paris:20170218T170000
DTSTAMP:20260423T132915
CREATED:20170131T132105Z
LAST-MODIFIED:20170131T132131Z
UID:10003745-1487415600-1487437200@www.soralia.be
SUMMARY:A vos graines citoyens-citoyennes !
DESCRIPTION:Troc de semences de jardin – 4ème édition\nSoralia de Liège vous proposent une réflexion sur la permaculture mais aussi sur les bons plans pour l’ergonomie au jardin.\nPermaculture… ergonomie… ça vous parle ?\nFaire de son lieu de vie un écosystème harmonieux\, productif\, autonome\, naturellement régénéré et respectueux de la nature et de tous ses habitants ! Concevoir autrement son potager\, respecter la terre\, laisser la nature faire son oeuvre\, faire des découvertes\, cultiver et récolter sans s’épuiser … Parlons-en et agissons à notre niveau\, au coeur de nos jardins. Afin de poursuivre les journées citoyennes entamées en 2014 le secteur Education permanente des FPS de Liège vous propose deux « rencontres–papote » autour de la permaculture et de l’ergonomie au jardin. \nIntroduction de la journée par Cécile Olin\, responsable du secteur Education permanente des FPS. \nTroc de semences avec Mohamed Ashqar (PAC Verviers- Jardins Solidaires) et Fanny Lebrun\, semencière (Cycle en terre). \nDébat citoyen autour de la permaculture et de l’ergonomie au jardin avec : \n\nJean-Cédric Jacmart\, titulaire du cours certifié de Permaculture\, propriétaire de la ferme biologique et de l’écocentre de Desnié\nPatrick Bouhy (Intradel)\nClaudine Mathieu (kinésithérapeute)\nMonsieur Brisbois (apiculteur)\nMadame Christiane Orban Echevine de l’environnement à Theux (sous réserve)\nPierre-Marie Laduron (producteur de poires et pommes bio)
URL:https://www.soralia.be/accueil/event/a-vos-graines-citoyens-citoyennes/
LOCATION:Centre culturel de Theux\, Place Pascal Taskin\, Theux\, Belgique
CATEGORIES:Droit & Citoyenneté,Général,Liège,Santé
ATTACH;FMTTYPE=image/png:https://www.soralia.be/wp-content/uploads/2017/01/calendrier-fevrier.png
ORGANIZER;CN="FPS Li%C3%A8ge":MAILTO:associations.liege@solidaris.be
END:VEVENT
BEGIN:VEVENT
DTSTART;TZID=Europe/Paris:20170218T180000
DTEND;TZID=Europe/Paris:20170218T200000
DTSTAMP:20260423T132915
CREATED:20170206T143406Z
LAST-MODIFIED:20170206T143406Z
UID:10003751-1487440800-1487448000@www.soralia.be
SUMMARY:Remboursement des soins de santé
DESCRIPTION:Le comité local des FPS de Bouffioulx organise une conférence-débat.\nConférencier: SOLAU Patrick\, Secrétaire des FPS de Charleroi\nRenseignements et inscriptions : LECRON Bernadette 0475/201 470 \n 
URL:https://www.soralia.be/accueil/event/remboursement-des-soins-de-sante/
LOCATION:Rue Haute\, 13 \, BOUFFIOULX\, 6200
CATEGORIES:Charleroi,Général,Régional,Santé
ATTACH;FMTTYPE=image/png:https://www.soralia.be/wp-content/uploads/2017/01/calendrier-fevrier.png
END:VEVENT
BEGIN:VEVENT
DTSTART;TZID=Europe/Paris:20170223T190000
DTEND;TZID=Europe/Paris:20170223T230000
DTSTAMP:20260423T132915
CREATED:20170130T152404Z
LAST-MODIFIED:20170131T130506Z
UID:10003744-1487876400-1487890800@www.soralia.be
SUMMARY:Exposition - En quête d'identité(S)
DESCRIPTION:Des groupes de Lire et Ecrire\, Vie Féminine et des Femmes Prévoyantes Socialistes ont exploré la question de l’identité au travers d’ateliers utilisant les masques comme vecteurs d’expression. Leur travail\, qui a permis de nourrir l’exposition En quête d’Identité(s)\, sera mis à l’honneur lors du vernissage. Les participants y sont d’abord confrontés aux gardiens du Bureau des Identités qui leur demandent de décliner une série de renseignements : âge\, sexe\, nationalité\, taille… Mais ces renseignements suffisent-ils à déterminer leur identité ? Deux groupes sont constitués au hasard. Chacun est amené à construire le parcours de vie d’un personnage au travers de différents éléments constitutifs de l’identité : la famille\, les études\, les goûts musicaux\, les convictions\, les migrations\, la mode\, le genre\, l’engagement citoyen… \nL’expo est visible du 20/02 au 31/03/2017
URL:https://www.soralia.be/accueil/event/exposition-en-quete-didentites/
LOCATION:Maison de la laïcité\, Rue Waroqué 124\, La Louvière\, 7100\, Belgique
CATEGORIES:Centre & Soignies,Général,Régional
ATTACH;FMTTYPE=image/png:https://www.soralia.be/wp-content/uploads/2017/01/calendrier-fevrier.png
ORGANIZER;CN="FPS Centre & Soignies":MAILTO:fps.cs@solidaris.be
END:VEVENT
BEGIN:VEVENT
DTSTART;TZID=Europe/Paris:20170225T140000
DTEND;TZID=Europe/Paris:20170225T170000
DTSTAMP:20260423T132915
CREATED:20170206T135153Z
LAST-MODIFIED:20170206T135444Z
UID:10003750-1488031200-1488042000@www.soralia.be
SUMMARY:Exposition "What is a woman?"
DESCRIPTION:Atelier d’expression-créatif – Pour toi\, qu’est-ce qu’une femme ?\nDans le cadre de la journée internationale des femmes\nSoralia vous proposent de partager un temps créatif et d’expression autour de la question « Qu’est-ce qu’une femme ? » Un moment de rencontre est prévu avec l’artiste\, Ethel KARSKENS\, par la présentation de ses oeuvres et de ses voyages.\nInformations : Céline Scokaert 0478/30 14 68 – celine@scokaert.com
URL:https://www.soralia.be/accueil/event/exposition-what-is-a-woman/
LOCATION:RUE GEORGES WILLAME\, 10\, Nivelles\, Belgique
CATEGORIES:Brabant wallon,Egalité femme-homme,Général,Régional
ATTACH;FMTTYPE=image/png:https://www.soralia.be/wp-content/uploads/2017/01/calendrier-fevrier.png
ORGANIZER;CN="FPS Brabant wallon":MAILTO:fpsbw@solidaris.be
END:VEVENT
END:VCALENDAR