BEGIN:VCALENDAR
VERSION:2.0
PRODID:-//Soralia - ECPv6.15.17.1//NONSGML v1.0//EN
CALSCALE:GREGORIAN
METHOD:PUBLISH
X-ORIGINAL-URL:https://www.soralia.be/accueil
X-WR-CALDESC:Évènements pour Soralia
REFRESH-INTERVAL;VALUE=DURATION:PT1H
X-Robots-Tag:noindex
X-PUBLISHED-TTL:PT1H
BEGIN:VTIMEZONE
TZID:Europe/Paris
BEGIN:DAYLIGHT
TZOFFSETFROM:+0100
TZOFFSETTO:+0200
TZNAME:CEST
DTSTART:20160327T010000
END:DAYLIGHT
BEGIN:STANDARD
TZOFFSETFROM:+0200
TZOFFSETTO:+0100
TZNAME:CET
DTSTART:20161030T010000
END:STANDARD
BEGIN:DAYLIGHT
TZOFFSETFROM:+0100
TZOFFSETTO:+0200
TZNAME:CEST
DTSTART:20170326T010000
END:DAYLIGHT
BEGIN:STANDARD
TZOFFSETFROM:+0200
TZOFFSETTO:+0100
TZNAME:CET
DTSTART:20171029T010000
END:STANDARD
BEGIN:DAYLIGHT
TZOFFSETFROM:+0100
TZOFFSETTO:+0200
TZNAME:CEST
DTSTART:20180325T010000
END:DAYLIGHT
BEGIN:STANDARD
TZOFFSETFROM:+0200
TZOFFSETTO:+0100
TZNAME:CET
DTSTART:20181028T010000
END:STANDARD
END:VTIMEZONE
BEGIN:VEVENT
DTSTART;TZID=Europe/Paris:20170419T194500
DTEND;TZID=Europe/Paris:20170419T204500
DTSTAMP:20260422T020903
CREATED:20170414T091029Z
LAST-MODIFIED:20170414T091029Z
UID:10003800-1492631100-1492634700@www.soralia.be
SUMMARY:Gymnastique douce
DESCRIPTION:Cet atelier gymnastique douce\, pris en charge par une kinésithérapeute\, est axé sur des exercices de souplesse et de gymnastique douce qui ménagent le dos et le souffle. \nRendez-vous tous les mercredis soirs hors congés scolaires. \nPrix : 43 € par trimestre \nIntervenante : Manuelle Cerf\, kinésithérapeute \nInscriptions obligatoires : 071/507 820 ou fps.cs@solidaris.be \n 
URL:https://www.soralia.be/accueil/event/gymnastique-douce/
LOCATION:Athénée Royale de Binche\, Binche\, 7130\, Belgique
CATEGORIES:Centre & Soignies,Régional,Santé,Thèmes
ATTACH;FMTTYPE=image/png:https://www.soralia.be/wp-content/uploads/2017/01/calendrier-avril.png
ORGANIZER;CN="FPS Centre & Soignies":MAILTO:fps.cs@solidaris.be
END:VEVENT
BEGIN:VEVENT
DTSTART;TZID=Europe/Paris:20170420T180000
DTEND;TZID=Europe/Paris:20170420T203000
DTSTAMP:20260422T020903
CREATED:20170414T075746Z
LAST-MODIFIED:20170414T083448Z
UID:10003795-1492711200-1492720200@www.soralia.be
SUMMARY:Plus vert que vert
DESCRIPTION:Produits d’entretien naturels \nStop aux produits nocifs à notre santé et à l’environnement. Le comité FPS de Morlanwelz et la régionale FPS du Centre et de Soignies vous proposent un atelier pratique de fabrication de produits d’entretien pour votre maison. Vous repartirez avec des recettes simples\, efficaces\, 100% biodégradables et peu coûteuses. \nIntervenante : Leslie Lion\, animatrice FPS \nInscriptions obligatoires : 071/507 820 ou fps.cs@solidaris.be \n  \n 
URL:https://www.soralia.be/accueil/event/plus-vert-que-vert/
LOCATION:Ancienne Maison communale\, Place de Mont-Sainte-Aldegonde\, Mont-Sainte-Aldegonde\, 7141\, Belgique
CATEGORIES:Centre & Soignies,Droit & Citoyenneté,Régional,Thèmes
ATTACH;FMTTYPE=image/png:https://www.soralia.be/wp-content/uploads/2017/01/calendrier-avril.png
ORGANIZER;CN="FPS Centre & Soignies":MAILTO:fps.cs@solidaris.be
END:VEVENT
BEGIN:VEVENT
DTSTART;TZID=Europe/Paris:20170421T113000
DTEND;TZID=Europe/Paris:20170421T140000
DTSTAMP:20260422T020903
CREATED:20170405T140559Z
LAST-MODIFIED:20170410T090750Z
UID:10003782-1492774200-1492783200@www.soralia.be
SUMMARY:Conférence Femmes migrantes et violences conjugales
DESCRIPTION:Quelles difficultés particulières pour les femmes migrantes confrontées aux violences conjugales ?\nLe sort des femmes venues en Belgique par regroupement familial est lié à la cohabitation avec leur conjoint. En cas de violence conjugale\, elles risquent de perdre leur titre de séjour. Les femmes participant à cette étude 2014 du CVFE étaient venues en Europe\, convaincues qu’elles pourraient y mener une existence autonome et paisible\, incapables d’imaginer y vivre de telles injustices. Elles sont convaincues aujourd’hui que leur situation se serait présentée de manière beaucoup plus positive\, si elles avaient pu recevoir\, avant leur départ du pays d’origine ou dès leur arrivée en Belgique\, une information préalable sur l’organisation de la société belge et les démarches à faire en cas de violence conjugale dans le cadre de la loi concernant le regroupement familial. La présente étude s’interroge en compagnie d’une vingtaine de ces femmes sur les types de sensibili­sations préventives qui pourraient être mises en place dans cette optique. \nIntervenantes : Bijou Banza Monga et Nadia Uwera – Collectif contre les Violences Familiales et l’Exclusion \nModalités\nInscriptions : cliquez ici\nInformations : Siobhan Renkin – siobhan.renkin@cripel.be – 04/220.59.64 \nUn partenariat du Cripel et de la Maison des Femmes d’Ici et d’Ailleurs FPS – Réseau Solidaris \nVous trouverez le programme complet ici: Programme MIDIS CONFERENCES 2017
URL:https://www.soralia.be/accueil/event/conference-femmes-migrantes-et-violences-conjugales/
LOCATION:Maison de la Laïcité de Liège\, Boulevard d'Avroy 86\, Liège\, Liège\, 4000\, Belgique
CATEGORIES:Général,Liège,Régional,Thèmes,Violences
ATTACH;FMTTYPE=image/png:https://www.soralia.be/wp-content/uploads/2017/01/calendrier-avril.png
ORGANIZER;CN="FPS Li%C3%A8ge":MAILTO:associations.liege@solidaris.be
END:VEVENT
BEGIN:VEVENT
DTSTART;TZID=Europe/Paris:20170421T133000
DTEND;TZID=Europe/Paris:20170421T163000
DTSTAMP:20260422T020903
CREATED:20170404T092449Z
LAST-MODIFIED:20170406T132130Z
UID:10003779-1492781400-1492792200@www.soralia.be
SUMMARY:Atelier aquarelle et techniques mixtes
DESCRIPTION:Laissez vous tenter par l’aventure et plongez vos pinceaux dans l’univers de l’eau\, de l’aquarelle\, des techniques et des supports mixtes (toile\, carton…). Pour la recette\, rien de plus simple: une large utilisation de l’eau\, un savant mélange de pigments\, une palette de couleurs\, des éléments féminins\, un choix de papier étonnant et des pinceaux de tous poils\, tout cela dans une ambiance décontractée! S’inspirer des prochains rendez-vous et s’essayer aux techniques d’impressions! \nDébutant.e.s ou confirmé.e.s se retrouvent ainsi dans une ambiance chaleureuse et amicale\, progressent de séance en séance. \nInscriptions obligatoires :mailto:fps.Charleroi@solidaris.be \nRemarque: cette activité se déroule un vendredi sur deux.
URL:https://www.soralia.be/accueil/event/atelier-aquarelle-et-techniques-mixtes/
LOCATION:Bâtiment Solidaris Marchienne-au-pont\, Route de beaumont 189\, Marchienne-au-pont\, 6030\, Belgique
CATEGORIES:Charleroi,Loisirs,Régional
ATTACH;FMTTYPE=image/png:https://www.soralia.be/wp-content/uploads/2017/01/calendrier-avril.png
END:VEVENT
BEGIN:VEVENT
DTSTART;TZID=Europe/Paris:20170421T183000
DTEND;TZID=Europe/Paris:20170421T213000
DTSTAMP:20260422T020903
CREATED:20170405T074841Z
LAST-MODIFIED:20170405T094927Z
UID:10003781-1492799400-1492810200@www.soralia.be
SUMMARY:Ciné-débat autour du film « Chez nous »
DESCRIPTION:Des associations de la région de La Louvière se sont réunies et vous proposent un ciné-débat autour du film « Chez nous » de Lucas Belvaux. Un débat suivra en présence de Pierre Verjans\, politologue à l’Université de Liège : réflexion et discussion autour de l’engagement politique du citoyen et des opérations « séduction » des partis politiques. \nSynopsis \nPauline\, infirmière à domicile\, entre Lens et Lille\, s’occupe seule de ses deux enfants et de son père ancien métallurgiste. Dévouée et généreuse\, tous ses patients l’aiment et comptent sur elle.  \n Profitant de sa popularité\, les dirigeants d’un parti extrémiste vont lui proposer d’être leur candidate aux prochaines municipales.  \n  \n  \n  \nRenseignements : 071/507 820 ou fps.cs@solidaris.be \n  \n 
URL:https://www.soralia.be/accueil/event/cine-debat-autour-du-film-chez-nous/
LOCATION:Cinéma Stuart\, rue Sylvain Guyaux 16\, La Louvière\, Hainaut\, 7100\, Belgique
CATEGORIES:Centre & Soignies,Droit & Citoyenneté,Général,Régional,Thèmes
ATTACH;FMTTYPE=image/png:https://www.soralia.be/wp-content/uploads/2017/01/calendrier-avril.png
ORGANIZER;CN="FPS Centre & Soignies":MAILTO:fps.cs@solidaris.be
END:VEVENT
BEGIN:VEVENT
DTSTART;TZID=Europe/Paris:20170423T083000
DTEND;TZID=Europe/Paris:20170423T150000
DTSTAMP:20260422T020903
CREATED:20170414T081640Z
LAST-MODIFIED:20170414T082955Z
UID:10003796-1492936200-1492959600@www.soralia.be
SUMMARY:Journée famille à Morlanwelz
DESCRIPTION:Plus belles nos vies ! \nLe Plan de Cohésion Sociale de Morlanwelz et ses partenaires vous proposent une journée pour toute la famille avec des idées concrètes pour se sentir mieux dans sa vie quotidienne. Soralia vous attendent dans leur espace parent-bébé zen (éveil sensoriel pour bébé en relation avec papa et/ou maman\, stand de smoothies verts autour duquel on vous propose un atelier d’échanges Parents futés\, ainsi qu’un atelier de fabrication d’un liniment naturel pour bébé). Le comité local FPS de Morlanwelz vous attend pour des dépistages santé. L’ASBL Latitude Jeunes sera présente et proposera aux plus jeunes du grimage durant toute la journée\, un atelier Kamishibaï  «Abracadabra\, goûte-moi ça !» pour les 3 à 10 ans et une animation «Au cœur de notre santé» pour les 11 à 16 ans. \nRenseignements : 071/507 820 ou fps.cs@solidaris.be \n 
URL:https://www.soralia.be/accueil/event/journee-famille-a-morlanwelz/
LOCATION:Ecole communale\, Place Roosevelt\, Morlanwelz\, 7140\, Belgique
CATEGORIES:Centre & Soignies,Familles,Régional,Thèmes
ATTACH;FMTTYPE=image/png:https://www.soralia.be/wp-content/uploads/2017/01/calendrier-avril.png
ORGANIZER;CN="FPS Centre & Soignies":MAILTO:fps.cs@solidaris.be
END:VEVENT
BEGIN:VEVENT
DTSTART;TZID=Europe/Paris:20170424T093000
DTEND;TZID=Europe/Paris:20170424T110000
DTSTAMP:20260422T020903
CREATED:20170414T082645Z
LAST-MODIFIED:20170414T083402Z
UID:10003797-1493026200-1493031600@www.soralia.be
SUMMARY:Rencontre des Mères'veilleuses
DESCRIPTION:Groupe de parole \nUn atelier de ressource et de bien-être pour futures et jeunes mamans pour : \n\nPartager son expérience\, ses ressentis\, déposer ses émotions liées à la grossesse et à l’éducation de votre jeune enfant.\nTrouver un lieu d’écoute\, d’accueil et d’échange bienveillant.\nAccroître sa confiance en ses possibilités.\nSortir de chez soi et prendre du bon temps avec son bébé et d’autres mamans ou futures mamans.\n\nProfiter de l’espace d’éveil sensoriel et psychomoteur avec son enfant pour un moment de bien-être. \nNous partirons des questionnements et des interrogations des participantes. à la demande de celles-ci\, des ateliers thématiques peuvent être organisés tels que le sommeil de l’enfant\, l’alimentation\, du temps pour soi\, les médicaments\, la construction du lien affectif\, la préparation de la fratrie à l’arrivée d’un bébé… \nNous commençons par un petit rituel « bébé zen »\, un éveil sensoriel et psychomoteur\, un moment de bien-être avec son enfant. Pendant que les bébés se reposent\, jouent ou mangent\, un espace d’échange et de parole entre les mamans et futures mamans sera proposé. Nous accueillons les bébés de 0 à 9 mois. \nProchaines dates : 19 mai et 23 juin \nIntervenantes : Amélie Meurens\, animatrice FPS et Marie-Christine Peeters\, infirmière sociale \nInscriptions : 071/507 820 ou fps.cs@solidaris.be \n  \n 
URL:https://www.soralia.be/accueil/event/rencontre-des-meresveilleuses/
LOCATION:Local du CPF de Soignies\, Rempart du Vieux Cimetière 15\, Soignies\, 7060\, Belgique
CATEGORIES:Centre & Soignies,Familles,Régional,Thèmes
ATTACH;FMTTYPE=image/png:https://www.soralia.be/wp-content/uploads/2017/01/calendrier-avril.png
ORGANIZER;CN="FPS Centre & Soignies":MAILTO:fps.cs@solidaris.be
END:VEVENT
BEGIN:VEVENT
DTSTART;TZID=Europe/Paris:20170424T150000
DTEND;TZID=Europe/Paris:20170424T170000
DTSTAMP:20260422T020903
CREATED:20170404T083105Z
LAST-MODIFIED:20170404T083105Z
UID:10003778-1493046000-1493053200@www.soralia.be
SUMMARY:Atelier d'écriture "Paroles de femmes"
DESCRIPTION:Un atelier d’écriture pour parler de soi\, de nous\, des autres… Être une femme\, une mère\, une travailleuse dans notre société… Quels vécus\, quelles expériences ? L’expérience vous tente ? Venez vous essayer à l’exercice un lundi par mois. \nLes prochaines dates fixées sont le 22 mai et le 12 juin. \n  \nIntervenante : Deborah Barbarossa\, animatrice FPS \nRenseignements et Inscriptions : 071/507.820 ou fps.cs@solidaris.be \n  \n 
URL:https://www.soralia.be/accueil/event/atelier-decriture-paroles-de-femmes/
LOCATION:Bibliothèque communale\, rue Saint-Paul 14\, Binche\, Belgique
CATEGORIES:Centre & Soignies,Droit & Citoyenneté,Régional,Thèmes
ATTACH;FMTTYPE=image/png:https://www.soralia.be/wp-content/uploads/2017/01/calendrier-avril.png
ORGANIZER;CN="FPS Centre & Soignies":MAILTO:fps.cs@solidaris.be
END:VEVENT
BEGIN:VEVENT
DTSTART;TZID=Europe/Paris:20170425T180000
DTEND;TZID=Europe/Paris:20170425T193000
DTSTAMP:20260422T020903
CREATED:20170220T150715Z
LAST-MODIFIED:20170327T085252Z
UID:10003763-1493143200-1493148600@www.soralia.be
SUMMARY:Atelier bien-être/dos
DESCRIPTION:Mieux connaître son dos pour mieux le soulager. Le mode de vie\, le manque de mouvement\, le stress\, etc. ont des effets sur notre colonne vertébrale. Pourtant\, les maux de dos ne sont pas inéluctables. Les muscles ne demandent qu’à fonctionner. Le tout est de le faire dans l’harmonie\, à votre rythme personnel\, sans rien forcer… \nLors de ces ateliers\, une kinésithérapeute vous donnent quelques clés pour : \n\nComprendre ce que nous faisons  » de travers  » avec notre dos\nApprendre à le connaître\nMieux le soulager\n\n(Re)trouvez plaisir et amplitude du mouvement et (ré)apprenez à bouger avec un maximum d’aisance. \nAtelier en 5 séances : prochains modules les mardis 2\, 9\, 16 et 23/05. \nPublic : Femmes et hommes à partir de 18 ans \nPrix :\n40 € (affiliées Solidaris en ordre de cotisations)\n46 € (non affiliées) \nInfos & réservation : 04/340 68 19 – associations.liege@solidaris.be
URL:https://www.soralia.be/accueil/event/atelier-bien-etredos/
LOCATION:Centre de planning familial\, rue des carmes 17\, Liège\, 4000\, Belgique
CATEGORIES:Général,Liège,Régional,Santé
ATTACH;FMTTYPE=image/png:https://www.soralia.be/wp-content/uploads/2017/01/calendrier-avril.png
ORGANIZER;CN="FPS Li%C3%A8ge":MAILTO:associations.liege@solidaris.be
END:VEVENT
BEGIN:VEVENT
DTSTART;TZID=Europe/Paris:20170426T190000
DTEND;TZID=Europe/Paris:20170426T210000
DTSTAMP:20260422T020903
CREATED:20170223T152142Z
LAST-MODIFIED:20170414T092716Z
UID:10003770-1493233200-1493240400@www.soralia.be
SUMMARY:Prendre sa santé en main
DESCRIPTION:La mutu ça sert à quoi ? Les soins de santé sont-ils accessibles à tous ? \nLe module « Prendre sa santé en main » s’organise autour de 3 grandes phases. Ce module informe et permet une réflexion critique sur l’accès aux soins de santé et permet à chaque participant d’être acteur de sa propre santé. \nProchains modules : \n\n10 mai  : La sécu c’est quoi ? D’où vient l’argent qui permet aux mutuelles de rembourser vos soins ?\n14 juin 2017 : La santé c’est quoi ?\n\nIntervenante : Leslie Lion\, animatrice\nRenseignements : 071/507 820 – fps.cs@solidaris.be
URL:https://www.soralia.be/accueil/event/prendre-sa-sante-en-main/
LOCATION:Maison du Peuple\, rue de la Station 33\, Haine-Saint-Pierre\, Belgique
CATEGORIES:Centre & Soignies,Général,Régional,Santé
ATTACH;FMTTYPE=image/png:https://www.soralia.be/wp-content/uploads/2017/01/calendrier-avril.png
ORGANIZER;CN="FPS Centre & Soignies":MAILTO:fps.cs@solidaris.be
END:VEVENT
BEGIN:VEVENT
DTSTART;TZID=Europe/Paris:20170426T193000
DTEND;TZID=Europe/Paris:20170426T220000
DTSTAMP:20260422T020903
CREATED:20170406T132550Z
LAST-MODIFIED:20170410T091601Z
UID:10003786-1493235000-1493244000@www.soralia.be
SUMMARY:Conférence - Mesures d’austérité et conséquences dans les soins de santé
DESCRIPTION:Conférence-débat : « Mesures d’austérité du gouvernement fédéral : Quelles conséquences concrètes dans le domaine des soins de santé ? »\nPrésentation\nRemboursement de plusieurs médicaments diminué\, plafond du maximum à facturer indexé\, honoraires des médecins pas intégralement indexés conduisant à des consignes de « déconventionnement »\, subventions aux maisons médicales gelées\,etc. La liste des mesures d’économie touchant les soins de santé est très longue et s’élève à plusieurs milliards d’euros. Alors que 14 % des Belges reportent déjà des soins médicaux pour des raisons financières\, nous avons invité une série d’acteurs de terrain afin de faire le point sur les conséquences de ces mesures d’austérité. \nOrateurs\n\nJean-Pascal Labille (Secrétaire Général des Mutualités Socialistes – Solidaris)\nJean Hermesse (Secrétaire Général des Mutualités Chrétiennes)\nChristine Mahy (Secrétaire Générale du Réseau Wallon de Lutte contre la Pauvreté)\nPierre Drielsma (médecin généraliste à Seraing\, Fédération des Maisons Médicales)\nUn/e représentant/e du Cabinet de la Ministre Maggie De Block (sous réserve)Animation dessinée par Harald Franssen\n\nModalités\nDate : Le 26 avril à 19h30\nLieu : Cité Miroir – Salon des Lumières\nPrix libre \nUne initiative de la plateforme Liège Contre l’Austérité (http://liege-contre-austerite.be/) avec le soutien de: A Contre Courant\, ATTAC Liège\, CEPAG\, CNE\, CSC L-H-W\, Fédération liégeoise du PC\, Form’action André Renard\, FGTB L-H-W\, FPS – Réseau Solidaris\, Médecine pour le Peuple\,\nMOC L-H-W. \n 
URL:https://www.soralia.be/accueil/event/mesures-dausterite-consequences-dans-les-soins-de-sante/
LOCATION:La Cité Miroir\, Place Xavier-Neujean 22\, Liège\, Liège\, 4000 \, Belgique
CATEGORIES:Général,Liège,Régional,Santé,Thèmes
ATTACH;FMTTYPE=image/png:https://www.soralia.be/wp-content/uploads/2017/01/calendrier-avril.png
ORGANIZER;CN="FPS Li%C3%A8ge":MAILTO:associations.liege@solidaris.be
END:VEVENT
BEGIN:VEVENT
DTSTART;TZID=Europe/Paris:20170427T083000
DTEND;TZID=Europe/Paris:20170427T160000
DTSTAMP:20260422T020903
CREATED:20170406T130703Z
LAST-MODIFIED:20170410T134856Z
UID:10003783-1493281800-1493308800@www.soralia.be
SUMMARY:Lutte contre la traite et l'exploitation sexuelle des êtres humains
DESCRIPTION:Quel programme d’action dans une société de changement ? La loi permet-elle de lutter efficacement contre le proxénétisme ? Journée d’étude organisée par le Conseil des femmes francophones de Belgique\, Le Monde selon les femmes et Soralia de Liège. \nGratuit\nInfos et réservations : fpsinscriptions.liege@solidaris.be (avant le 20 avril) \nObjectifs\n\nMieux informer\, discerner les freins de l’application de l’article 380.\nIndentifier des pistes de mise en oeuvre nécessaires pour améliorer l’application.\nRechercher comment améliorer les services.\n\nProgramme de la journée d’étude\n8h30 Accueil \n9h00 Introduction\nMot de bienvenue de la Ministre de l’Enseignement de promotion sociale\, de la Jeunesse\, des Droits des femmes et de l’Egalité des chance Isabelle Simonis et présentation succinte l’enquête exploratoire sur la prostitution en Fédération Wallonie Bruxelles\nIntroduction de la journée : Pascale Maquestiau\, chargée de mission\, Le Monde selon les femmes ASBL \n9h30 à 10h45 Premier pannel : aspects juridiques\nModération : Yves Brulard\, DBB avocats à Bruxelles\, Paris et Mons\, enseignant Cefiad (UCL) \n1. Regard Actualisé d’un pénaliste sur la prostitution et les différentes formes de proxénétisme : Adrien Masset\, professeur spécialiste en droit pénal\, ULG – Belgique \n2. L’engagement de la justice : l’expérience française : Yves Charpenel\,magistrat\, premier avocat à la Cour de Cassation – France \n3. L’expérience allemande et les psychotraumatismes dans le travail judiciaire : Ingeborg Kraus\, Dr psychotraumatologue\, membre fondatrice de Trauma-andprostitution.eu – Allemagne \n10h45 à 11 h00 Questions réponses \n11h15 à 12h15 Deuxième pannel : aspects économiques\nModération : Fanette Duschene\, juriste\, Service Droit des étrangers\, FGTB Liège \n1. Où va l’argent du proxénétisme : Claude Moniquet\, chercheur\, European strategic intelligence and security center ESIC – Belgique \n2. Estimation du coût économique et social de la prostitution : les chiffres de France : Grégoire Théry\, directeur exécutif de Cap International et administrateur\, Mouvement du Nid – France \n3. La réalité économique de la prostitution en Belgique : Pierrette Pape\, présidente\, Isala – Bruxelles – Belgique \n12h15 à 12 h30 Questions réponses \n12h30 à 14h00 Lunch \n14h00 à 15h30 Troisième pannel : La traite et l’exploitation sexuelle aujourd’hui en Belgique\nModération : Marie Klinkenberg\, membre de la Commission consultative Femmes et Ville de Liège\, formatrice\, Retravailler \n1. Le rôle du parquet et la lutte contre la traite : Audrey Seminara\, 1er substitut au Parquet du procureur du Roi de Namur\, magistrate de référence en matière de traite des êtres humains – Belgique \n2. Témoignage des services de communaux concernant la problématique de la prostitution (sous réserve) – Belgique \n3. L’expérience sociale dans l’hébergement pour les personnes étrangères confrontées au phénomène de la traite des êtres humains : Christian Meulders\, directeur Surya – Liège – Belgique \n4. Témoignage de la réinsertion\, récits apportés par Aurore Van Opstal\, journaliste et chercheuse – Belgique \n5. Le travail en réseau pour agir : l’expérience du Procès Carlton à Lille : Bernard Lemettre\, Mouvement du Nid Lille – France \n15h30 à 15h45 Questions réponses \n15h45 à 16h00 Conclusions : Dominique Dauby\, secrétaire générale des FPS
URL:https://www.soralia.be/accueil/event/lutte-contre-la-traite-et-lexploitation-sexuelle-des-etres-humains/
LOCATION:La Cité Miroir\, Place Xavier-Neujean 22\, Liège\, Liège\, 4000 \, Belgique
CATEGORIES:Général,Liège,Régional,Sexualité,Thèmes
ATTACH;FMTTYPE=image/png:https://www.soralia.be/wp-content/uploads/2017/01/calendrier-avril.png
ORGANIZER;CN="FPS Li%C3%A8ge":MAILTO:associations.liege@solidaris.be
END:VEVENT
BEGIN:VEVENT
DTSTART;TZID=Europe/Paris:20170428T133000
DTEND;TZID=Europe/Paris:20170428T163000
DTSTAMP:20260422T020903
CREATED:20170404T095339Z
LAST-MODIFIED:20170406T133356Z
UID:10003780-1493386200-1493397000@www.soralia.be
SUMMARY:Atelier aquarelle et techniques mixtes
DESCRIPTION:Laissez vous tenter par l’aventure et plongez vos pinceaux dans l’univers de l’eau\, de l’aquarelle\, des techniques et des supports mixtes (toile\, carton…). Pour la recette\, rien de plus simple: une large utilisation de l’eau\, un savant mélange de pigments\, une palette de couleurs\, des éléments féminins\, un choix de papier étonnant et des pinceaux de tous poils\, tout cela dans une ambiance décontractée! S’inspirer des prochains rendez-vous et s’essayer aux techniques d’impressions! \nDébutant.e.s ou confirmé.e.s se retrouvent ainsi dans une ambiance chaleureuse et amicale\, progressent de séance en séance.\nInscriptions obligatoires :mailto:fps.Charleroi@solidaris.be \nRemarque: cette activité se déroule un vendredi sur deux.
URL:https://www.soralia.be/accueil/event/atelier-aquarelle-et-techniques-mixtes-2/
LOCATION:Bâtiment Solidaris Marchienne-au-pont\, Route de beaumont 189\, Marchienne-au-pont\, 6030\, Belgique
CATEGORIES:Charleroi,Loisirs,Régional
ATTACH;FMTTYPE=image/png:https://www.soralia.be/wp-content/uploads/2017/01/calendrier-avril.png
END:VEVENT
BEGIN:VEVENT
DTSTART;TZID=Europe/Paris:20170430T090000
DTEND;TZID=Europe/Paris:20170430T123000
DTSTAMP:20260422T020903
CREATED:20170404T071622Z
LAST-MODIFIED:20170420T142724Z
UID:10003777-1493542800-1493555400@www.soralia.be
SUMMARY:Troc Plantes aux Jardins Solidaires
DESCRIPTION:Le groupe des Jardins Solidaires de Douvrain vous invite à un moment de solidarité et de convivialité. \nVenez échanger vos semences\, plants à repiquer\, boutures ou même livres\, revues et conseils sur le jardinage et sur une alimentation saine pour la santé. \nInfos et réservation auprès de Beelaert Sandy au 068 84 82 51 ou par e-mail : fps.315@solidaris.be \n 
URL:https://www.soralia.be/accueil/event/troc-plantes-aux-jardins-solidaires/
LOCATION:Jardins Solidaires de Douvrain\, Rue du Chêne Hayette\, 33\, Baudour\, 7331\, Belgique
CATEGORIES:Droit & Citoyenneté,Général,Mons-Borinage,Régional,Santé,Thèmes
ATTACH;FMTTYPE=image/png:https://www.soralia.be/wp-content/uploads/2017/01/calendrier-avril.png
ORGANIZER;CN="FPS Mons Borinage":MAILTO:fps.315@solidaris.be
END:VEVENT
BEGIN:VEVENT
DTSTART;TZID=Europe/Paris:20170430T100000
DTEND;TZID=Europe/Paris:20170430T130000
DTSTAMP:20260422T020903
CREATED:20170217T105824Z
LAST-MODIFIED:20170329T133231Z
UID:10003759-1493546400-1493557200@www.soralia.be
SUMMARY:Initiatives citoyennes - Education
DESCRIPTION:Et qu’en est-il près de chez nous ? Les Femmes Prévoyantes Socialistes\, partenaires du Centre Culturel de Perwez Le Foyer\, vous invitent à faire le point sur la question à travers son cycle de rencontres « Ici et maintenant- Focus sur les initiatives citoyennes ». \nAu travers de quatre matinées d’échanges\, l’occasion vous sera donnée d’aborder des thèmes qui vous touchent de près et surtout de rencontrer des citoyens\, des voisins qui sont passés à l’action et ont décidé de changer le monde à leur façon. \nNos prochains rendez-vous : \nDimanche 28 mai – Mobilité\nDimanche 25 juin – Logement \nInfos et réservations : 067/89.55.90 – angelique.marcq@solidaris.be\n081 23 45 55 – info@foyerperwez.be\nwww.foyerperwez.be
URL:https://www.soralia.be/accueil/event/initiatives-citoyennes-education/
LOCATION:Le Foyer – Centre culturel\, Grand-Place\, 32\, Perwez\, 1360\, Belgique
CATEGORIES:Brabant wallon,Droit & Citoyenneté,Général,Régional
ATTACH;FMTTYPE=image/png:https://www.soralia.be/wp-content/uploads/2017/01/calendrier-avril.png
ORGANIZER;CN="FPS Brabant wallon":MAILTO:fpsbw@solidaris.be
END:VEVENT
END:VCALENDAR