BEGIN:VCALENDAR
VERSION:2.0
PRODID:-//Soralia - ECPv6.15.17.1//NONSGML v1.0//EN
CALSCALE:GREGORIAN
METHOD:PUBLISH
X-ORIGINAL-URL:https://www.soralia.be/accueil
X-WR-CALDESC:Évènements pour Soralia
REFRESH-INTERVAL;VALUE=DURATION:PT1H
X-Robots-Tag:noindex
X-PUBLISHED-TTL:PT1H
BEGIN:VTIMEZONE
TZID:Europe/Paris
BEGIN:DAYLIGHT
TZOFFSETFROM:+0100
TZOFFSETTO:+0200
TZNAME:CEST
DTSTART:20200329T010000
END:DAYLIGHT
BEGIN:STANDARD
TZOFFSETFROM:+0200
TZOFFSETTO:+0100
TZNAME:CET
DTSTART:20201025T010000
END:STANDARD
BEGIN:DAYLIGHT
TZOFFSETFROM:+0100
TZOFFSETTO:+0200
TZNAME:CEST
DTSTART:20210328T010000
END:DAYLIGHT
BEGIN:STANDARD
TZOFFSETFROM:+0200
TZOFFSETTO:+0100
TZNAME:CET
DTSTART:20211031T010000
END:STANDARD
BEGIN:DAYLIGHT
TZOFFSETFROM:+0100
TZOFFSETTO:+0200
TZNAME:CEST
DTSTART:20220327T010000
END:DAYLIGHT
BEGIN:STANDARD
TZOFFSETFROM:+0200
TZOFFSETTO:+0100
TZNAME:CET
DTSTART:20221030T010000
END:STANDARD
END:VTIMEZONE
BEGIN:VEVENT
DTSTART;TZID=Europe/Paris:20210701T090000
DTEND;TZID=Europe/Paris:20210701T163000
DTSTAMP:20260421T212046
CREATED:20210607T085941Z
LAST-MODIFIED:20210607T142252Z
UID:10005178-1625130000-1625157000@www.soralia.be
SUMMARY:Journée récréative et sportive pour les familles
DESCRIPTION:Pour le premier jour des vacances\, nous proposons aux familles de partager une journée récréative et sportive au sein du Parc d’Amée. \nAu programme : le matin marche ou jogging au choix\, jeux en bois – barbecue – après-midi : panel d’activités telles que pétanque\, tennis\, foot\, basket\, disc-golf et mölkky\,  … \nInscription obligatoire : 0471/119 622 (FPS Amandine) \nOu asbl Jambes Social et Culturel : 081/31 27 15 ou info@jasc.be \n 
URL:https://www.soralia.be/accueil/event/journee-familles/
LOCATION:Maison de Quartier d’Amée\, avenue de la Plage d'Amée 3\, Jambes\, 5100
CATEGORIES:Familles,Général,Namur,Régional,Thèmes
ATTACH;FMTTYPE=image/png:https://www.soralia.be/wp-content/uploads/2017/01/calendrier-juillet.png
ORGANIZER;CN="FPS Namur":MAILTO:fps.provincenamur@solidaris.be
END:VEVENT
BEGIN:VEVENT
DTSTART;TZID=Europe/Paris:20210701T170000
DTEND;TZID=Europe/Paris:20210701T190000
DTSTAMP:20260421T212046
CREATED:20210602T091205Z
LAST-MODIFIED:20210602T093453Z
UID:10005174-1625158800-1625166000@www.soralia.be
SUMMARY:Lecture collective et engagée: animations arpentage de "Balance ta grenade" de Safia Kessas
DESCRIPTION:A la recherche d’une activité de plein air dans un cadre verdoyant autour d’une …grenadine ? \nLes équipes du PAC Dinant-Philippeville et FPS Namur vous invitent à vous déconfiner au Parc de Viroinval le temps d’une pause autour d’une lecture collective dans une ambiance conviviale et solidaire. \nEnsemble nous parcourrons le recueil des chroniques de Safia Kessas\, journaliste et initiatrice des « Grenades »\, le média 100% féministe de la RTBF. \nTrois dates\, trois thématiques\, une lunette : celle du féminisme\, pour réfléchir ensemble sur l’impact du Covid dans nos quotidiens\, la lutte contre toutes les formes de violences et la place de la femme dans la société. \nDans la foulée\, une quatrième date avec la rencontre de l’auteure et échanges est prévue le 7 juillet (à confirmer)\, l’occasion de proposer vos réflexions pour un changement de paradigme politique en vue d’une meilleure justice sociale et d’une plus grande égalité. \nDates : \nle 16 juin de 17h à 19h : Genre et COVID \nle 23 juin de 17h à 19h : Genre et violences \nle 1er juillet de 17h à 19h : Genre et stéréotypes \nLieu : Parc communal de Viroinval            Gratuit mais inscription obligatoire. \nInscriptions et renseignements : \nfps.provincenamur@solidaris.be ou au 0479/86.80.40 \n 
URL:https://www.soralia.be/accueil/event/12112/
LOCATION:Parc communal de Viroinval\, Parc communal 1\, 5670 Viroinval\, 5670
CATEGORIES:Egalité femme-homme,Namur,Régional,Thèmes
ATTACH;FMTTYPE=image/png:https://www.soralia.be/wp-content/uploads/2017/01/calendrier-juillet.png
ORGANIZER;CN="FPS Namur":MAILTO:fps.provincenamur@solidaris.be
END:VEVENT
BEGIN:VEVENT
DTSTART;TZID=Europe/Paris:20210704T100000
DTEND;TZID=Europe/Paris:20210704T120000
DTSTAMP:20260421T212046
CREATED:20210511T094047Z
LAST-MODIFIED:20210520T091835Z
UID:10005085-1625392800-1625400000@www.soralia.be
SUMMARY:Balade sonore "Menstru'elles"
DESCRIPTION:Vous aimez marcher\, prendre l’air\, discuter en toute convivialité ? \nRejoignez-nous lors d’une balade sonore\, d’une durée de deux heures\, au rythme de podcast « La Menstruelle » (enregistrement audio). \nC’est l’occasion de découvrir le paysage et de prendre part à une expérience qui vous ouvrira les oreilles … et l’esprit \nLa thématique … Les règles ! Sujet encore trop invisibilisé\, nous lèverons le voile sur les « tabous ». \n« Avoir ses Ragnagnas »\, « l’armée rouge a débarqué »\, « avoir ses ours »\,…  autant de noms et d’expressions qui entretiennent le tabou des menstruations ! Trop souvent « dissimulées »\, « mystérieuses »\, provoquant gêne et honte voire dégoût\, ce phénomène pourtant naturel  ne devrait avoir rien à cacher. Délions les langues\, osons parler « règles » tout en profitant d’une bouffée d’air frais ! \nRendez-vous place du Chatillon à Nismes \nGratuit \nInscription obligatoire : fps.provincenamur@solidaris.be ou 0497/97 85 53
URL:https://www.soralia.be/accueil/event/balade-sonore-menstruelles/
LOCATION:place de Chatillon Nismes\, place de Chatillon\, 5670 Nismes\, 5670\, Belgique
CATEGORIES:Egalité femme-homme,Général,Namur,Régional,Santé,Thèmes
ATTACH;FMTTYPE=image/png:https://www.soralia.be/wp-content/uploads/2017/01/calendrier-juin.png
ORGANIZER;CN="FPS Namur":MAILTO:fps.provincenamur@solidaris.be
END:VEVENT
BEGIN:VEVENT
DTSTART;TZID=Europe/Paris:20210705T100000
DTEND;TZID=Europe/Paris:20210705T130000
DTSTAMP:20260421T212046
CREATED:20210517T093213Z
LAST-MODIFIED:20210517T155320Z
UID:10005099-1625479200-1625490000@www.soralia.be
SUMMARY:Balade -Bains de Forêt
DESCRIPTION:Découvrez les bienfaits des « Bains de Forêt »\nOffrez-vous\, en compagnie de notre thérapeute\, 3 heures de déconnexion totale en forêt pour ressentir un bien-être tant physique que mental ! \nQuand ?\nSoit le samedi 22 mai de 10h 13h\, \nSoit le samedi 29 mai de 10h 13h\, \nSoit le samedi 12 juin de 10h 13h \nOù ?\nEn Forêt de Soignes (départ d’Auderghem) \nCombien ?\n20 euros \nRenseignements :\n02/546 14 07 \nfps-ateliersante@fmsdb.be \n 
URL:https://www.soralia.be/accueil/event/bains-de-foret/2021-07-05/
LOCATION:Forêt de Soignes\, Auderghem\, Belgique
CATEGORIES:Bruxelles,Familles,Général,Loisirs,Régional,Santé,Thèmes
ATTACH;FMTTYPE=image/png:https://www.soralia.be/wp-content/uploads/2017/01/calendrier-mai.png
END:VEVENT
BEGIN:VEVENT
DTSTART;TZID=Europe/Paris:20210710T093000
DTEND;TZID=Europe/Paris:20210710T120000
DTSTAMP:20260421T212046
CREATED:20210602T093340Z
LAST-MODIFIED:20210602T093340Z
UID:10005175-1625909400-1625918400@www.soralia.be
SUMMARY:Balades nature créatives "Croqu’note"
DESCRIPTION:Cet été\, nous proposons des balades créatives. \nNous prendrons le temps d’observer\, de découvrir les secrets de la nature et d’éveiller nos sens. \nA la fin des balades\, nous prendrons un moment de pause pour écrire quelques mots\, croquer ce que nous voyons dans un petit carnet personnalisé. \nMoment convivial de partage et d’échange. \nNous vous donnons rendez-vous à 9h30 : \nLe samedi 10 juillet à Thy-le-Château\, 33 rue de l’Institut Louis-Marie \nLe samedi 24 juillet à Olloy-sur-Viroin devant l’église \nLe samedi 7 août à Fraire\, rue de la Bergerie \nLe samedi 21 août à Mariembourg\, chaussée de Givet (Ravel) \nBalade de 5km guidée par Françoise Ramaut responsable de la Noctule des Cercles Naturaliste de Belgique \nInscription obligatoire au 0472/516.427 \nRespect des consignes sanitaires \n  \n 
URL:https://www.soralia.be/accueil/event/balades-nature-creatives-croqunote/
LOCATION:Thy-le-Chateau\, rue de l'Institut Louis Marie 33\, 5651 Thy-le-Chateau
CATEGORIES:Namur,Régional,Santé,Thèmes
ATTACH;FMTTYPE=image/png:https://www.soralia.be/wp-content/uploads/2017/01/calendrier-juillet.png
ORGANIZER;CN="FPS Namur":MAILTO:fps.provincenamur@solidaris.be
END:VEVENT
BEGIN:VEVENT
DTSTART;TZID=Europe/Paris:20210712T080000
DTEND;TZID=Europe/Paris:20210826T170000
DTSTAMP:20260421T212046
CREATED:20210519T141310Z
LAST-MODIFIED:20210520T080732Z
UID:10005167-1626076800-1629997200@www.soralia.be
SUMMARY:Activités - Un été pas comme les autres 2021
DESCRIPTION:Cet été\, le réseau associatif de Solidaris vous a concocté « Un été pas comme les autres » avec une programmation d’enfer !\nLa formule au grand air a rencontré un grand enthousiasme en 2020\, c’est pourquoi nous réitérons l’expérience. Ce sera en grande partie au Centre de délassement de Marcinelle que nous vous accueillerons entre le 12 juillet et le 5 août 2021\, mais aussi sur l’ensemble de notre régionale durant les mois de juillet et août. \nAu programme de cet été : remise en forme\, créativité\, bien-être\, contacts avec la nature\, divertissements\, et bien d’autres choses encore vous seront proposées. \nSi vous souhaitez recevoir le folder de notre « été pas comme les autres » ? Contactez-nous au 071/507.812-814-819-821 du lundi au vendredi de 9h à 12h. \nPour visualiser tout le programme c’est ici : Charleroi-Programme-ete-2021 \nA noter que le début des inscriptions se fera à partir du lundi 31 mai. Aucune inscriptions ne sera prise en compte avant cette date.
URL:https://www.soralia.be/accueil/event/activites-un-ete-pas-comme-les-autres-2021/
LOCATION:centre de délassement à Marcinelle\, Avenue des Muguets 16\, Marcinelle\, Hainaut\, 6001\, Belgique
CATEGORIES:Charleroi,Général,Loisirs,Régional,Santé,Thèmes
ATTACH;FMTTYPE=image/png:https://www.soralia.be/wp-content/uploads/2017/01/calendrier-juillet.png
END:VEVENT
BEGIN:VEVENT
DTSTART;TZID=Europe/Paris:20210712T100000
DTEND;TZID=Europe/Paris:20210712T130000
DTSTAMP:20260421T212046
CREATED:20210517T093213Z
LAST-MODIFIED:20210517T155320Z
UID:10005100-1626084000-1626094800@www.soralia.be
SUMMARY:Balade -Bains de Forêt
DESCRIPTION:Découvrez les bienfaits des « Bains de Forêt »\nOffrez-vous\, en compagnie de notre thérapeute\, 3 heures de déconnexion totale en forêt pour ressentir un bien-être tant physique que mental ! \nQuand ?\nSoit le samedi 22 mai de 10h 13h\, \nSoit le samedi 29 mai de 10h 13h\, \nSoit le samedi 12 juin de 10h 13h \nOù ?\nEn Forêt de Soignes (départ d’Auderghem) \nCombien ?\n20 euros \nRenseignements :\n02/546 14 07 \nfps-ateliersante@fmsdb.be \n 
URL:https://www.soralia.be/accueil/event/bains-de-foret/2021-07-12/
LOCATION:Forêt de Soignes\, Auderghem\, Belgique
CATEGORIES:Bruxelles,Familles,Général,Loisirs,Régional,Santé,Thèmes
ATTACH;FMTTYPE=image/png:https://www.soralia.be/wp-content/uploads/2017/01/calendrier-mai.png
END:VEVENT
BEGIN:VEVENT
DTSTART;TZID=Europe/Paris:20210715T090000
DTEND;TZID=Europe/Paris:20210715T113000
DTSTAMP:20260421T212046
CREATED:20210608T114908Z
LAST-MODIFIED:20210608T115640Z
UID:10005182-1626339600-1626348600@www.soralia.be
SUMMARY:Rencontres - Femmes du "futur pluriel"
DESCRIPTION:Rencontres collectives\nTemps de parole et d’expression sur des sujets variés sur la quotidien des femmes.\nUn moment de convivialité\, où le rire est au rendez-vous. \nOuvert aux femmes à partir de 18 ans.\nMaximum 10 personnes \nLieu : locaux Solidaris à Frameries\nLes dates : les 15 juillet\, 5 août et 19 août de 9h30 à 11h30 \nInformation- Inscription : Service animation des FPS – 068/84 82 51 – Fps.315@solidaris.be
URL:https://www.soralia.be/accueil/event/rencontres-femmes-du-futur-pluriel/2021-07-15/
LOCATION:Solidaris Frameries\, Avenue des Nouvelles Technologies\, 24\, Frameries\, Hainaut\, 7080\, Belgique
CATEGORIES:Egalité femme-homme,Général,Mons-Borinage,Régional,Thèmes
ATTACH;FMTTYPE=image/png:https://www.soralia.be/wp-content/uploads/2017/01/calendrier-juillet.png
ORGANIZER;CN="FPS Mons Borinage":MAILTO:fps.315@solidaris.be
END:VEVENT
BEGIN:VEVENT
DTSTART;TZID=Europe/Paris:20210719T100000
DTEND;TZID=Europe/Paris:20210719T130000
DTSTAMP:20260421T212046
CREATED:20210517T093213Z
LAST-MODIFIED:20210517T155320Z
UID:10005101-1626688800-1626699600@www.soralia.be
SUMMARY:Balade -Bains de Forêt
DESCRIPTION:Découvrez les bienfaits des « Bains de Forêt »\nOffrez-vous\, en compagnie de notre thérapeute\, 3 heures de déconnexion totale en forêt pour ressentir un bien-être tant physique que mental ! \nQuand ?\nSoit le samedi 22 mai de 10h 13h\, \nSoit le samedi 29 mai de 10h 13h\, \nSoit le samedi 12 juin de 10h 13h \nOù ?\nEn Forêt de Soignes (départ d’Auderghem) \nCombien ?\n20 euros \nRenseignements :\n02/546 14 07 \nfps-ateliersante@fmsdb.be \n 
URL:https://www.soralia.be/accueil/event/bains-de-foret/2021-07-19/
LOCATION:Forêt de Soignes\, Auderghem\, Belgique
CATEGORIES:Bruxelles,Familles,Général,Loisirs,Régional,Santé,Thèmes
ATTACH;FMTTYPE=image/png:https://www.soralia.be/wp-content/uploads/2017/01/calendrier-mai.png
END:VEVENT
BEGIN:VEVENT
DTSTART;TZID=Europe/Paris:20210726T100000
DTEND;TZID=Europe/Paris:20210726T130000
DTSTAMP:20260421T212046
CREATED:20210517T093213Z
LAST-MODIFIED:20210517T155320Z
UID:10005102-1627293600-1627304400@www.soralia.be
SUMMARY:Balade -Bains de Forêt
DESCRIPTION:Découvrez les bienfaits des « Bains de Forêt »\nOffrez-vous\, en compagnie de notre thérapeute\, 3 heures de déconnexion totale en forêt pour ressentir un bien-être tant physique que mental ! \nQuand ?\nSoit le samedi 22 mai de 10h 13h\, \nSoit le samedi 29 mai de 10h 13h\, \nSoit le samedi 12 juin de 10h 13h \nOù ?\nEn Forêt de Soignes (départ d’Auderghem) \nCombien ?\n20 euros \nRenseignements :\n02/546 14 07 \nfps-ateliersante@fmsdb.be \n 
URL:https://www.soralia.be/accueil/event/bains-de-foret/2021-07-26/
LOCATION:Forêt de Soignes\, Auderghem\, Belgique
CATEGORIES:Bruxelles,Familles,Général,Loisirs,Régional,Santé,Thèmes
ATTACH;FMTTYPE=image/png:https://www.soralia.be/wp-content/uploads/2017/01/calendrier-mai.png
END:VEVENT
END:VCALENDAR