BEGIN:VCALENDAR
VERSION:2.0
PRODID:-//Soralia - ECPv6.15.17.1//NONSGML v1.0//EN
CALSCALE:GREGORIAN
METHOD:PUBLISH
X-ORIGINAL-URL:https://www.soralia.be/accueil
X-WR-CALDESC:Évènements pour Soralia
REFRESH-INTERVAL;VALUE=DURATION:PT1H
X-Robots-Tag:noindex
X-PUBLISHED-TTL:PT1H
BEGIN:VTIMEZONE
TZID:Europe/Paris
BEGIN:DAYLIGHT
TZOFFSETFROM:+0100
TZOFFSETTO:+0200
TZNAME:CEST
DTSTART:20210328T010000
END:DAYLIGHT
BEGIN:STANDARD
TZOFFSETFROM:+0200
TZOFFSETTO:+0100
TZNAME:CET
DTSTART:20211031T010000
END:STANDARD
BEGIN:DAYLIGHT
TZOFFSETFROM:+0100
TZOFFSETTO:+0200
TZNAME:CEST
DTSTART:20220327T010000
END:DAYLIGHT
BEGIN:STANDARD
TZOFFSETFROM:+0200
TZOFFSETTO:+0100
TZNAME:CET
DTSTART:20221030T010000
END:STANDARD
BEGIN:DAYLIGHT
TZOFFSETFROM:+0100
TZOFFSETTO:+0200
TZNAME:CEST
DTSTART:20230326T010000
END:DAYLIGHT
BEGIN:STANDARD
TZOFFSETFROM:+0200
TZOFFSETTO:+0100
TZNAME:CET
DTSTART:20231029T010000
END:STANDARD
END:VTIMEZONE
BEGIN:VEVENT
DTSTART;TZID=Europe/Paris:20220201T130000
DTEND;TZID=Europe/Paris:20220201T160000
DTSTAMP:20260425T050451
CREATED:20211209T142914Z
LAST-MODIFIED:20220401T080357Z
UID:10005388-1643720400-1643731200@www.soralia.be
SUMMARY:Atelier de théâtre-action
DESCRIPTION:Libérer la parole de chaque participant.e en vue d’initier un espace d’expression conscient. Et ce\, par le biais de jeux\, de la découverte d’expressions verbales et non verbales\, d’écriture de petites histoires spontanées et de mise en débat. Le thème se profilera au fil des rencontres en lien avec le féminisme. L’objectif est la création du spectacle pour début mars 2023. \nSéances chaque mardi après-midi\, à partir du 1er février. Gratuit. \nInfos et inscriptions : Françoise Dupont 0497/97 85 50 ou francoise.dupont@solidaris.be
URL:https://www.soralia.be/accueil/event/atelier-de-theatre-action/2022-02-01/
LOCATION:Centre culturel de Philippeville\, rue de France 1A\, Philippeville\, Namur\, 5600
CATEGORIES:Egalité femme-homme,Namur,Régional,Thèmes
ATTACH;FMTTYPE=image/png:https://www.soralia.be/wp-content/uploads/2017/01/calendrier-avril.png
ORGANIZER;CN="FPS Namur":MAILTO:fps.provincenamur@solidaris.be
END:VEVENT
BEGIN:VEVENT
DTSTART;TZID=Europe/Paris:20220204T130000
DTEND;TZID=Europe/Paris:20220204T160000
DTSTAMP:20260425T050451
CREATED:20211209T141236Z
LAST-MODIFIED:20220426T075058Z
UID:10005379-1643979600-1643990400@www.soralia.be
SUMMARY:Atelier d'écriture créative
DESCRIPTION:Parcours de femmes \nNous agiterons nos neurones et nos doigts avec de la couleur\, de l’encre\, des mots\, des paroles. \nChacune vient avec son bagage\, pour écrire le passé\, le présent\, le futur\, pour se dire\, pour le plaisir de partager un moment. \nIl y aura des moments d’écriture sur base de consignes pour faire émerger la créativité des mots\, des moments de partage avec le groupe et aussi quelques fous rire et idées farfelues. \nAtelier gratuit un vendredi par mois\, de 13h à 16h\, à partir du 4 février 2022 \nInfos et inscriptions : Françoise Dupont 0497/97 85 50 ou francoise.dupont@solidaris.be
URL:https://www.soralia.be/accueil/event/atelier-decriture-creative/2022-02-04/
LOCATION:Solidaris Saint-Servais\, chaussée de Waterloo 182\, 5002 Saint-Servais\, Namur\, 5002\, Belgique
CATEGORIES:Egalité femme-homme,Namur,Régional,Thèmes
ATTACH;FMTTYPE=image/png:https://www.soralia.be/wp-content/uploads/2017/01/calendrier-fevrier.png
ORGANIZER;CN="FPS Namur":MAILTO:fps.provincenamur@solidaris.be
END:VEVENT
BEGIN:VEVENT
DTSTART;TZID=Europe/Paris:20220206T140000
DTEND;TZID=Europe/Paris:20220206T170000
DTSTAMP:20260425T050451
CREATED:20220121T134930Z
LAST-MODIFIED:20220201T125121Z
UID:10005433-1644156000-1644166800@www.soralia.be
SUMMARY:Fête des Enfants
DESCRIPTION:𝗙𝗘̂𝗧𝗘 𝗗𝗘𝗦 𝗘𝗡𝗙𝗔𝗡𝗧𝗦\n\n\norganisée par le comité FPS de Molenbeek\n\n\n\n𝘘𝘶𝘢𝘯𝘥?\nLe 𝗱𝗶𝗺𝗮𝗻𝗰𝗵𝗲 𝟲 𝗳𝗲́𝘃𝗿𝗶𝗲𝗿 𝟮𝟬𝟮𝟮 𝗱𝗲 𝟭𝟰𝗵 𝗮̀ 𝟭𝟳𝗵\n\n\n\n𝘖𝘶̀?\nMaison de l’Egalité\n10 rue des Quatre-Vents\n1080 Molenbeek\n\n\nInfos au 0491 06 56 94 ou par email à fps_1080@yahoo.com
URL:https://www.soralia.be/accueil/event/13419/
LOCATION:Maison de l’Egalité\, 10 rue des Quatre-Vents\, Molenbeek\, Bruxelles\, 1080\, Belgique
CATEGORIES:Bruxelles,Familles,Loisirs,parentalité,Régional,Thèmes
ATTACH;FMTTYPE=image/png:https://www.soralia.be/wp-content/uploads/2017/01/calendrier-fevrier.png
END:VEVENT
BEGIN:VEVENT
DTSTART;TZID=Europe/Paris:20220207T100000
DTEND;TZID=Europe/Paris:20220207T130000
DTSTAMP:20260425T050451
CREATED:20210517T093213Z
LAST-MODIFIED:20210517T155320Z
UID:10005130-1644228000-1644238800@www.soralia.be
SUMMARY:Balade -Bains de Forêt
DESCRIPTION:Découvrez les bienfaits des « Bains de Forêt »\nOffrez-vous\, en compagnie de notre thérapeute\, 3 heures de déconnexion totale en forêt pour ressentir un bien-être tant physique que mental ! \nQuand ?\nSoit le samedi 22 mai de 10h 13h\, \nSoit le samedi 29 mai de 10h 13h\, \nSoit le samedi 12 juin de 10h 13h \nOù ?\nEn Forêt de Soignes (départ d’Auderghem) \nCombien ?\n20 euros \nRenseignements :\n02/546 14 07 \nfps-ateliersante@fmsdb.be \n 
URL:https://www.soralia.be/accueil/event/bains-de-foret/2022-02-07/
LOCATION:Forêt de Soignes\, Auderghem\, Belgique
CATEGORIES:Bruxelles,Familles,Général,Loisirs,Régional,Santé,Thèmes
ATTACH;FMTTYPE=image/png:https://www.soralia.be/wp-content/uploads/2017/01/calendrier-mai.png
END:VEVENT
BEGIN:VEVENT
DTSTART;VALUE=DATE:20220208
DTEND;VALUE=DATE:20220307
DTSTAMP:20260425T050451
CREATED:20220121T134545Z
LAST-MODIFIED:20220125T085316Z
UID:10005432-1644278400-1646611199@www.soralia.be
SUMMARY:Exposition des oeuvres de Ina Lichtenberg
DESCRIPTION:𝗘𝗫𝗣𝗢𝗦𝗜𝗧𝗜𝗢𝗡 𝗗𝗘𝗦 𝗢𝗘𝗨𝗩𝗥𝗘𝗦 𝗗𝗘 𝗜𝗡𝗔 𝗟𝗜𝗖𝗛𝗧𝗘𝗡𝗕𝗘𝗥𝗚\n\n\nProjet « Mater de mémoire » en collaboration avec Véronique Levieux\, échevine de l’égalité des chances de la commune d’Evere\n\n\n\n𝘘𝘶𝘢𝘯𝘥?\ndu 𝟴 𝗳𝗲́𝘃𝗿𝗶𝗲𝗿 𝗮𝘂 𝟲 𝗺𝗮𝗿𝘀 𝟮𝟬𝟮𝟮\n\n\n\n𝘖𝘶̀?\nEspace Delahaut – Maison communale d’Evere\nSquare Servaes Hoedemakers 10 1140 Evere
URL:https://www.soralia.be/accueil/event/exposition-des-oeuvres-de-ina-lichtenberg/
LOCATION:Maison communale Evere\, square Hoedemaekers\, 10\, Evere\, Bruxelles\, 1140\, Belgique
CATEGORIES:Bruxelles,Culture,Régional
ATTACH;FMTTYPE=image/png:https://www.soralia.be/wp-content/uploads/2017/01/calendrier-fevrier.png
END:VEVENT
BEGIN:VEVENT
DTSTART;TZID=Europe/Paris:20220208T130000
DTEND;TZID=Europe/Paris:20220208T160000
DTSTAMP:20260425T050451
CREATED:20211209T142914Z
LAST-MODIFIED:20220401T080357Z
UID:10005389-1644325200-1644336000@www.soralia.be
SUMMARY:Atelier de théâtre-action
DESCRIPTION:Libérer la parole de chaque participant.e en vue d’initier un espace d’expression conscient. Et ce\, par le biais de jeux\, de la découverte d’expressions verbales et non verbales\, d’écriture de petites histoires spontanées et de mise en débat. Le thème se profilera au fil des rencontres en lien avec le féminisme. L’objectif est la création du spectacle pour début mars 2023. \nSéances chaque mardi après-midi\, à partir du 1er février. Gratuit. \nInfos et inscriptions : Françoise Dupont 0497/97 85 50 ou francoise.dupont@solidaris.be
URL:https://www.soralia.be/accueil/event/atelier-de-theatre-action/2022-02-08/
LOCATION:Centre culturel de Philippeville\, rue de France 1A\, Philippeville\, Namur\, 5600
CATEGORIES:Egalité femme-homme,Namur,Régional,Thèmes
ATTACH;FMTTYPE=image/png:https://www.soralia.be/wp-content/uploads/2017/01/calendrier-avril.png
ORGANIZER;CN="FPS Namur":MAILTO:fps.provincenamur@solidaris.be
END:VEVENT
BEGIN:VEVENT
DTSTART;TZID=Europe/Paris:20220211T133000
DTEND;TZID=Europe/Paris:20220211T163000
DTSTAMP:20260425T050451
CREATED:20211209T145627Z
LAST-MODIFIED:20211216T145705Z
UID:10005411-1644586200-1644597000@www.soralia.be
SUMMARY:Atelier d'aquarelles et de techniques mixtes
DESCRIPTION:Laissez-vous tenter par l’aventure et plongez vos pinceaux dans l’univers de l’eau\, de l’aquarelle\, des techniques et des supports mixtes (toile\, carton…). \n  \nPour la recette\, rien de plus simple : une utilisation d’eau \, des mélanges de pigments\, une palette de couleurs\, des objets\, des photos\, du papier mâché\, papier marbré\, des collages et des transferts … mais aussi des supports étonnants et des pinceaux de tout poil\, tout cela dans une ambiance décontractée! \nUn atelier inspirant et convivial où nous nous essayons aux techniques d’aquarelle\, des techniques mixtes et d’impression à destination d’un public débutant.e.s ou confirmé.e.s. \nLe prix s’entend pour le module de 6 dates! \n 
URL:https://www.soralia.be/accueil/event/atelier-daquarelles-et-de-techniques-mixtes/2022-02-11/
LOCATION:Maison des Femmes à Gilly\, Chaussée de Lodelinsart 100\, Gilly\, 6060\, Belgique
CATEGORIES:Charleroi,Loisirs,Régional
ATTACH;FMTTYPE=image/png:https://www.soralia.be/wp-content/uploads/2017/01/calendrier-janvier.png
END:VEVENT
BEGIN:VEVENT
DTSTART;TZID=Europe/Paris:20220214T093000
DTEND;TZID=Europe/Paris:20220214T113000
DTSTAMP:20260425T050451
CREATED:20211227T101438Z
LAST-MODIFIED:20211227T101438Z
UID:10005428-1644831000-1644838200@www.soralia.be
SUMMARY:Animation Safe surfeuse
DESCRIPTION:Utiliser Internet de manière plus citoyenne et responsable vous intéresse ? \nSafe Surfeuse est un atelier destiné aux femmes pour s’informer au sujet des fake news\, se protéger par la sécurisation des comptes et s’exprimer sur notre expérience d’utilisation d’Internet et des réseaux sociaux tout en découvrant des nouveaux outils (itsme\, QR code\, paiements en ligne\, …). Projet en collaboration avec l’asbl Interface 3 dans le cadre de « Microsoft 2021 Award Grant » et avec le PCS de Philippeville.
URL:https://www.soralia.be/accueil/event/animation-safe-surfeuse/
LOCATION:Solidaris Philippeville\, rue de France 35\, Philippeville\, Province\, 5600\, Belgique
CATEGORIES:Egalité femme-homme,Namur,Régional,Thèmes
ATTACH;FMTTYPE=image/png:https://www.soralia.be/wp-content/uploads/2017/01/calendrier-fevrier.png
ORGANIZER;CN="FPS Namur":MAILTO:fps.provincenamur@solidaris.be
END:VEVENT
BEGIN:VEVENT
DTSTART;TZID=Europe/Paris:20220214T100000
DTEND;TZID=Europe/Paris:20220214T130000
DTSTAMP:20260425T050451
CREATED:20210517T093213Z
LAST-MODIFIED:20210517T155320Z
UID:10005131-1644832800-1644843600@www.soralia.be
SUMMARY:Balade -Bains de Forêt
DESCRIPTION:Découvrez les bienfaits des « Bains de Forêt »\nOffrez-vous\, en compagnie de notre thérapeute\, 3 heures de déconnexion totale en forêt pour ressentir un bien-être tant physique que mental ! \nQuand ?\nSoit le samedi 22 mai de 10h 13h\, \nSoit le samedi 29 mai de 10h 13h\, \nSoit le samedi 12 juin de 10h 13h \nOù ?\nEn Forêt de Soignes (départ d’Auderghem) \nCombien ?\n20 euros \nRenseignements :\n02/546 14 07 \nfps-ateliersante@fmsdb.be \n 
URL:https://www.soralia.be/accueil/event/bains-de-foret/2022-02-14/
LOCATION:Forêt de Soignes\, Auderghem\, Belgique
CATEGORIES:Bruxelles,Familles,Général,Loisirs,Régional,Santé,Thèmes
ATTACH;FMTTYPE=image/png:https://www.soralia.be/wp-content/uploads/2017/01/calendrier-mai.png
END:VEVENT
BEGIN:VEVENT
DTSTART;TZID=Europe/Paris:20220215T130000
DTEND;TZID=Europe/Paris:20220215T150000
DTSTAMP:20260425T050451
CREATED:20211227T101932Z
LAST-MODIFIED:20220111T140648Z
UID:10005429-1644930000-1644937200@www.soralia.be
SUMMARY:Animation Safe surfeuse
DESCRIPTION:Utiliser Internet de manière plus citoyenne et responsable vous intéresse ? \nSafe Surfeuse est un atelier destiné aux femmes pour s’informer au sujet des fake news\, se protéger par la sécurisation des comptes et s’exprimer sur notre expérience d’utilisation d’Internet et des réseaux sociaux tout en découvrant des nouveaux outils (itsme\, QR code\, paiements en ligne\, …). Projet en collaboration avec l’asbl Interface 3 dans le cadre de « Microsoft 2021 Award Grant ».
URL:https://www.soralia.be/accueil/event/animation-safe-surfeuse-2/
LOCATION:Solidaris Saint-Servais\, chaussée de Waterloo 182\, 5002 Saint-Servais\, Namur\, 5002\, Belgique
CATEGORIES:Egalité femme-homme,Général,Namur,Régional,Thèmes
ATTACH;FMTTYPE=image/png:https://www.soralia.be/wp-content/uploads/2017/01/calendrier-fevrier.png
ORGANIZER;CN="FPS Namur":MAILTO:fps.provincenamur@solidaris.be
END:VEVENT
BEGIN:VEVENT
DTSTART;TZID=Europe/Paris:20220215T130000
DTEND;TZID=Europe/Paris:20220215T160000
DTSTAMP:20260425T050451
CREATED:20211209T142914Z
LAST-MODIFIED:20220401T080357Z
UID:10005390-1644930000-1644940800@www.soralia.be
SUMMARY:Atelier de théâtre-action
DESCRIPTION:Libérer la parole de chaque participant.e en vue d’initier un espace d’expression conscient. Et ce\, par le biais de jeux\, de la découverte d’expressions verbales et non verbales\, d’écriture de petites histoires spontanées et de mise en débat. Le thème se profilera au fil des rencontres en lien avec le féminisme. L’objectif est la création du spectacle pour début mars 2023. \nSéances chaque mardi après-midi\, à partir du 1er février. Gratuit. \nInfos et inscriptions : Françoise Dupont 0497/97 85 50 ou francoise.dupont@solidaris.be
URL:https://www.soralia.be/accueil/event/atelier-de-theatre-action/2022-02-15/
LOCATION:Centre culturel de Philippeville\, rue de France 1A\, Philippeville\, Namur\, 5600
CATEGORIES:Egalité femme-homme,Namur,Régional,Thèmes
ATTACH;FMTTYPE=image/png:https://www.soralia.be/wp-content/uploads/2017/01/calendrier-avril.png
ORGANIZER;CN="FPS Namur":MAILTO:fps.provincenamur@solidaris.be
END:VEVENT
BEGIN:VEVENT
DTSTART;TZID=Europe/Paris:20220216T140000
DTEND;TZID=Europe/Paris:20220216T160000
DTSTAMP:20260425T050451
CREATED:20211209T152044Z
LAST-MODIFIED:20211209T152044Z
UID:10005422-1645020000-1645027200@www.soralia.be
SUMMARY:Atelier d'art floral
DESCRIPTION:Travailler avec des fleurs vous plait et vous avez envie de le faire en groupe\, accompagné.e d’une animatrice qui vous guidera pas à pas dans la confection de votre montage de fleurs?\n\nAlors\, rejoignez-nous! Cet atelier risque de vous plaire!\n\nVenez comme vous êtes\, nous nous occupons de vous fournir les fleurs!\n\n Prix: 16€ (fleurs et oasis compris)\n Inscription obligatoire au 071/507.819. \nToutes les mesures liées à situation sanitaire sont appliquées.\nMerci de respecter les horaires.\nUn mercredi par mois en 2 groupes: \nLe 1er groupe de 14h à 16h \nLe 2ème groupe de 17h à 19h \nLe prix s’entend matériel et fleurs comprises. \nInscription obligatoire du lundi au vendredi\, entre 9h et 12h.
URL:https://www.soralia.be/accueil/event/atelier-dart-floral-3/2022-02-16/
LOCATION:Maison des Femmes à Gilly\, Chaussée de Lodelinsart 100\, Gilly\, 6060\, Belgique
CATEGORIES:Charleroi,Loisirs,Régional
ATTACH;FMTTYPE=image/png:https://www.soralia.be/wp-content/uploads/2017/01/calendrier-janvier.png
END:VEVENT
BEGIN:VEVENT
DTSTART;TZID=Europe/Paris:20220221T100000
DTEND;TZID=Europe/Paris:20220221T130000
DTSTAMP:20260425T050451
CREATED:20210517T093213Z
LAST-MODIFIED:20210517T155320Z
UID:10005132-1645437600-1645448400@www.soralia.be
SUMMARY:Balade -Bains de Forêt
DESCRIPTION:Découvrez les bienfaits des « Bains de Forêt »\nOffrez-vous\, en compagnie de notre thérapeute\, 3 heures de déconnexion totale en forêt pour ressentir un bien-être tant physique que mental ! \nQuand ?\nSoit le samedi 22 mai de 10h 13h\, \nSoit le samedi 29 mai de 10h 13h\, \nSoit le samedi 12 juin de 10h 13h \nOù ?\nEn Forêt de Soignes (départ d’Auderghem) \nCombien ?\n20 euros \nRenseignements :\n02/546 14 07 \nfps-ateliersante@fmsdb.be \n 
URL:https://www.soralia.be/accueil/event/bains-de-foret/2022-02-21/
LOCATION:Forêt de Soignes\, Auderghem\, Belgique
CATEGORIES:Bruxelles,Familles,Général,Loisirs,Régional,Santé,Thèmes
ATTACH;FMTTYPE=image/png:https://www.soralia.be/wp-content/uploads/2017/01/calendrier-mai.png
END:VEVENT
BEGIN:VEVENT
DTSTART;TZID=Europe/Paris:20220222T130000
DTEND;TZID=Europe/Paris:20220222T160000
DTSTAMP:20260425T050451
CREATED:20211209T142914Z
LAST-MODIFIED:20220401T080357Z
UID:10005391-1645534800-1645545600@www.soralia.be
SUMMARY:Atelier de théâtre-action
DESCRIPTION:Libérer la parole de chaque participant.e en vue d’initier un espace d’expression conscient. Et ce\, par le biais de jeux\, de la découverte d’expressions verbales et non verbales\, d’écriture de petites histoires spontanées et de mise en débat. Le thème se profilera au fil des rencontres en lien avec le féminisme. L’objectif est la création du spectacle pour début mars 2023. \nSéances chaque mardi après-midi\, à partir du 1er février. Gratuit. \nInfos et inscriptions : Françoise Dupont 0497/97 85 50 ou francoise.dupont@solidaris.be
URL:https://www.soralia.be/accueil/event/atelier-de-theatre-action/2022-02-22/
LOCATION:Centre culturel de Philippeville\, rue de France 1A\, Philippeville\, Namur\, 5600
CATEGORIES:Egalité femme-homme,Namur,Régional,Thèmes
ATTACH;FMTTYPE=image/png:https://www.soralia.be/wp-content/uploads/2017/01/calendrier-avril.png
ORGANIZER;CN="FPS Namur":MAILTO:fps.provincenamur@solidaris.be
END:VEVENT
BEGIN:VEVENT
DTSTART;TZID=Europe/Paris:20220225T133000
DTEND;TZID=Europe/Paris:20220225T163000
DTSTAMP:20260425T050451
CREATED:20211209T145627Z
LAST-MODIFIED:20211216T145705Z
UID:10005412-1645795800-1645806600@www.soralia.be
SUMMARY:Atelier d'aquarelles et de techniques mixtes
DESCRIPTION:Laissez-vous tenter par l’aventure et plongez vos pinceaux dans l’univers de l’eau\, de l’aquarelle\, des techniques et des supports mixtes (toile\, carton…). \n  \nPour la recette\, rien de plus simple : une utilisation d’eau \, des mélanges de pigments\, une palette de couleurs\, des objets\, des photos\, du papier mâché\, papier marbré\, des collages et des transferts … mais aussi des supports étonnants et des pinceaux de tout poil\, tout cela dans une ambiance décontractée! \nUn atelier inspirant et convivial où nous nous essayons aux techniques d’aquarelle\, des techniques mixtes et d’impression à destination d’un public débutant.e.s ou confirmé.e.s. \nLe prix s’entend pour le module de 6 dates! \n 
URL:https://www.soralia.be/accueil/event/atelier-daquarelles-et-de-techniques-mixtes/2022-02-25/
LOCATION:Maison des Femmes à Gilly\, Chaussée de Lodelinsart 100\, Gilly\, 6060\, Belgique
CATEGORIES:Charleroi,Loisirs,Régional
ATTACH;FMTTYPE=image/png:https://www.soralia.be/wp-content/uploads/2017/01/calendrier-janvier.png
END:VEVENT
BEGIN:VEVENT
DTSTART;TZID=Europe/Paris:20220225T193000
DTEND;TZID=Europe/Paris:20220225T220000
DTSTAMP:20260425T050451
CREATED:20220126T143838Z
LAST-MODIFIED:20220224T085911Z
UID:10005434-1645817400-1645826400@www.soralia.be
SUMMARY:Spectacle/Débat - Aidant·e·s-proches : une réalité de genre trop méconnue
DESCRIPTION:En 2021\, 75\,34% des personnes ayant bénéficié du congé d’aidant·e proche sont des femmes. Ce déséquilibre genré se marque également dans la prise du congé pour assistance médicale et pour soins palliatifs.\n\n\n\nLors de cet événement\, avec la participation d’expert·e·s et de personnes directement concernées\, nous apportons un regard singulier sur la thématique en démontrant l’importance de prendre en compte la dimension de genre. Nous tenterons également d’apporter des recommandations afin de garantir un meilleur soutien aux aidant·e·s et une meilleure prise en charge des personnes en perte d’autonomie. Un spectacle de théâtre-action introduira la thématique de manière participative.\n\nProgramme de la soirée : \n\n19h30 Accueil\n20h-21h Théâtre-action\n« Et moi dans tout ça ? » par le théâtre du Copion\n21h-22h Débat avec le public\nIntervenantes (à confirmer) : Marie-Virginie Brimbois déléguée syndicale Titres-services\, Muriel Willems psychologue CSD Solidaris Brabant wallon\, Alba Izzo du théâtre du Copion\, Laudine Lahaye des FPS\nModératrice : Amélie Zucca des FPS\n\n\nInfos pratiques : \nCet événement aura lieu dans des conditions hybrides : en présentiel et en virtuel. Il sera accessible en public et retransmis en direct sur le web via la plateforme Zoom\, sur laquelle vous aurez l’opportunité de participer au débat. \nLa salle n’étant pas accessible aux personnes à mobilité réduite\, nous conseillons à celles-ci de nous suivre virtuellement. \n\nLieu : la Plume Persée (51 rue sans Souci à Ixelles) ou Zoom (le lien vous sera communiqué lors de votre inscription). La jauge étant limitée\, le passe sanitaire (CST) ne sera pas demandé à l’entrée. (Entrée gratuite). \nSi vous vous rendez en voiture à la Plume Persée\, le parking de la Tulipe se trouve à 2 minutes à pieds. Si vous prenez les transports en commun\, le bus 95 ou 71 vous déposera place Fernand Coq. \nEnvie de vous informer sur la thématique avant de participer à l’événement ? Notre étude est à votre disposition :  « Aidant·e·s proches : tour d’horizon dans une perspective de genre » \n\n\n\nLa participation à cet événement vaut pour accord d’être filmé·e et pris·e en photo ainsi que pour accord quant à la diffusion de ces images et vidéos dans le cadre du déroulement de l’événement et de sa mise en valeur par la suite. Les personnes ne souhaitant pas donner leur accord sont invitées à participer en priorité virtuellement pour des raisons logistiques.  \n\n\n\n\nError: Contact form not found.
URL:https://www.soralia.be/accueil/event/spectacle-conference-aidants-proches-une-realite-de-genre-trop-meconnue/
LOCATION:La Plume persée\, rue sans souci 51\, ixelles\, Belgique
CATEGORIES:Egalité femme-homme,Familles,Général,Thèmes
ATTACH;FMTTYPE=image/png:https://www.soralia.be/wp-content/uploads/2017/01/calendrier-fevrier.png
END:VEVENT
BEGIN:VEVENT
DTSTART;TZID=Europe/Paris:20220228T100000
DTEND;TZID=Europe/Paris:20220228T130000
DTSTAMP:20260425T050451
CREATED:20210517T093213Z
LAST-MODIFIED:20210517T155320Z
UID:10005133-1646042400-1646053200@www.soralia.be
SUMMARY:Balade -Bains de Forêt
DESCRIPTION:Découvrez les bienfaits des « Bains de Forêt »\nOffrez-vous\, en compagnie de notre thérapeute\, 3 heures de déconnexion totale en forêt pour ressentir un bien-être tant physique que mental ! \nQuand ?\nSoit le samedi 22 mai de 10h 13h\, \nSoit le samedi 29 mai de 10h 13h\, \nSoit le samedi 12 juin de 10h 13h \nOù ?\nEn Forêt de Soignes (départ d’Auderghem) \nCombien ?\n20 euros \nRenseignements :\n02/546 14 07 \nfps-ateliersante@fmsdb.be \n 
URL:https://www.soralia.be/accueil/event/bains-de-foret/2022-02-28/
LOCATION:Forêt de Soignes\, Auderghem\, Belgique
CATEGORIES:Bruxelles,Familles,Général,Loisirs,Régional,Santé,Thèmes
ATTACH;FMTTYPE=image/png:https://www.soralia.be/wp-content/uploads/2017/01/calendrier-mai.png
END:VEVENT
END:VCALENDAR