BEGIN:VCALENDAR
VERSION:2.0
PRODID:-//Soralia - ECPv6.15.17.1//NONSGML v1.0//EN
CALSCALE:GREGORIAN
METHOD:PUBLISH
X-ORIGINAL-URL:https://www.soralia.be/accueil
X-WR-CALDESC:Évènements pour Soralia
REFRESH-INTERVAL;VALUE=DURATION:PT1H
X-Robots-Tag:noindex
X-PUBLISHED-TTL:PT1H
BEGIN:VTIMEZONE
TZID:Europe/Paris
BEGIN:DAYLIGHT
TZOFFSETFROM:+0100
TZOFFSETTO:+0200
TZNAME:CEST
DTSTART:20160327T010000
END:DAYLIGHT
BEGIN:STANDARD
TZOFFSETFROM:+0200
TZOFFSETTO:+0100
TZNAME:CET
DTSTART:20161030T010000
END:STANDARD
BEGIN:DAYLIGHT
TZOFFSETFROM:+0100
TZOFFSETTO:+0200
TZNAME:CEST
DTSTART:20170326T010000
END:DAYLIGHT
BEGIN:STANDARD
TZOFFSETFROM:+0200
TZOFFSETTO:+0100
TZNAME:CET
DTSTART:20171029T010000
END:STANDARD
BEGIN:DAYLIGHT
TZOFFSETFROM:+0100
TZOFFSETTO:+0200
TZNAME:CEST
DTSTART:20180325T010000
END:DAYLIGHT
BEGIN:STANDARD
TZOFFSETFROM:+0200
TZOFFSETTO:+0100
TZNAME:CET
DTSTART:20181028T010000
END:STANDARD
END:VTIMEZONE
BEGIN:VEVENT
DTSTART;VALUE=DATE:20170307
DTEND;VALUE=DATE:20170308
DTSTAMP:20260423T184746
CREATED:20170307T105203Z
LAST-MODIFIED:20170307T105357Z
UID:10003773-1488844800-1488931199@www.soralia.be
SUMMARY:Etre femme dans l'espace public à Philippeville
DESCRIPTION:Le 8 mars\, Journée Internationale des droits des femmes\, est l’occasion pour Soralia de la Province de Namur de réunir les femmes\, les hommes\, les militant-es pour diverses activités. L’égalité entre les femmes et les hommes reste un sujet d’actualité\, qui demande une vigilance constante de tous et toutes. Nous vous invitons cordialement à participer à l’une ou l’autre des activités que nous organisons cette année à Namur\, Dinant\, Philippeville et Jemeppe-sur-Sambre. \nExpo\, conférence\, marches exploratoires à Philippeville \n\nDu 6 au 21 mars : exposition « Crocodiles »\nde vraies histoires de harcèlement et de sexisme ordinaire mises en bande dessinée par Thomas Mathieu. Visite libre ou avec animation. Accessible au public adultes\, aux groupes scolaires à partir de la 6e primaire\, et aux familles.\nInfos et réservations : 071/666 778\nLe mardi 7 mars : conférence débat sur la place de la femme dans l’espace public et sur le harcèlement à l’école\, animée par Claudine Liénard (Université des femmes) et des représentant-es du Comité des étudiants francophones.\nSéance scolaire à 14h et séance tout public à 19h\nLe mardi 14 mars à 15h00 et à 19h00 : marches exploratoires de 2 heures (environ 2 km) animées par l’asbl Garance. Ces marches permettent de repérer\, en groupe\, les points positifs ou négatifs de l’aménagement urbain selon que nous nous y sentons en sécurité ou au contraire éprouvons un sentiment d’insécurité ; nous pourrons ainsi ensuite émettre des recommandations et interpeller\, afin d’intégrer l’analyse de genre dans l’urbanisme.\nRéservation obligatoire au 0471/11 96 22\nLe mardi 21 mars à 19h : « dévernissage »\nDévernissage de l’expo\, présentation des conclusions des marches exploratoires aux associations et mandataires publics de Philippeville\, et verre de clôture.
URL:https://www.soralia.be/accueil/event/etre-femme-dans-lespace-public-a-philippeville/
LOCATION:Centre culturel des Halles\, Philippeville\, Belgique
CATEGORIES:Egalité femme-homme,Général,Namur,Régional,Thèmes
ATTACH;FMTTYPE=image/png:https://www.soralia.be/wp-content/uploads/2017/01/calendrier-mars.png
ORGANIZER;CN="FPS Namur":MAILTO:francoise.dupont@solidaris.be 
END:VEVENT
BEGIN:VEVENT
DTSTART;TZID=Europe/Paris:20170307T090000
DTEND;TZID=Europe/Paris:20170307T130000
DTSTAMP:20260423T184750
CREATED:20170223T150404Z
LAST-MODIFIED:20170227T084233Z
UID:10003768-1488877200-1488891600@www.soralia.be
SUMMARY:Matinée de sensibilisation des droits des femmes
DESCRIPTION:Chaque 8 mars\, on vous parle des femmes\, on vous proposons des activités\, des cinés-débats… Cette année\, la plate-forme femmes de La Louvière et des partenaires de la région ont travaillé ensemble afin de réfléchir à un vaste programme de sensibilisation à cette thématique pour laquelle il reste encore beaucoup de travail ! \nAu programme de la matinée \n\n9h : accueil\n9h15 : ouverture de la journée par Colette Burgeon\, Présidente de la Plate-forme Femmes de La Louvière. Mot des associations de la Plate-forme Femmes par Géraldine Dujardin.\n9h35 : « TTIP et droits des femmes » par Vie Féminine Centr’Hainaut\n9h55 : « L’impact des mesures gouvernementales sur les femmes » par Géraldine Garofalo de la CSC Mons-La Louvière et Mano Henquinet de l’ASBL CEPRé\n10h15 : « La taxe rose : ce marketing qui nous en fait voir de toutes les couleurs ! » par Le Relais\n10h35 : Prise de parole d’Amnesty International\n10h45 : Pause\n11h : Ateliers / Animations\n« C’est quoi être femme maintenant ? Comment les femmes se voient dans la société ? à l’avenir ? » par le CPF\nAnimations « Stéréotypes et discriminations » par le CEPRé\, « Quizz femmes et sport » par Soralia\, « TTIP et droits des femmes » par Vie Féminine Centr’Hainaut.\n12h : Repas et expos\n« Envol » de Solidarité Femmes\n« Femmes et sport » et « ceci n’est pas un cliché / Agitations 2016 » des FPS\n« Intimités » de Vie Féminine Centr’Hainaut
URL:https://www.soralia.be/accueil/event/matinee-de-sensibilisation-des-droits-des-femmes/
LOCATION:Maison des Associations La Louvière\, Place Jules Mansart 21\, La louvière\, 7100
CATEGORIES:Centre & Soignies,Egalité femme-homme,Général
ATTACH;FMTTYPE=image/png:https://www.soralia.be/wp-content/uploads/2017/01/calendrier-mars.png
ORGANIZER;CN="FPS Centre & Soignies":MAILTO:fps.cs@solidaris.be
END:VEVENT
BEGIN:VEVENT
DTSTART;TZID=Europe/Paris:20170307T180000
DTEND;TZID=Europe/Paris:20170307T200000
DTSTAMP:20260423T184750
CREATED:20170223T150649Z
LAST-MODIFIED:20170223T150721Z
UID:10003769-1488909600-1488916800@www.soralia.be
SUMMARY:Soirée Théâtre-Action : « Femmes en scène »
DESCRIPTION:Les Chanceuses de Solidarité Femmes avec la collaboration du Théâtre des Rues : « La révolution des petites culottes » \net Les Sans poids ni loi des Femmes Prévoyantes Socialistes \nAccueil des enfants de 3 à 12 ans par Latitude Jeunes (pour la soirée)\nInformations et inscriptions: Géraldine Dujardin (FPS) : 071/507 820 – geraldine.dujardin@solidaris.be
URL:https://www.soralia.be/accueil/event/soiree-theatre-action-femmes-en-scene/
LOCATION:Maison des Associations La Louvière\, Place Jules Mansart 21\, La louvière\, 7100
CATEGORIES:Centre & Soignies,Régional
ORGANIZER;CN="FPS Centre & Soignies":MAILTO:fps.cs@solidaris.be
END:VEVENT
BEGIN:VEVENT
DTSTART;TZID=Europe/Paris:20170307T200000
DTEND;TZID=Europe/Paris:20170307T220000
DTSTAMP:20260423T184750
CREATED:20170222T154642Z
LAST-MODIFIED:20170222T161633Z
UID:10003765-1488916800-1488924000@www.soralia.be
SUMMARY:Journée Droits des Femmes - Théâtre "Dialy"
DESCRIPTION:La culture au service des droits des femmes\nLe 8 mars\, journée internationale des droits des femmes\, il s’agit de rappeler que si l’égalité des droits entre hommes et femmes avance dans les lois\, c’est encore loin d’être le cas dans les faits et les mentalités. C’est un moment de réflexion et de visibilité pour la défense des droits des femmes\, contre les inégalités et les injustices qu’elles vivent encore au quotidien à travers le monde.\nUne représentation sans tabou de la sexualité féminine au Maroc.\nUn Spectacle en arabe dialectal\, surtitré en français\, par le théâtre Aquarium de Rabat. Le spectacle sera suivi d’un échange entre la troupe et le public. \nTarif plein : 10€ – Tarif réduit : 6€\nRéservation via la Cité Miroir : 04 230 70 50 – reservation@citemiroir.be
URL:https://www.soralia.be/accueil/event/theatre-dialy/
LOCATION:Cité Miroir\, Place Xavier-Neujean 22\, Liège\, 4000\, Belgique
CATEGORIES:Egalité femme-homme,Général,Liège
ATTACH;FMTTYPE=image/png:https://www.soralia.be/wp-content/uploads/2017/01/calendrier-mars.png
ORGANIZER;CN="FPS Li%C3%A8ge":MAILTO:associations.liege@solidaris.be
END:VEVENT
BEGIN:VEVENT
DTSTART;VALUE=DATE:20170308
DTEND;VALUE=DATE:20170309
DTSTAMP:20260423T184750
CREATED:20170307T110029Z
LAST-MODIFIED:20170307T110216Z
UID:10003775-1488931200-1489017599@www.soralia.be
SUMMARY:L'égalité s'affiche - Expo à Jemeppe-sur-sambre
DESCRIPTION:Du 6 au 10 mars – Exposition « L’Egalité s’affiche » : composée d’affiches issues de la Triennale Internationale de l’affiche Politique et également d’affiches réalisées suite à des réflexions\, échanges avec les groupes locaux FPS. Ce regard croisé met en perspective les revendications prônées par Soralia. \n\nLe 8 mars de 13h00 à 15h00 : animations\nLe 8 mars à 15h30 : projection du film « Fish Tank »\, suivi d’un débat\nLe 11 mars de 9h30 à 12h30 : Le bien-être des femmes sous toutes ses facettes : ateliers bien-être : initiation au Reiki\, méditation collective\, yoga du rire\, soins et manucure\, confiance en soi.\n\nInscription préalable aux ateliers indispensable auprès de Katja Bragard 071/75 00 14
URL:https://www.soralia.be/accueil/event/legalite-saffiche-expo-a-jemeppe-sur-sambre/
LOCATION:Hall de l’administration communale\, Jemeppe-sur-sambre\, Belgique
CATEGORIES:Egalité femme-homme,Namur,Régional,Thèmes
ATTACH;FMTTYPE=image/png:https://www.soralia.be/wp-content/uploads/2017/01/calendrier-mars.png
ORGANIZER;CN="FPS Namur":MAILTO:francoise.dupont@solidaris.be 
END:VEVENT
BEGIN:VEVENT
DTSTART;VALUE=DATE:20170308
DTEND;VALUE=DATE:20170312
DTSTAMP:20260423T184750
CREATED:20170108T113917Z
LAST-MODIFIED:20170224T120050Z
UID:10003743-1488931200-1489276799@www.soralia.be
SUMMARY:Festival du Film au Féminin
DESCRIPTION:« Elles tissent la toile du Nord au Sud » à Charleroi\n9ème édition et non des moindres ! En commençant le festival le 8 mars\, les organisatrices vous préparent une programmation encore plus étonnante\, plus féministe engagée\, plus égalitaire que jamais ! \nPlus de 16 séances pour toutes et tous\, des documentaires\, du tous publics\, des séances surprenantes\, des animations\, des débats et des rencontres ! Un évènement à ne pas rater ! Et surtout un nouveau lieu ce sera au Quai 10\, haut lieux du 7ème art pour placer la femmes réalisatrices ou actrices au cœur du cinéma\, des préoccupations et des débats ! Une organisation du Conseil des Femmes Francophones de Belgique (CFFB) de Charleroi où Soralia sont impliquées.\nProgramme complet : http://www.quai10.be
URL:https://www.soralia.be/accueil/event/festival-du-film-au-feminin-elles-tissent-la-toile-du-nord-au-sud/
LOCATION:Quai 10\, Quai Arthur Rimbaud\, 10\, Charleroi\, 6000\, Belgique
CATEGORIES:Charleroi,Egalité femme-homme,Général,Régional,Thèmes
ATTACH;FMTTYPE=image/png:https://www.soralia.be/wp-content/uploads/2017/01/calendrier-mars.png
END:VEVENT
BEGIN:VEVENT
DTSTART;TZID=Europe/Paris:20170308T110000
DTEND;TZID=Europe/Paris:20170308T170000
DTSTAMP:20260423T184750
CREATED:20260216T081212Z
LAST-MODIFIED:20260216T081212Z
UID:10006416-1488970800-1488992400@www.soralia.be
SUMMARY:Atelier – « Ta pancarte\, ton slogan\, ta manif ! » à Nivelles
DESCRIPTION:Dans le cadre de la journée internationale de lutte pour les droits des femmes\n\nRejoins nous le dimanche 8 mars pour une journée engagée\, créative et ouverte à toutes et tous – personnes de 15 à 45 ans\, avec ou sans handicap ! 💪✨ \nDe 11h à 13h\, on t’accueille à Nivelles pour un atelier de création de pancartes à slogans : couleurs\, messages forts\, créativité… on prépare ensemble de quoi faire entendre nos voix pour les droits des femmes. \n🥪 Prévoyez simplement votre repas de midi\, on fera une pause conviviale sur la route. \n🚆 Ensuite\, départ en groupe pour Bruxelles afin d’arriver à 14h à la grande manifestation du 8 mars ! Le ticket de train aller/retour est offert. \nUne belle occasion de s’exprimer\, de rencontrer d’autres jeunes engagé·e·s et de vivre un moment fort de solidarité. \nUne collaboration Soralia\, Latitude Jeunes et Esenca \nInscription via : https://forms.office.com/e/dVC2gFW9C9 \nPlus d’infos :\n📞 latitudejeunesbw@solidaris.be\n✉️ 010 24 37 24 \nNous espérons vous voir nombreux·ses
URL:https://www.soralia.be/accueil/event/atelier-ta-pancarte-ton-slogan-ta-manif-a-nivelles/
LOCATION:Agence Solidaris Nivelles\, Rue Saint-André\, 1\, Nivelles\, Brabant wallon\, 1480\, Belgium
CATEGORIES:Brabant wallon,Egalité femme-homme,Régional
ATTACH;FMTTYPE=image/png:https://www.soralia.be/wp-content/uploads/2017/01/calendrier-mars.png
ORGANIZER;CN="Soralia Brabant wallon":MAILTO:soralia.bw@solidaris.be
END:VEVENT
BEGIN:VEVENT
DTSTART;TZID=Europe/Paris:20170308T170000
DTEND;TZID=Europe/Paris:20170308T170000
DTSTAMP:20260423T184750
CREATED:20170222T155552Z
LAST-MODIFIED:20170222T161722Z
UID:10003766-1488992400-1488992400@www.soralia.be
SUMMARY:Journée Droits des Femmes - Cinéma
DESCRIPTION:La culture au service des droits des femmes\nLe 8 mars\, journée internationale des droits des femmes\, il s’agit de rappeler que si l’égalité des droits entre hommes et femmes avance dans les lois\, c’est encore loin d’être le cas dans les faits et les mentalités. C’est un moment de réflexion et de visibilité pour la défense des droits des femmes\, contre les inégalités et les injustices qu’elles vivent encore au quotidien à travers le monde. \nSoralia de Liège vous proposent deux films au cinéma Sauvenière: \n\n17h: Hidden Figures\nUn film de Theodore Melfi. Le destin extraordinaire de trois scientifiques afroaméricaines qui ont permis aux Etats-Unis de prendre la tête de la conquête spatiale. Leur histoire\, longtemps restée méconnue\, est enfin portée à l’écran.\n20h: 3000 Nuits\nUn film de Mai Masri. « Iman\, une jeune institutrice palestinienne récemment mariée est arrêtée et incarcérée dans une prison israélienne de haute sécurité où elle donne naissance à un garçon. » (Wikipedia) Le film sera précédé du court-métrage Libertés réalisé par un groupe de la Maison des Femmes d’ici et d’ailleurs\, en collaboration avec Voix de Femmes et le collectif A contre jour.\n\nPlaces gratuites en nombre limité – Réservation obligatoire\nInfos et inscriptions : 04 341 62 88 ou fpsinscriptions.liege@solidaris.be
URL:https://www.soralia.be/accueil/event/journee-droits-des-femmes-cinema/
LOCATION:Cinéma Sauvenière\, Place Xavier Neujean\, Liège\, 4000\, Belgique
CATEGORIES:Egalité femme-homme,Général,Liège
ATTACH;FMTTYPE=image/png:https://www.soralia.be/wp-content/uploads/2017/01/calendrier-mars.png
ORGANIZER;CN="FPS Li%C3%A8ge":MAILTO:associations.liege@solidaris.be
END:VEVENT
BEGIN:VEVENT
DTSTART;TZID=Europe/Paris:20170308T193000
DTEND;TZID=Europe/Paris:20170308T220000
DTSTAMP:20260423T184750
CREATED:20170216T145646Z
LAST-MODIFIED:20170308T133624Z
UID:10003754-1489001400-1489010400@www.soralia.be
SUMMARY:Pièce de théâtre "Dialy"
DESCRIPTION:Le Collège de Bourgmestre et Echevins de la ville de Bruxelles\, en collaboration avec Soralia d’Evere et les AML\, vous invitent à la représentation de la pièce de théâtre « Dialy » jouée par le théâtre Aquarium de Rabat. \nEntrée libre. Réservation obligatoire : 02 563 60 63 – ddo@evere.brussels
URL:https://www.soralia.be/accueil/event/piece-de-theatre-dialy/
LOCATION:Espace Toots\, Rue Ed.Stuckens 125\, Evere\, 1140\, Belgique
CATEGORIES:Bruxelles,Général,Régional
ATTACH;FMTTYPE=image/png:https://www.soralia.be/wp-content/uploads/2017/01/calendrier-mars.png
END:VEVENT
BEGIN:VEVENT
DTSTART;TZID=Europe/Paris:20170308T200000
DTEND;TZID=Europe/Paris:20170308T223000
DTSTAMP:20260423T184750
CREATED:20170307T102755Z
LAST-MODIFIED:20170307T102755Z
UID:10003772-1489003200-1489012200@www.soralia.be
SUMMARY:Le plaisir féminin: encore un tabou ? Ciné-débat à Dinant
DESCRIPTION:Le 8 mars\, Journée Internationale des droits des femmes\, est l’occasion pour Soralia de la Province de Namur de réunir les femmes\, les hommes\, les militant-es pour diverses activités. L’égalité entre les femmes et les hommes reste un sujet d’actualité\, qui demande une vigilance constante de tous et toutes. Nous vous invitons cordialement à participer à l’une ou l’autre des activités que nous organisons cette année à Namur\, Dinant\, Philippeville et Jemeppe-sur-Sambre. \nLe plaisir féminin : encore tabou ? En partenariat avec le Centre de planning familial FPS\, le Centre Culturel Régional\, la maison de la Laïcité et le comité local FPS de Dinant. \nProjection du film « Oh my God » de Tanya Wexler\, qui évoque avec humour l’invention du premier vibromasseur à l’époque de l’Angleterre victorienne\, aux fins de soigner « l’hystérie féminine ». Le débat sera animé par Laura Dufey\, sexologue. Démonstration de sextoys par « Lovely Secret » et jeu concours.
URL:https://www.soralia.be/accueil/event/le-plaisir-feminin-encore-un-tabou-cine-debat-a-dinant/
LOCATION:Centre culturel salle Sax\, Esplanade Princesse Elisabeth\, Dinant\, Belgique
CATEGORIES:Egalité femme-homme,Namur,Régional,Thèmes
ORGANIZER;CN="FPS Namur":MAILTO:fps.provincenamur@solidaris.be
END:VEVENT
BEGIN:VEVENT
DTSTART;TZID=Europe/Paris:20170309T203000
DTEND;TZID=Europe/Paris:20170309T223000
DTSTAMP:20260423T184750
CREATED:20170222T161521Z
LAST-MODIFIED:20170306T124642Z
UID:10003767-1489091400-1489098600@www.soralia.be
SUMMARY:Journée Droits des Femmes - Concert
DESCRIPTION:La culture au service des droits des femmes\nLe 8 mars\, journée internationale des droits des femmes\, il s’agit de rappeler que si l’égalité des droits entre hommes et femmes avance dans les lois\, c’est encore loin d’être le cas dans les faits et les mentalités. C’est un moment de réflexion et de visibilité pour la défense des droits des femmes\, contre les inégalités et les injustices qu’elles vivent encore au quotidien à travers le monde.\nConcert d’Awa Ly\nElle y jouera son troisième album qui mêle brillamment soul\, jazz\, folk et musiques du monde pour une balade sensuelle et passionnée. \nPrix : 22 € (sur place) / 18 € (prévente)\nInfos et inscriptions : www.grignoux.be\nEn partenariat avec Les Grignoux
URL:https://www.soralia.be/accueil/event/journee-droits-des-femmes-concert/
LOCATION:Parc\, Rue Paul-Joseph Carpay 22\, Liège\, 4000\, Belgique
CATEGORIES:Egalité femme-homme,Liège
ATTACH;FMTTYPE=image/png:https://www.soralia.be/wp-content/uploads/2017/01/calendrier-mars.png
ORGANIZER;CN="FPS Li%C3%A8ge":MAILTO:associations.liege@solidaris.be
END:VEVENT
BEGIN:VEVENT
DTSTART;TZID=Europe/Paris:20170310T180000
DTEND;TZID=Europe/Paris:20170310T210000
DTSTAMP:20260423T184750
CREATED:20170216T140556Z
LAST-MODIFIED:20170306T134702Z
UID:10003752-1489168800-1489179600@www.soralia.be
SUMMARY:Ciné-débat : l'avortement ici et ailleurs
DESCRIPTION:  \nLe droit de disposer de son corps \nLes femmes prévoyantes socialistes d’Anderlecht et de Forest ont le plaisir de vous inviter au ciné-débat le vendredi 10 mars 2017 de 18h à 21h\nAu BRASS\, centre culturel de Forest \n  \n  \n  \n  \n  \nInvités: \n\nMarie Arena\,députée européenne\nKarine Lalieux\,députée fédérale\nDr Philippe Lefebvre\,Chef d’unités\, CH-Roubaix\nLe Lobby européen des femmes
URL:https://www.soralia.be/accueil/event/cine-debat-lavortement-ici-et-ailleurs/
LOCATION:Brass\, Avenue Van Volxem\,364 \, Forest\, 1190 \, Belgique
CATEGORIES:Bruxelles,Droit & Citoyenneté,Général
ATTACH;FMTTYPE=image/png:https://www.soralia.be/wp-content/uploads/2017/01/calendrier-mars.png
END:VEVENT
BEGIN:VEVENT
DTSTART;TZID=Europe/Paris:20170311T140000
DTEND;TZID=Europe/Paris:20170311T170000
DTSTAMP:20260423T184750
CREATED:20170307T102317Z
LAST-MODIFIED:20170307T102317Z
UID:10003771-1489240800-1489251600@www.soralia.be
SUMMARY:Articulation vie professionnelle/vie personnelle : table ronde à Namur
DESCRIPTION:Le 8 mars\, Journée Internationale des droits des femmes\, est l’occasion pour Soralia de la Province de Namur de réunir les femmes\, les hommes\, les militant-es pour diverses activités. L’égalité entre les femmes et les hommes reste un sujet d’actualité\, qui demande une vigilance constante de tous et toutes. Nous vous invitons cordialement à participer à l’une ou l’autre des activités que nous organisons cette année à Namur\, Dinant\, Philippeville et Jemeppe-sur-Sambre. \nDans le cadre de la plateforme communale « Namur’Elles »\, nous organisons une Table ronde sur le thème de l’articulation vie professionnelle\, vie familiale et vie personnelle. En présence de 3 intervenantes : Laura Chaumont (asbl Garance)\, Reine Marcelis (asbl Synergie Wallonie) et Amandine Dewez (FPS). \n 
URL:https://www.soralia.be/accueil/event/articulation-vie-professionnellevie-personnelle-table-ronde-a-namur/
LOCATION:Palais des Congrès\, Place d'Armes\, Namur\, Belgique
CATEGORIES:Egalité femme-homme,Namur,Régional,Thèmes
ATTACH;FMTTYPE=image/png:https://www.soralia.be/wp-content/uploads/2017/01/calendrier-mars.png
ORGANIZER;CN="FPS Namur":MAILTO:fps.provincenamur@solidaris.be
END:VEVENT
END:VCALENDAR