BEGIN:VCALENDAR
VERSION:2.0
PRODID:-//Soralia - ECPv6.15.17.1//NONSGML v1.0//EN
CALSCALE:GREGORIAN
METHOD:PUBLISH
X-ORIGINAL-URL:https://www.soralia.be/accueil
X-WR-CALDESC:Évènements pour Soralia
REFRESH-INTERVAL;VALUE=DURATION:PT1H
X-Robots-Tag:noindex
X-PUBLISHED-TTL:PT1H
BEGIN:VTIMEZONE
TZID:Europe/Paris
BEGIN:DAYLIGHT
TZOFFSETFROM:+0100
TZOFFSETTO:+0200
TZNAME:CEST
DTSTART:20160327T010000
END:DAYLIGHT
BEGIN:STANDARD
TZOFFSETFROM:+0200
TZOFFSETTO:+0100
TZNAME:CET
DTSTART:20161030T010000
END:STANDARD
BEGIN:DAYLIGHT
TZOFFSETFROM:+0100
TZOFFSETTO:+0200
TZNAME:CEST
DTSTART:20170326T010000
END:DAYLIGHT
BEGIN:STANDARD
TZOFFSETFROM:+0200
TZOFFSETTO:+0100
TZNAME:CET
DTSTART:20171029T010000
END:STANDARD
BEGIN:DAYLIGHT
TZOFFSETFROM:+0100
TZOFFSETTO:+0200
TZNAME:CEST
DTSTART:20180325T010000
END:DAYLIGHT
BEGIN:STANDARD
TZOFFSETFROM:+0200
TZOFFSETTO:+0100
TZNAME:CET
DTSTART:20181028T010000
END:STANDARD
END:VTIMEZONE
BEGIN:VEVENT
DTSTART;TZID=Europe/Paris:20170509T170000
DTEND;TZID=Europe/Paris:20170509T190000
DTSTAMP:20260425T142530
CREATED:20170425T152221Z
LAST-MODIFIED:20170503T084401Z
UID:10003802-1494349200-1494356400@www.soralia.be
SUMMARY:Présentation de "Cause toujours\, sale pub !"
DESCRIPTION:Le groupe Be cause toujours ! vous invite au lancement de leur brochure « Cause toujours\, sale pub ! » dans une ambiance conviviale et décontractée\, \nCause toujours\, sale pub !\nCette brochure aborde des questions telles que : Combien de femmes journalistes en Belgique ? Quels rôles celles-ci occupent-elles ? Quels impacts la publicité sexiste a-t-elle sur les jeunes et moins jeunes ? Et surtout\, que pouvons-nous y faire ? \nModalités\nDate : Le 9 mai 2017 à 17h00\nLieu : Maison des femmes d’ici et d’ailleurs (16\, rue A.Magis – 4020 Liège)\nGratuit sur inscriptions au 04/342 24 22 \nAvec le soutien de la Fédération Wallonie-Bruxelles
URL:https://www.soralia.be/accueil/event/presentation-de-cause-toujours-sale-pub/
LOCATION:Maison des Femmes d’ici et d’ailleurs\, Rue Magis\, 16\, Liège\, Liège\, 4020\, Belgique
CATEGORIES:Egalité femme-homme,Général,Liège,Régional,Thèmes
ATTACH;FMTTYPE=image/png:https://www.soralia.be/wp-content/uploads/2017/01/calendrier-mai.png
ORGANIZER;CN="FPS Li%C3%A8ge":MAILTO:associations.liege@solidaris.be
END:VEVENT
BEGIN:VEVENT
DTSTART;TZID=Europe/Paris:20170510T183000
DTEND;TZID=Europe/Paris:20170510T203000
DTSTAMP:20260425T142530
CREATED:20170414T085304Z
LAST-MODIFIED:20170414T085426Z
UID:10003798-1494441000-1494448200@www.soralia.be
SUMMARY:Prendre sa santé en main
DESCRIPTION:Le module « Prendre sa santé en main » s’organise autour de 3 grandes phases. Ce module informe et permet une réflexion critique sur l’accès aux soins de santé et permet à chaque participant d’être acteur de sa propre santé. \nLe comité local FPS d’Haine-Saint-Pierre et Soralia du Centre et de Soignies vous invitent à participer aux différentes séances. \n\n10 mai 2017 : La sécu c’est quoi ? D’où vient l’argent qui permet aux mutuelles de rembourser vos soins ?\n14 juin 2017 : La santé c’est quoi ?\n\nIntervenante : Leslie Lion\, animatrice FPS \nInscriptions : 071/507 820 ou fps.cs@solidaris.be \n 
URL:https://www.soralia.be/accueil/event/prendre-sa-sante-en-main-2/
LOCATION:Maison du Peuple\, rue de la Station 33\, Haine-Saint-Pierre\, Belgique
CATEGORIES:Centre & Soignies,Régional,Santé,Thèmes
ATTACH;FMTTYPE=image/png:https://www.soralia.be/wp-content/uploads/2017/01/calendrier-mai.png
ORGANIZER;CN="FPS Centre & Soignies":MAILTO:fps.cs@solidaris.be
END:VEVENT
BEGIN:VEVENT
DTSTART;TZID=Europe/Paris:20170512T090000
DTEND;TZID=Europe/Paris:20170512T160000
DTSTAMP:20260425T142530
CREATED:20170414T091651Z
LAST-MODIFIED:20170414T093042Z
UID:10003801-1494579600-1494604800@www.soralia.be
SUMMARY:Journée de la fibromyalgie
DESCRIPTION:La fibromyalgie est une maladie chronique\, caractérisée par une sensation de douleur générale diffuse ou de brûlure de la tête aux pieds\, avec un sentiment de fatigue profonde\, sans lésion. Cette maladie affecte 3% de la population : \n\n9 malades sur 10 sont des femmes\nprincipalement entre 35 et 45 ans\ntouchées en pleine période professionnelle\n\nLa Fibromyalgie est reconnue par l’Organisation Mondiale de la Santé depuis 1992. L’objectif de cette journée est de sensibiliser les gouvernements\, les institutions et les médias sur la situation des personnes qui souffrent de ces maladies orphelines (c’est à-dire\, sans traitement\, ni prise en charge\, et incurable dans l’état actuel des connaissances et des moyens). \nÀ cette occasion\, le groupe « Mots pour maux » vous invite à visiter son stand d’informations. Nous proposerons également des ateliers. Programmation à venir ! \nIntervenante : Géraldine Dujardin\, animatrice FPS et le groupe « Mots pour maux » \nRenseignements : 071/507 820 ou fps.cs@solidaris.be
URL:https://www.soralia.be/accueil/event/journee-de-la-fibromyalgie/
LOCATION:CHU Tivoli\, Avenue Max Buset 34\, La Louvière\, 7100\, Belgique
CATEGORIES:Centre & Soignies,Général,Régional,Santé,Thèmes
ATTACH;FMTTYPE=image/png:https://www.soralia.be/wp-content/uploads/2017/01/calendrier-mai.png
ORGANIZER;CN="FPS Centre & Soignies":MAILTO:fps.cs@solidaris.be
END:VEVENT
BEGIN:VEVENT
DTSTART;TZID=Europe/Paris:20170512T090000
DTEND;TZID=Europe/Paris:20170512T160000
DTSTAMP:20260425T142530
CREATED:20170504T085146Z
LAST-MODIFIED:20170504T085146Z
UID:10003806-1494579600-1494604800@www.soralia.be
SUMMARY:Journée de la fibromyalgie
DESCRIPTION:La fibromyalgie est une maladie chronique\, caractérisée par une sensation de douleur générale diffuse ou de brûlure de la tête aux pieds\, avec un sentiment de fatigue profonde\, sans lésion. Cette maladie affecte 3% de la population : \n\n9 malades sur 10 sont des femmes\nprincipalement entre 35 et 45 ans\ntouchées en pleine période professionnelle\n\nLa Fibromyalgie est reconnue par l’Organisation Mondiale de la Santé depuis 1992. L’objectif de cette journée est de sensibiliser les gouvernements\, les institutions et les médias sur la situation des personnes qui souffrent de ces maladies orphelines (c’est à-dire\, sans traitement\, ni prise en charge\, et incurable dans l’état actuel des connaissances et des moyens). \nÀ cette occasion\, le groupe « Mots pour maux » vous invite à visiter son stand d’informations situé dans le hall du CHU Tivoli.  \nNous proposerons également 2 ateliers  de 13h à 15h : « Pleine conscience » et « Qi Gong » \n\nIntervenantes : Géraldine Dujardin et Leslie Lion\, animatrices et Carine Delgambe\, professeure de Qi Gong\nRenseignements : 071/507 820 – fps.cs@solidaris.be
URL:https://www.soralia.be/accueil/event/journee-de-la-fibromyalgie-2/
LOCATION:CHU Tivoli\, Avenue Max Buset 34\, La Louvière\, 7100\, Belgique
CATEGORIES:Centre & Soignies,Régional,Santé,Thèmes
ATTACH;FMTTYPE=image/png:https://www.soralia.be/wp-content/uploads/2017/01/calendrier-mai.png
ORGANIZER;CN="FPS Centre & Soignies":MAILTO:fps.cs@solidaris.be
END:VEVENT
BEGIN:VEVENT
DTSTART;VALUE=DATE:20170513
DTEND;VALUE=DATE:20170514
DTSTAMP:20260425T142530
CREATED:20170504T092659Z
LAST-MODIFIED:20170504T092659Z
UID:10003808-1494633600-1494719999@www.soralia.be
SUMMARY:Journée Bien-être
DESCRIPTION:Outre nos animations proposées tout au long de l’année\, nous aimons participer à des plus grands événements tels que les salons bien-être\, famille\, santé… Cela nous permet de vous rencontrer autrement. \nNous serons présentes à la journée Bien-être organisée à Strépy-Bracquegnies durant laquelle beaucoup d’activités vous seront proposées : découverte de la Marche Nordique\, yoga du rire\, balade contée… \nParmi toutes ces activités\, Deborah vous invite à sa conférence sur la gestion du stress de 13h30 à 15h \nIntervenante : Deborah Barbarossa\, animatrice \nProgramme et Inscriptions : 064/521 730
URL:https://www.soralia.be/accueil/event/journee-bien-etre/
LOCATION:Bibliothèque communale de Strépy\, Place de Bracquegnies 1\, Strépy-Bracquegnies\, 7110\, Belgique
CATEGORIES:Centre & Soignies,Familles,Régional,Thèmes
ATTACH;FMTTYPE=image/png:https://www.soralia.be/wp-content/uploads/2017/01/calendrier-mai.png
ORGANIZER;CN="FPS Centre & Soignies":MAILTO:fps.cs@solidaris.be
END:VEVENT
END:VCALENDAR