BEGIN:VCALENDAR
VERSION:2.0
PRODID:-//Soralia - ECPv6.15.17.1//NONSGML v1.0//EN
CALSCALE:GREGORIAN
METHOD:PUBLISH
X-ORIGINAL-URL:https://www.soralia.be/accueil
X-WR-CALDESC:Évènements pour Soralia
REFRESH-INTERVAL;VALUE=DURATION:PT1H
X-Robots-Tag:noindex
X-PUBLISHED-TTL:PT1H
BEGIN:VTIMEZONE
TZID:Europe/Paris
BEGIN:DAYLIGHT
TZOFFSETFROM:+0100
TZOFFSETTO:+0200
TZNAME:CEST
DTSTART:20200329T010000
END:DAYLIGHT
BEGIN:STANDARD
TZOFFSETFROM:+0200
TZOFFSETTO:+0100
TZNAME:CET
DTSTART:20201025T010000
END:STANDARD
BEGIN:DAYLIGHT
TZOFFSETFROM:+0100
TZOFFSETTO:+0200
TZNAME:CEST
DTSTART:20210328T010000
END:DAYLIGHT
BEGIN:STANDARD
TZOFFSETFROM:+0200
TZOFFSETTO:+0100
TZNAME:CET
DTSTART:20211031T010000
END:STANDARD
BEGIN:DAYLIGHT
TZOFFSETFROM:+0100
TZOFFSETTO:+0200
TZNAME:CEST
DTSTART:20220327T010000
END:DAYLIGHT
BEGIN:STANDARD
TZOFFSETFROM:+0200
TZOFFSETTO:+0100
TZNAME:CET
DTSTART:20221030T010000
END:STANDARD
END:VTIMEZONE
BEGIN:VEVENT
DTSTART;TZID=Europe/Paris:20210531T100000
DTEND;TZID=Europe/Paris:20210531T130000
DTSTAMP:20260424T232831
CREATED:20210517T093213Z
LAST-MODIFIED:20210517T155320Z
UID:10005094-1622455200-1622466000@www.soralia.be
SUMMARY:Balade -Bains de Forêt
DESCRIPTION:Découvrez les bienfaits des « Bains de Forêt »\nOffrez-vous\, en compagnie de notre thérapeute\, 3 heures de déconnexion totale en forêt pour ressentir un bien-être tant physique que mental ! \nQuand ?\nSoit le samedi 22 mai de 10h 13h\, \nSoit le samedi 29 mai de 10h 13h\, \nSoit le samedi 12 juin de 10h 13h \nOù ?\nEn Forêt de Soignes (départ d’Auderghem) \nCombien ?\n20 euros \nRenseignements :\n02/546 14 07 \nfps-ateliersante@fmsdb.be \n 
URL:https://www.soralia.be/accueil/event/bains-de-foret/2021-05-31/
LOCATION:Forêt de Soignes\, Auderghem\, Belgique
CATEGORIES:Bruxelles,Familles,Général,Loisirs,Régional,Santé,Thèmes
ATTACH;FMTTYPE=image/png:https://www.soralia.be/wp-content/uploads/2017/01/calendrier-mai.png
END:VEVENT
BEGIN:VEVENT
DTSTART;TZID=Europe/Paris:20210601T140000
DTEND;TZID=Europe/Paris:20210601T150000
DTSTAMP:20260424T232831
CREATED:20210528T092257Z
LAST-MODIFIED:20210531T071212Z
UID:10005168-1622556000-1622559600@www.soralia.be
SUMMARY:Les chroniques du Potager de Nicole : le secret des jardinier‧e‧s détendu‧e‧s
DESCRIPTION:Envie de vous lancer dans l’aventure d’un potager ? Vous hésitez ? Vous doutez ? Et vous auriez bien besoin d’un petit coup de pouce (vert) pour vous guider ? Alors ces petites chroniques de notre ancienne collègue Nicole sont faites pour vous ! Ensemble nous suivrons\, en temps réel\, les travaux au potager durant toute la saison… C’est gratuit ! Bienvenue à toutes et tous ! Et si vous avez de l’expérience que vous voulez partager\, bienvenu‧e également ! \nModalités\nLe 1er juin 2021 à 14h via le lien zoom suivant : https://us02web.zoom.us/j/84876618178 \nGratuit. Bienvenue à toutes et tous !\nCette animation est proposée par Soralia de Liège et de Verviers.
URL:https://www.soralia.be/accueil/event/les-chroniques-du-potager-de-nicole-le-secret-des-jardinier%e2%80%a7e%e2%80%a7s-detendu%e2%80%a7e%e2%80%a7s/
LOCATION:Zoom
CATEGORIES:Général,Liège,Régional,Santé,Thèmes
ATTACH;FMTTYPE=image/png:https://www.soralia.be/wp-content/uploads/2017/01/calendrier-juin.png
ORGANIZER;CN="FPS Li%C3%A8ge":MAILTO:associations.liege@solidaris.be
END:VEVENT
END:VCALENDAR