BEGIN:VCALENDAR
VERSION:2.0
PRODID:-//Soralia - ECPv6.15.17.1//NONSGML v1.0//EN
CALSCALE:GREGORIAN
METHOD:PUBLISH
X-ORIGINAL-URL:https://www.soralia.be/accueil
X-WR-CALDESC:Évènements pour Soralia
REFRESH-INTERVAL;VALUE=DURATION:PT1H
X-Robots-Tag:noindex
X-PUBLISHED-TTL:PT1H
BEGIN:VTIMEZONE
TZID:Europe/Paris
BEGIN:DAYLIGHT
TZOFFSETFROM:+0100
TZOFFSETTO:+0200
TZNAME:CEST
DTSTART:20200329T010000
END:DAYLIGHT
BEGIN:STANDARD
TZOFFSETFROM:+0200
TZOFFSETTO:+0100
TZNAME:CET
DTSTART:20201025T010000
END:STANDARD
BEGIN:DAYLIGHT
TZOFFSETFROM:+0100
TZOFFSETTO:+0200
TZNAME:CEST
DTSTART:20210328T010000
END:DAYLIGHT
BEGIN:STANDARD
TZOFFSETFROM:+0200
TZOFFSETTO:+0100
TZNAME:CET
DTSTART:20211031T010000
END:STANDARD
BEGIN:DAYLIGHT
TZOFFSETFROM:+0100
TZOFFSETTO:+0200
TZNAME:CEST
DTSTART:20220327T010000
END:DAYLIGHT
BEGIN:STANDARD
TZOFFSETFROM:+0200
TZOFFSETTO:+0100
TZNAME:CET
DTSTART:20221030T010000
END:STANDARD
END:VTIMEZONE
BEGIN:VEVENT
DTSTART;TZID=Europe/Paris:20210712T080000
DTEND;TZID=Europe/Paris:20210826T170000
DTSTAMP:20260422T113242
CREATED:20210519T141310Z
LAST-MODIFIED:20210520T080732Z
UID:10005167-1626076800-1629997200@www.soralia.be
SUMMARY:Activités - Un été pas comme les autres 2021
DESCRIPTION:Cet été\, le réseau associatif de Solidaris vous a concocté « Un été pas comme les autres » avec une programmation d’enfer !\nLa formule au grand air a rencontré un grand enthousiasme en 2020\, c’est pourquoi nous réitérons l’expérience. Ce sera en grande partie au Centre de délassement de Marcinelle que nous vous accueillerons entre le 12 juillet et le 5 août 2021\, mais aussi sur l’ensemble de notre régionale durant les mois de juillet et août. \nAu programme de cet été : remise en forme\, créativité\, bien-être\, contacts avec la nature\, divertissements\, et bien d’autres choses encore vous seront proposées. \nSi vous souhaitez recevoir le folder de notre « été pas comme les autres » ? Contactez-nous au 071/507.812-814-819-821 du lundi au vendredi de 9h à 12h. \nPour visualiser tout le programme c’est ici : Charleroi-Programme-ete-2021 \nA noter que le début des inscriptions se fera à partir du lundi 31 mai. Aucune inscriptions ne sera prise en compte avant cette date.
URL:https://www.soralia.be/accueil/event/activites-un-ete-pas-comme-les-autres-2021/
LOCATION:centre de délassement à Marcinelle\, Avenue des Muguets 16\, Marcinelle\, Hainaut\, 6001\, Belgique
CATEGORIES:Charleroi,Général,Loisirs,Régional,Santé,Thèmes
ATTACH;FMTTYPE=image/png:https://www.soralia.be/wp-content/uploads/2017/01/calendrier-juillet.png
END:VEVENT
BEGIN:VEVENT
DTSTART;VALUE=DATE:20210816
DTEND;VALUE=DATE:20210823
DTSTAMP:20260422T113242
CREATED:20210608T090531Z
LAST-MODIFIED:20210608T090531Z
UID:10005181-1629072000-1629676799@www.soralia.be
SUMMARY:Semaine bien-être
DESCRIPTION:UNE SEMAINE POUR SE RESSOURCER DANS TOUT LE BRABANT WALLON\nAprès des mois de confinement\, il est temps de prendre du temps pour soi\, de se ressourcer et d’évacuer toutes les tensions et le stress liés à la crise qui nous a frappés. C’est pourquoi le réseau associatif de Solidaris Brabant wallon vous a concocté\, du 16 au 22 août\, une semaine orientée bien-être. Au programme\, des activités pour tous qui vous permettront d’affronter la rentrée de septembre en toute sérénité. Alors\, n’hésitez pas et rejoignez-nous ! \nDemandez le programme : programme semaine bien-être été 2021 \nINFORMATIONS ET INSCRIPTIONS :\nfps.bw@solidaris.be ou au 0473/53.68.28\nLe nombre d’inscriptions est limité pour chaque atelier\, alors n’attendez pas pour vous inscrire. Votre inscription sera validée une fois le paiement effectué. \nLe paiement est à faire sur le compte des FPS Brabant wallon : BE24 8777 1270 0338. En communication\, SEMAINE\nBIEN-ETRE + NOM DE FAMILLE + NOM DE L’ATELIER. \nL’organisation de cette semaine bien-être est prévue dans le respect des mesures sanitaires en vigueur et donc sous réserve ou adaptations. Un nombre insuffisant de participant.e.s entraînera également l’annulation des ateliers concernés.
URL:https://www.soralia.be/accueil/event/semaine-bien-etre/
LOCATION:Brabant wallon
CATEGORIES:Brabant wallon,Général,Régional,Santé,Thèmes
ATTACH;FMTTYPE=image/png:https://www.soralia.be/wp-content/uploads/2017/01/calendrier-aout.png
ORGANIZER;CN="FPS Brabant wallon":MAILTO:fpsbw@solidaris.be
END:VEVENT
BEGIN:VEVENT
DTSTART;TZID=Europe/Paris:20210816T100000
DTEND;TZID=Europe/Paris:20210816T120000
DTSTAMP:20260422T113242
CREATED:20210609T065333Z
LAST-MODIFIED:20210609T065333Z
UID:10005186-1629108000-1629115200@www.soralia.be
SUMMARY:Semaine bien-être en Brabant wallon : atelier peinture - la technique du "pouring"
DESCRIPTION:Le « pouring » (verser en anglais) est une technique apaisante\, utilisant de la peinture acrylique fluide que l’on verse sur un support. Il existe différentes manières de verser la peinture ce qui permet d’obtenir des rendus plutôt variés. Le résultat est généralement aléatoire mais toujours magique !\nIntervenante : Sandrine Hardat\, animatrice arts plastiques\nFacebook : Artsand\nPublic adulte
URL:https://www.soralia.be/accueil/event/semaine-bien-etre-en-brabant-wallon-atelier-peinture-la-technique-du-pouring/
LOCATION:Walhain\, Belgique
CATEGORIES:Brabant wallon,Loisirs,Régional,Santé,Thèmes
ORGANIZER;CN="FPS Brabant wallon":MAILTO:fpsbw@solidaris.be
END:VEVENT
BEGIN:VEVENT
DTSTART;TZID=Europe/Paris:20210816T100000
DTEND;TZID=Europe/Paris:20210816T130000
DTSTAMP:20260422T113242
CREATED:20210517T093213Z
LAST-MODIFIED:20210517T155320Z
UID:10005105-1629108000-1629118800@www.soralia.be
SUMMARY:Balade -Bains de Forêt
DESCRIPTION:Découvrez les bienfaits des « Bains de Forêt »\nOffrez-vous\, en compagnie de notre thérapeute\, 3 heures de déconnexion totale en forêt pour ressentir un bien-être tant physique que mental ! \nQuand ?\nSoit le samedi 22 mai de 10h 13h\, \nSoit le samedi 29 mai de 10h 13h\, \nSoit le samedi 12 juin de 10h 13h \nOù ?\nEn Forêt de Soignes (départ d’Auderghem) \nCombien ?\n20 euros \nRenseignements :\n02/546 14 07 \nfps-ateliersante@fmsdb.be \n 
URL:https://www.soralia.be/accueil/event/bains-de-foret/2021-08-16/
LOCATION:Forêt de Soignes\, Auderghem\, Belgique
CATEGORIES:Bruxelles,Familles,Général,Loisirs,Régional,Santé,Thèmes
ATTACH;FMTTYPE=image/png:https://www.soralia.be/wp-content/uploads/2017/01/calendrier-mai.png
END:VEVENT
BEGIN:VEVENT
DTSTART;TZID=Europe/Paris:20210816T130000
DTEND;TZID=Europe/Paris:20210816T150000
DTSTAMP:20260422T113242
CREATED:20210609T070003Z
LAST-MODIFIED:20210609T070003Z
UID:10005187-1629118800-1629126000@www.soralia.be
SUMMARY:Semaine bien-être en Brabant wallon : atelier initiation à la sophrologie
DESCRIPTION:Grâce à la voix de notre intervenante\, suivez un chemin personnalisé qui vous amenera à une détente mentale et corporelle.\nIntervenante : Alice Namèche\, Kinésithérapeute et psychomotricienne relationnelle.\nPublic adulte
URL:https://www.soralia.be/accueil/event/semaine-bien-etre-en-brabant-wallon-atelier-initiation-a-la-sophrologie/
LOCATION:Solidaris Nivelles\, Rue Saint André 1\, Nivelles\, 1400\, Belgique
CATEGORIES:Brabant wallon,Loisirs,Régional,Santé,Thèmes
ORGANIZER;CN="FPS Brabant wallon":MAILTO:fpsbw@solidaris.be
END:VEVENT
BEGIN:VEVENT
DTSTART;TZID=Europe/Paris:20210816T140000
DTEND;TZID=Europe/Paris:20210816T160000
DTSTAMP:20260422T113242
CREATED:20210609T070144Z
LAST-MODIFIED:20210609T070144Z
UID:10005188-1629122400-1629129600@www.soralia.be
SUMMARY:Semaine bien-être en Brabant wallon : atelier de peinture - la technique du "pouring"
DESCRIPTION:Le « pouring » (verser en anglais) est une technique apaisante\, utilisant de la peinture acrylique fluide que l’on verse sur un support. Il existe différentes manières de verser la peinture ce qui permet d’obtenir des rendus plutôt variés. Le résultat est généralement aléatoire mais toujours magique !\nIntervenante : Sandrine Hardat\, animatrice arts plastiques\nFacebook : Artsand\nPublic adulte
URL:https://www.soralia.be/accueil/event/semaine-bien-etre-en-brabant-wallon-atelier-de-peinture-la-technique-du-pouring/
LOCATION:Walhain\, Belgique
CATEGORIES:Brabant wallon,Loisirs,Régional,Santé,Thèmes
ORGANIZER;CN="FPS Brabant wallon":MAILTO:fpsbw@solidaris.be
END:VEVENT
BEGIN:VEVENT
DTSTART;TZID=Europe/Paris:20210817T100000
DTEND;TZID=Europe/Paris:20210817T120000
DTSTAMP:20260422T113242
CREATED:20210609T070336Z
LAST-MODIFIED:20210609T070336Z
UID:10005189-1629194400-1629201600@www.soralia.be
SUMMARY:Semaine bien-être en Brabant wallon : atelier de marche consciente
DESCRIPTION:Venez vous éveiller à la conscience de soi et découvrir ou redécouvrir les effets bénéfiques de la respiration consciente au gré des chemins forestiers\, cadre naturel et ressourçant par essence.\nIntervenante : Bernadette Degroote\, Sophrologue et Haptonome\, www.osons.be\nPublic adulte
URL:https://www.soralia.be/accueil/event/semaine-bien-etre-en-brabant-wallon-atelier-de-marche-consciente/
LOCATION:Villers-la-Ville\, Belgique
CATEGORIES:Brabant wallon,Loisirs,Régional,Santé,Thèmes
ORGANIZER;CN="FPS Brabant wallon":MAILTO:fpsbw@solidaris.be
END:VEVENT
BEGIN:VEVENT
DTSTART;TZID=Europe/Paris:20210817T133000
DTEND;TZID=Europe/Paris:20210817T153000
DTSTAMP:20260422T113242
CREATED:20210609T070550Z
LAST-MODIFIED:20210609T070550Z
UID:10005190-1629207000-1629214200@www.soralia.be
SUMMARY:Semaine bien-être en Brabant wallon : atelier snoez'move
DESCRIPTION:Venez essayer de gérer votre stress et vos émotions avec cette séance de snoez’move : des mouvements corporels simples et des exercices de respiration en pleine conscience.\nIntervenante : Déborah Lamonica\, Snoezelen\, Mieux-Être Corporel & Coaching\nPublic adulte
URL:https://www.soralia.be/accueil/event/semaine-bien-etre-en-brabant-wallon-atelier-snoezmove/
LOCATION:Solidaris Nivelles\, Rue Saint André 1\, Nivelles\, 1400\, Belgique
CATEGORIES:Brabant wallon,Loisirs,Régional,Santé,Thèmes
END:VEVENT
BEGIN:VEVENT
DTSTART;TZID=Europe/Paris:20210817T183000
DTEND;TZID=Europe/Paris:20210817T200000
DTSTAMP:20260422T113242
CREATED:20210609T070723Z
LAST-MODIFIED:20210706T123757Z
UID:10005191-1629225000-1629230400@www.soralia.be
SUMMARY:Conférence sur les produits cosmétiques naturels
DESCRIPTION:Au travers de cette conférence\, Rachel Dipinto\, esthéticienne\, herboriste et aromathérapeute\, vous transmettra son savoir et ses précieux conseils sur la cosmétique naturelle.\nIntervenante : Rachel Dipinto – www.rachelessentielle.be\nPublic adulte
URL:https://www.soralia.be/accueil/event/semaine-bien-etre-en-brabant-wallon-conference-sur-les-produits-cosmetiques-naturels/
LOCATION:Solidaris Nivelles\, Rue Saint André 1\, Nivelles\, 1400\, Belgique
CATEGORIES:Brabant wallon,Général,Loisirs,Régional,Santé,Thèmes
ATTACH;FMTTYPE=image/png:https://www.soralia.be/wp-content/uploads/2017/01/calendrier-aout.png
ORGANIZER;CN="FPS Brabant wallon":MAILTO:fpsbw@solidaris.be
END:VEVENT
BEGIN:VEVENT
DTSTART;TZID=Europe/Paris:20210818T090000
DTEND;TZID=Europe/Paris:20210818T100000
DTSTAMP:20260422T113242
CREATED:20210609T071833Z
LAST-MODIFIED:20210609T071833Z
UID:10005192-1629277200-1629280800@www.soralia.be
SUMMARY:Semaine bien-être en Brabant wallon : atelier découverte du yoga en famille
DESCRIPTION:Au travers de cette découverte du Yoga\, nous vous proposons des exercices en duo parent – enfant pour renforcer le lien tout en s’amusant.\nIntervenante : Sophie Bocquet\, professeur de hatha yoga et coach de vie en ayurveda
URL:https://www.soralia.be/accueil/event/semaine-bien-etre-en-brabant-wallon-atelier-decouverte-du-yoga-en-famille/
LOCATION:Wavre
CATEGORIES:Brabant wallon,Familles,Loisirs,Régional,Santé,Thèmes
ORGANIZER;CN="FPS Brabant wallon":MAILTO:fpsbw@solidaris.be
END:VEVENT
BEGIN:VEVENT
DTSTART;TZID=Europe/Paris:20210818T183000
DTEND;TZID=Europe/Paris:20210818T203000
DTSTAMP:20260422T113242
CREATED:20210609T072016Z
LAST-MODIFIED:20210609T072016Z
UID:10005193-1629311400-1629318600@www.soralia.be
SUMMARY:Semaine bien-être en Brabant wallon : atelier de gestion du stress
DESCRIPTION:Vous voulez comprendre les effets du stress au quotidien et découvrir des trucs et astuces pour mieux le gérer ? Cet atelier est fait pour vous !\nIntervenante : Rolanda Antonacci\, animatrice de groupe collectif sur la gestion du stress\nPublic adulte
URL:https://www.soralia.be/accueil/event/semaine-bien-etre-en-brabant-wallon-atelier-de-gestion-du-stress/
LOCATION:Solidaris Nivelles\, Rue Saint André 1\, Nivelles\, 1400\, Belgique
CATEGORIES:Brabant wallon,Loisirs,Régional,Santé,Thèmes
ORGANIZER;CN="FPS Brabant wallon":MAILTO:fpsbw@solidaris.be
END:VEVENT
BEGIN:VEVENT
DTSTART;TZID=Europe/Paris:20210819T090000
DTEND;TZID=Europe/Paris:20210819T113000
DTSTAMP:20260422T113242
CREATED:20210608T114908Z
LAST-MODIFIED:20210608T115640Z
UID:10005184-1629363600-1629372600@www.soralia.be
SUMMARY:Rencontres - Femmes du "futur pluriel"
DESCRIPTION:Rencontres collectives\nTemps de parole et d’expression sur des sujets variés sur la quotidien des femmes.\nUn moment de convivialité\, où le rire est au rendez-vous. \nOuvert aux femmes à partir de 18 ans.\nMaximum 10 personnes \nLieu : locaux Solidaris à Frameries\nLes dates : les 15 juillet\, 5 août et 19 août de 9h30 à 11h30 \nInformation- Inscription : Service animation des FPS – 068/84 82 51 – Fps.315@solidaris.be
URL:https://www.soralia.be/accueil/event/rencontres-femmes-du-futur-pluriel/2021-08-19/
LOCATION:Solidaris Frameries\, Avenue des Nouvelles Technologies\, 24\, Frameries\, Hainaut\, 7080\, Belgique
CATEGORIES:Egalité femme-homme,Général,Mons-Borinage,Régional,Thèmes
ATTACH;FMTTYPE=image/png:https://www.soralia.be/wp-content/uploads/2017/01/calendrier-juillet.png
ORGANIZER;CN="FPS Mons Borinage":MAILTO:fps.315@solidaris.be
END:VEVENT
BEGIN:VEVENT
DTSTART;TZID=Europe/Paris:20210819T090000
DTEND;TZID=Europe/Paris:20210819T120000
DTSTAMP:20260422T113242
CREATED:20210609T072216Z
LAST-MODIFIED:20210609T072216Z
UID:10005194-1629363600-1629374400@www.soralia.be
SUMMARY:Semaine bien-être en Brabant wallon : atelier découverte de la marche nordique
DESCRIPTION:La marche nordique vous a toujours tenté ? Alors\, venez vous approprier les gestes techniques sur un terrain d’entrainement et\, ensuite\, les mettre en pratique lors d’une balade de 5 km au Bois de Lauzelle.\nIntervenant : Didier Dekeyzer\, Moniteur/Formateur BungyPump et Moniteur de Marche Nordique ADEPS\, www.nordic-zen.be\nPublic adulte (bonne condition physique requise)
URL:https://www.soralia.be/accueil/event/semaine-bien-etre-en-brabant-wallon-atelier-decouverte-de-la-marche-nordique/
LOCATION:Louvain-la-Neuve\, Belgique
CATEGORIES:Brabant wallon,Loisirs,Régional,Santé,Thèmes
ORGANIZER;CN="FPS Brabant wallon":MAILTO:fpsbw@solidaris.be
END:VEVENT
BEGIN:VEVENT
DTSTART;TZID=Europe/Paris:20210819T130000
DTEND;TZID=Europe/Paris:20210819T160000
DTSTAMP:20260422T113242
CREATED:20210609T072718Z
LAST-MODIFIED:20210609T072718Z
UID:10005195-1629378000-1629388800@www.soralia.be
SUMMARY:Semaine bien-être en Brabant wallon : atelier découverte "home organising"
DESCRIPTION:Vous avez l’impression de courir après le temps\, de ranger sans cesse et que le désordre revient aussi vite ? Vous avez envie de retrouver de l’énergie pour vous\, des loisirs ou profiter davantage de vos enfants ? Cet atelier est fait pour vous !\nIntervenante : Barbara Bougelet – Une souris chez moi – www.unesourischezmoi.com\nPublic adulte
URL:https://www.soralia.be/accueil/event/semaine-bien-etre-en-brabant-wallon-atelier-decouverte-home-organising/
LOCATION:Solidaris Nivelles\, Rue Saint André 1\, Nivelles\, 1400\, Belgique
CATEGORIES:Brabant wallon,Loisirs,Régional,Santé,Thèmes
ORGANIZER;CN="FPS Brabant wallon":MAILTO:fpsbw@solidaris.be
END:VEVENT
BEGIN:VEVENT
DTSTART;TZID=Europe/Paris:20210820T093000
DTEND;TZID=Europe/Paris:20210820T160000
DTSTAMP:20260422T113242
CREATED:20210609T073003Z
LAST-MODIFIED:20210609T073003Z
UID:10005196-1629451800-1629475200@www.soralia.be
SUMMARY:Semaine bien-être en Brabant wallon : atelier conseils en image
DESCRIPTION:Vous souhaitez découvrir les couleurs et nuances qui mettent en valeur votre teint ? Vous avez envie de mettre en valeur votre silhouette\, mieux connaître vos atouts\, ainsi que votre style ? Alors\, bienvenue à notre journée conseils en image !\nIntervenante : Mélinda Liberto – Psychologue de formation et conseillère en image\nwww.melinda-relooking.com\nPublic adulte
URL:https://www.soralia.be/accueil/event/semaine-bien-etre-en-brabant-wallon-atelier-conseils-en-image/
LOCATION:Solidaris Nivelles\, Rue Saint André 1\, Nivelles\, 1400\, Belgique
CATEGORIES:Brabant wallon,Loisirs,Régional,Santé,Thèmes
ORGANIZER;CN="FPS Brabant wallon":MAILTO:fpsbw@solidaris.be
END:VEVENT
BEGIN:VEVENT
DTSTART;TZID=Europe/Paris:20210820T100000
DTEND;TZID=Europe/Paris:20210820T120000
DTSTAMP:20260422T113242
CREATED:20210609T073202Z
LAST-MODIFIED:20210609T073202Z
UID:10005197-1629453600-1629460800@www.soralia.be
SUMMARY:Semaine bien-être en Brabant wallon : créer un hôtel pour insectes
DESCRIPTION:Semblable à un chalet en bois format mini\, l’hôtel à insectes est\, comme son nom l’indique\, un refuge pour la petite faune du jardin. Venez créer\, en duo parent-enfant\, le vôtre et faire le bonheur des insectes qui habitent votre jardin.
URL:https://www.soralia.be/accueil/event/semaine-bien-etre-en-brabant-wallon-creer-un-hotel-pour-insectes/
LOCATION:Walhain\, Belgique
CATEGORIES:Brabant wallon,Familles,Loisirs,Régional,Santé,Thèmes
ORGANIZER;CN="FPS Brabant wallon":MAILTO:fpsbw@solidaris.be
END:VEVENT
BEGIN:VEVENT
DTSTART;TZID=Europe/Paris:20210820T140000
DTEND;TZID=Europe/Paris:20210820T160000
DTSTAMP:20260422T113242
CREATED:20210609T073333Z
LAST-MODIFIED:20210609T073333Z
UID:10005198-1629468000-1629475200@www.soralia.be
SUMMARY:Semaine bien-être en Brabant wallon : créer un hôtel à insectes
DESCRIPTION:Semblable à un chalet en bois format mini\, l’hôtel à insectes est\, comme son nom l’indique\, un refuge pour la petite faune du jardin. Venez créer\, en duo parent-enfant\, le vôtre et faire le bonheur des insectes qui habitent votre jardin.
URL:https://www.soralia.be/accueil/event/semaine-bien-etre-en-brabant-wallon-creer-un-hotel-a-insectes/
LOCATION:Walhain\, Belgique
CATEGORIES:Brabant wallon,Familles,Loisirs,Régional,Santé,Thèmes
ORGANIZER;CN="FPS Brabant wallon":MAILTO:fpsbw@solidaris.be
END:VEVENT
BEGIN:VEVENT
DTSTART;TZID=Europe/Paris:20210820T170000
DTEND;TZID=Europe/Paris:20210820T183000
DTSTAMP:20260422T113242
CREATED:20210609T073515Z
LAST-MODIFIED:20210609T073515Z
UID:10005199-1629478800-1629484200@www.soralia.be
SUMMARY:Semaine bien-être en Brabant wallon : atelier découverte du yoga pour adultes
DESCRIPTION:Au travers de cette découverte du Yoga\, nous vous proposons un moment de détente et une occasion de se reconnecter à son énergie féminine.\nIntervenante : Sophie Bocquet\, professeur de hatha yoga et coach de vie en ayurveda.
URL:https://www.soralia.be/accueil/event/semaine-bien-etre-en-brabant-wallon-atelier-decouverte-du-yoga-pour-adultes/
LOCATION:Wavre
CATEGORIES:Brabant wallon,Loisirs,Régional,Santé,Thèmes
ORGANIZER;CN="FPS Brabant wallon":MAILTO:fpsbw@solidaris.be
END:VEVENT
BEGIN:VEVENT
DTSTART;TZID=Europe/Paris:20210821T133000
DTEND;TZID=Europe/Paris:20210821T160000
DTSTAMP:20260422T113242
CREATED:20210609T073649Z
LAST-MODIFIED:20210609T073649Z
UID:10005200-1629552600-1629561600@www.soralia.be
SUMMARY:Semaine bien-être en Brabant wallon : balade plantes comestibles
DESCRIPTION:Une balade à la rencontre des plantes comestibles pour apprendre à les reconnaître\, éviter les confusions\, savoir quelle partie utiliser\, consommer cru ou cuit… Une sortie instructive tout en douceur et en convivialité.\nIntervenant : Cuisine sauvage ASBL\nPublic adulte
URL:https://www.soralia.be/accueil/event/semaine-bien-etre-en-brabant-wallon-balade-plantes-comestibles/
LOCATION:Perwez\, Belgique
CATEGORIES:Brabant wallon,Loisirs,Régional,Santé,Thèmes
ORGANIZER;CN="FPS Brabant wallon":MAILTO:fpsbw@solidaris.be
END:VEVENT
BEGIN:VEVENT
DTSTART;TZID=Europe/Paris:20210822T100000
DTEND;TZID=Europe/Paris:20210822T130000
DTSTAMP:20260422T113242
CREATED:20210609T073834Z
LAST-MODIFIED:20210609T073834Z
UID:10005201-1629626400-1629637200@www.soralia.be
SUMMARY:Semaine bien-être en Brabant wallon : marche santé
DESCRIPTION:La marche est une excellente pratique pour le corps et l’esprit et c’est prouvé scientifiquement ! Rejoignez-nous pour une chouette balade suivie d’une dégustation de recettes santé.\nIntervenante : Jessica Gillain – chargée de projets à l’ASBW\nTous public
URL:https://www.soralia.be/accueil/event/semaine-bien-etre-en-brabant-wallon-marche-sante/
LOCATION:Solidaris Nivelles\, Rue Saint André 1\, Nivelles\, 1400\, Belgique
CATEGORIES:Brabant wallon,Familles,Loisirs,Régional,Santé,Thèmes
ORGANIZER;CN="FPS Brabant wallon":MAILTO:fpsbw@solidaris.be
END:VEVENT
BEGIN:VEVENT
DTSTART;TZID=Europe/Paris:20210822T140000
DTEND;TZID=Europe/Paris:20210822T160000
DTSTAMP:20260422T113242
CREATED:20210609T074026Z
LAST-MODIFIED:20210706T123631Z
UID:10005202-1629640800-1629648000@www.soralia.be
SUMMARY:Balade d'initiation à la photographie
DESCRIPTION:Si vous aimez vous balader et que vous avez toujours voulu garder des traces de vos escapades\, rejoignez-nous pour cette promenade d’initiation à la photographie.\nIntervenants : Frédéric Legros – photographe et Pierre Lagneaux – graphiste réseau associatif Solidaris Brabant wallon et journaliste indépendant
URL:https://www.soralia.be/accueil/event/semaine-bien-etre-en-brabant-wallon-balade-dinitiation-a-la-photographie/
LOCATION:Solidaris Nivelles\, Rue Saint André 1\, Nivelles\, 1400\, Belgique
CATEGORIES:Brabant wallon,Général,Loisirs,Régional,Santé,Thèmes
ATTACH;FMTTYPE=image/png:https://www.soralia.be/wp-content/uploads/2017/01/calendrier-aout.png
ORGANIZER;CN="FPS Brabant wallon":MAILTO:fpsbw@solidaris.be
END:VEVENT
END:VCALENDAR