BEGIN:VCALENDAR
VERSION:2.0
PRODID:-//Soralia - ECPv6.15.17.1//NONSGML v1.0//EN
CALSCALE:GREGORIAN
METHOD:PUBLISH
X-WR-CALNAME:Soralia
X-ORIGINAL-URL:https://www.soralia.be/accueil
X-WR-CALDESC:Évènements pour Soralia
REFRESH-INTERVAL;VALUE=DURATION:PT1H
X-Robots-Tag:noindex
X-PUBLISHED-TTL:PT1H
BEGIN:VTIMEZONE
TZID:Europe/Paris
BEGIN:DAYLIGHT
TZOFFSETFROM:+0100
TZOFFSETTO:+0200
TZNAME:CEST
DTSTART:20200329T010000
END:DAYLIGHT
BEGIN:STANDARD
TZOFFSETFROM:+0200
TZOFFSETTO:+0100
TZNAME:CET
DTSTART:20201025T010000
END:STANDARD
BEGIN:DAYLIGHT
TZOFFSETFROM:+0100
TZOFFSETTO:+0200
TZNAME:CEST
DTSTART:20210328T010000
END:DAYLIGHT
BEGIN:STANDARD
TZOFFSETFROM:+0200
TZOFFSETTO:+0100
TZNAME:CET
DTSTART:20211031T010000
END:STANDARD
BEGIN:DAYLIGHT
TZOFFSETFROM:+0100
TZOFFSETTO:+0200
TZNAME:CEST
DTSTART:20220327T010000
END:DAYLIGHT
BEGIN:STANDARD
TZOFFSETFROM:+0200
TZOFFSETTO:+0100
TZNAME:CET
DTSTART:20221030T010000
END:STANDARD
END:VTIMEZONE
BEGIN:VEVENT
DTSTART;TZID=Europe/Paris:20210712T080000
DTEND;TZID=Europe/Paris:20210826T170000
DTSTAMP:20260421T212031
CREATED:20210519T141310Z
LAST-MODIFIED:20210520T080732Z
UID:10005167-1626076800-1629997200@www.soralia.be
SUMMARY:Activités - Un été pas comme les autres 2021
DESCRIPTION:Cet été\, le réseau associatif de Solidaris vous a concocté « Un été pas comme les autres » avec une programmation d’enfer !\nLa formule au grand air a rencontré un grand enthousiasme en 2020\, c’est pourquoi nous réitérons l’expérience. Ce sera en grande partie au Centre de délassement de Marcinelle que nous vous accueillerons entre le 12 juillet et le 5 août 2021\, mais aussi sur l’ensemble de notre régionale durant les mois de juillet et août. \nAu programme de cet été : remise en forme\, créativité\, bien-être\, contacts avec la nature\, divertissements\, et bien d’autres choses encore vous seront proposées. \nSi vous souhaitez recevoir le folder de notre « été pas comme les autres » ? Contactez-nous au 071/507.812-814-819-821 du lundi au vendredi de 9h à 12h. \nPour visualiser tout le programme c’est ici : Charleroi-Programme-ete-2021 \nA noter que le début des inscriptions se fera à partir du lundi 31 mai. Aucune inscriptions ne sera prise en compte avant cette date.
URL:https://www.soralia.be/accueil/event/activites-un-ete-pas-comme-les-autres-2021/
LOCATION:centre de délassement à Marcinelle\, Avenue des Muguets 16\, Marcinelle\, Hainaut\, 6001\, Belgique
CATEGORIES:Charleroi,Général,Loisirs,Régional,Santé,Thèmes
ATTACH;FMTTYPE=image/png:https://www.soralia.be/wp-content/uploads/2017/01/calendrier-juillet.png
END:VEVENT
BEGIN:VEVENT
DTSTART;TZID=Europe/Paris:20210823T093000
DTEND;TZID=Europe/Paris:20210823T103000
DTSTAMP:20260421T212031
CREATED:20210823T150611Z
LAST-MODIFIED:20210823T150611Z
UID:10005285-1629711000-1629714600@www.soralia.be
SUMMARY:Cours de Yoga [COS\, centre sportif de Charleroi]
DESCRIPTION:Nous vous proposons un cours de Yoga.\nMais qu’est-ce que le Yoga?\nC’est une discipline\, une ascèse\, mais aussi l’état d’union qui en découle. Il existe plusieurs types de yoga\, le plus pratiqué en occident étant le hatha yoga. Il s’agit de la pratique des « asanas » ou postures avec une attention conjointe sur la respiration et le mental.\nDans un cadre bienveillant\, à l’écoute\, et sans jugement\, nous vous recevons pour pratiquer et améliorer votre pratique de cette discipline.\n\n\nLe prix s’entend pour 10 séances.\nInscriptions obligatoires au 071/507.821\n  \n 
URL:https://www.soralia.be/accueil/event/cours-de-yoga-cos-centre-sportif-de-charleroi/2021-08-23/
LOCATION:COS\, Centre sportif de Charleroi\, Rue des Olympiades\, 2\, Charleroi\, Hainaut\, 6000\, Belgique
CATEGORIES:Charleroi,Loisirs,Régional
ATTACH;FMTTYPE=image/png:https://www.soralia.be/wp-content/uploads/2017/01/calendrier-sept.png
END:VEVENT
BEGIN:VEVENT
DTSTART;TZID=Europe/Paris:20210823T100000
DTEND;TZID=Europe/Paris:20210823T130000
DTSTAMP:20260421T212031
CREATED:20210517T093213Z
LAST-MODIFIED:20210517T155320Z
UID:10005106-1629712800-1629723600@www.soralia.be
SUMMARY:Balade -Bains de Forêt
DESCRIPTION:Découvrez les bienfaits des « Bains de Forêt »\nOffrez-vous\, en compagnie de notre thérapeute\, 3 heures de déconnexion totale en forêt pour ressentir un bien-être tant physique que mental ! \nQuand ?\nSoit le samedi 22 mai de 10h 13h\, \nSoit le samedi 29 mai de 10h 13h\, \nSoit le samedi 12 juin de 10h 13h \nOù ?\nEn Forêt de Soignes (départ d’Auderghem) \nCombien ?\n20 euros \nRenseignements :\n02/546 14 07 \nfps-ateliersante@fmsdb.be \n 
URL:https://www.soralia.be/accueil/event/bains-de-foret/2021-08-23/
LOCATION:Forêt de Soignes\, Auderghem\, Belgique
CATEGORIES:Bruxelles,Familles,Général,Loisirs,Régional,Santé,Thèmes
ATTACH;FMTTYPE=image/png:https://www.soralia.be/wp-content/uploads/2017/01/calendrier-mai.png
END:VEVENT
BEGIN:VEVENT
DTSTART;TZID=Europe/Paris:20210824T140000
DTEND;TZID=Europe/Paris:20210824T170000
DTSTAMP:20260421T212031
CREATED:20210726T074050Z
LAST-MODIFIED:20210728T121618Z
UID:10005205-1629813600-1629824400@www.soralia.be
SUMMARY:CET ÉTÉ\, VENEZ JOUER AVEC NOUS !
DESCRIPTION:CET ÉTÉ\, VENEZ JOUER AVEC NOUS !\n\nEn 2020\, deux groupes de travail des FPS ont mis au point deux nouveaux outils d’animation que nous avons hâte de vous faire découvrir.\nIl s’agit de deux jeux interactifs portant sur des matières parfois difficiles à aborder avec des groupes et qui par leur caractère ludique rend ces sujets beaucoup plus abordable.\nNous avons eu à maintes reprises l’occasion de collaborer ensemble dans votre association ou dans votre groupe local\, c’est pourquoi nous aimerions vous présenter ces deux nouveautés en avant première. \n\nINDIVIDUALISATION DES DROITS SOCIAUX\n\nL’individualisation des droits ? Derrière ce terme complexe et impossible à répéter plus de trois fois d’affilée sans bafouiller se cache une solution pour une Sécurité sociale plus inclusive\, égalitaire et féministe !\nMais comment rendre ce concept accessible au grand public alors que le sujet reste généralement confiné au cœur des institutions féministes et militantes ? Grâce à un outil pédagogique accessible\, drôle et ancré dans le réel.\n\nLe mardi 24/08/21 de 14h à 17h\nFMSB\, Bd. lemonnier 41 à 1000 bruxelles (2ème étage – salle Mandela/Pierson) \n\n\nParticipation gratuite – Inscription indispensable et infos au 02 546 14 12 ou 13 ou sur fps-fam@fmsb.be (nombre de places limitées) \nAttestation de participation délivrée.
URL:https://www.soralia.be/accueil/event/cet-ete-venez-jouer-avec-nous/
LOCATION:Solidaris Brabant Bd Maurice Lemonnier 41 à 1000 Bruxelles\, Bd Maurice Lemonnier 41\, Bruxelles\, Bruxelles\, 1000\, Belgique
CATEGORIES:Bruxelles,Culture,Droit & Citoyenneté,Egalité femme-homme,Régional,Thèmes
ATTACH;FMTTYPE=image/png:https://www.soralia.be/wp-content/uploads/2017/01/calendrier-aout.png
END:VEVENT
BEGIN:VEVENT
DTSTART;TZID=Europe/Paris:20210825T140000
DTEND;TZID=Europe/Paris:20210825T160000
DTSTAMP:20260421T212031
CREATED:20210614T135220Z
LAST-MODIFIED:20210811T084638Z
UID:10005203-1629900000-1629907200@www.soralia.be
SUMMARY:A la chasse aux clichés
DESCRIPTION:Un dragon\, nommé « Cliché »\, s’est emparé de la ville de Couvin. Il a semé la pagaille : les stéréotypes ont envahi la ville et ne cessent de creuser les inégalités entre filles et garçons. Il est temps de réagir ! Démasquons ensemble les stéréotypes cachés et chassons le dragon de la ville pour rétablir une harmonie entre les filles et les garçons. \nParcours familial parsemé de défis surprenants\, et à l’arrivée\, un défi collectif « étonnant » vous attend ! \nJeu familial et convivial. Parcours d’environ 2km\, accessible aux poussettes
URL:https://www.soralia.be/accueil/event/a-la-chasse-aux-cliches/
LOCATION:Couvin\, place Général Piron\, Couvin\, 5660
CATEGORIES:Egalité femme-homme,Familles,Namur,Régional,Thèmes
ATTACH;FMTTYPE=image/png:https://www.soralia.be/wp-content/uploads/2017/01/calendrier-aout.png
ORGANIZER;CN="FPS Namur":MAILTO:fps.provincenamur@solidaris.be
END:VEVENT
BEGIN:VEVENT
DTSTART;TZID=Europe/Paris:20210826T140000
DTEND;TZID=Europe/Paris:20210826T170000
DTSTAMP:20260421T212031
CREATED:20210726T075009Z
LAST-MODIFIED:20210728T113050Z
UID:10005206-1629986400-1629997200@www.soralia.be
SUMMARY:CET ÉTÉ\, VENEZ JOUER AVEC NOUS !
DESCRIPTION:CET ÉTÉ\, VENEZ JOUER AVEC NOUS !\nEn 2020\,  deux groupes de travail des FPS ont mis au point deux nouveaux outils d’animation que nous avons hâte de vous faire découvrir.\nIl s’agit de deux jeux interactifs portant sur des matières parfois difficiles à aborder avec des groupes et qui par leur caractère ludique rend ces sujets beaucoup plus abordable.\nNous avons eu à maintes reprises l’occasion de collaborer ensemble dans votre association ou dans votre groupe local\, c’est pourquoi nous aimerions vous présenter ces deux nouveautés en avant première. \nFAMILIAL PURSUIT\n\nCet outil prend la forme d’un jeu de plateau  et suit le fil narratif suivant : un personnage malfaisant (nommé « M. Capital ») prend les rênes de Solidar’Land et entreprend de réduire au maximum les dépenses publiques. Le bien-être et les droits des 8 familles du jeu sont alors menacés. Les participant·e·s doivent s’unir pour relever des défis et ainsi contrer la mise en place des mesures nocives. \nAujourd’hui\, et plus que jamais\, face à la précarisation et à l’évolution des formes familiales\, il nous a semblé essentiel de renforcer les familles dans la compréhension de leurs droits des politiques familiales mises en œuvre dans la lasagne institutionnelle. Le jeu permet de répondre à une multitudes de questions de la vie de tous les jours des familles. \nLe jeudi 26/08/21 de 14h à 17\nFMSB\, Bd. lemonnier 41 à 1000 bruxelles (2ème étage – salle Mandela/Pierson) \nParticipation gratuite – Inscription indispensable et infos au 02 546 14 12 ou 13 ou sur fps-fam@fmsb.be (nombre de places limitées) \nAttestation de participation délivrée.
URL:https://www.soralia.be/accueil/event/cet-ete-venez-jouer-avec-nous-2/
LOCATION:Solidaris Brabant Bd Maurice Lemonnier 41 à 1000 Bruxelles\, Bd Maurice Lemonnier 41\, Bruxelles\, Bruxelles\, 1000\, Belgique
CATEGORIES:Bruxelles,Droit & Citoyenneté,Egalité femme-homme,Familles,Régional,Thèmes
ATTACH;FMTTYPE=image/png:https://www.soralia.be/wp-content/uploads/2017/01/calendrier-aout.png
END:VEVENT
BEGIN:VEVENT
DTSTART;TZID=Europe/Paris:20210828T110000
DTEND;TZID=Europe/Paris:20210828T200000
DTSTAMP:20260421T212031
CREATED:20210811T120018Z
LAST-MODIFIED:20210811T120201Z
UID:10005210-1630148400-1630180800@www.soralia.be
SUMMARY:Récolte de vêtements d'enfants & de fournitures scolaires
DESCRIPTION:Soralia de Koekelberg organisent une récolte de vêtements d’enfants et de fournitures scolaires en bon état pour la rentrée de septembre 2021. Les dons seront remis à l’asbl “Le Relais des Mamans Solos” dans le but de soutenir des familles monoparentales. \nles familles monoparentales représentent 10% des ménages en Belgique. Beaucoup d’entre elles sont dans une grande précarité\, même quand la maman ou le papa travaille! \nLes dons peuvent être déposés le samedi 28 août de 11 à 20h à la rue du Jardinier 82 à 1081 KOEKELBERG \nINFOS :\nfps-fam@fmsb.be\n0486 05 54 37
URL:https://www.soralia.be/accueil/event/recolte-de-vetements-denfants-de-fourniture-scolaire/
LOCATION:Rue du Jardinier 82 1081 Koekelberg\, Rue du Jardinier 82 1081 Koekelberg\, Koekelberg\, Bruxelles\, 1081
CATEGORIES:Bruxelles,Familles,parentalité,Régional,Thèmes
ATTACH;FMTTYPE=image/png:https://www.soralia.be/wp-content/uploads/2017/01/calendrier-aout.png
END:VEVENT
END:VCALENDAR