BEGIN:VCALENDAR
VERSION:2.0
PRODID:-//Soralia - ECPv6.15.17.1//NONSGML v1.0//EN
CALSCALE:GREGORIAN
METHOD:PUBLISH
X-ORIGINAL-URL:https://www.soralia.be/accueil
X-WR-CALDESC:Évènements pour Soralia
REFRESH-INTERVAL;VALUE=DURATION:PT1H
X-Robots-Tag:noindex
X-PUBLISHED-TTL:PT1H
BEGIN:VTIMEZONE
TZID:Europe/Paris
BEGIN:DAYLIGHT
TZOFFSETFROM:+0100
TZOFFSETTO:+0200
TZNAME:CEST
DTSTART:20200329T010000
END:DAYLIGHT
BEGIN:STANDARD
TZOFFSETFROM:+0200
TZOFFSETTO:+0100
TZNAME:CET
DTSTART:20201025T010000
END:STANDARD
BEGIN:DAYLIGHT
TZOFFSETFROM:+0100
TZOFFSETTO:+0200
TZNAME:CEST
DTSTART:20210328T010000
END:DAYLIGHT
BEGIN:STANDARD
TZOFFSETFROM:+0200
TZOFFSETTO:+0100
TZNAME:CET
DTSTART:20211031T010000
END:STANDARD
BEGIN:DAYLIGHT
TZOFFSETFROM:+0100
TZOFFSETTO:+0200
TZNAME:CEST
DTSTART:20220327T010000
END:DAYLIGHT
BEGIN:STANDARD
TZOFFSETFROM:+0200
TZOFFSETTO:+0100
TZNAME:CET
DTSTART:20221030T010000
END:STANDARD
END:VTIMEZONE
BEGIN:VEVENT
DTSTART;TZID=Europe/Paris:20210830T093000
DTEND;TZID=Europe/Paris:20210830T103000
DTSTAMP:20260423T004234
CREATED:20210823T150611Z
LAST-MODIFIED:20210823T150611Z
UID:10005286-1630315800-1630319400@www.soralia.be
SUMMARY:Cours de Yoga [COS\, centre sportif de Charleroi]
DESCRIPTION:Nous vous proposons un cours de Yoga.\nMais qu’est-ce que le Yoga?\nC’est une discipline\, une ascèse\, mais aussi l’état d’union qui en découle. Il existe plusieurs types de yoga\, le plus pratiqué en occident étant le hatha yoga. Il s’agit de la pratique des « asanas » ou postures avec une attention conjointe sur la respiration et le mental.\nDans un cadre bienveillant\, à l’écoute\, et sans jugement\, nous vous recevons pour pratiquer et améliorer votre pratique de cette discipline.\n\n\nLe prix s’entend pour 10 séances.\nInscriptions obligatoires au 071/507.821\n  \n 
URL:https://www.soralia.be/accueil/event/cours-de-yoga-cos-centre-sportif-de-charleroi/2021-08-30/
LOCATION:COS\, Centre sportif de Charleroi\, Rue des Olympiades\, 2\, Charleroi\, Hainaut\, 6000\, Belgique
CATEGORIES:Charleroi,Loisirs,Régional
ATTACH;FMTTYPE=image/png:https://www.soralia.be/wp-content/uploads/2017/01/calendrier-sept.png
END:VEVENT
BEGIN:VEVENT
DTSTART;TZID=Europe/Paris:20210830T100000
DTEND;TZID=Europe/Paris:20210830T130000
DTSTAMP:20260423T004234
CREATED:20210517T093213Z
LAST-MODIFIED:20210517T155320Z
UID:10005107-1630317600-1630328400@www.soralia.be
SUMMARY:Balade -Bains de Forêt
DESCRIPTION:Découvrez les bienfaits des « Bains de Forêt »\nOffrez-vous\, en compagnie de notre thérapeute\, 3 heures de déconnexion totale en forêt pour ressentir un bien-être tant physique que mental ! \nQuand ?\nSoit le samedi 22 mai de 10h 13h\, \nSoit le samedi 29 mai de 10h 13h\, \nSoit le samedi 12 juin de 10h 13h \nOù ?\nEn Forêt de Soignes (départ d’Auderghem) \nCombien ?\n20 euros \nRenseignements :\n02/546 14 07 \nfps-ateliersante@fmsdb.be \n 
URL:https://www.soralia.be/accueil/event/bains-de-foret/2021-08-30/
LOCATION:Forêt de Soignes\, Auderghem\, Belgique
CATEGORIES:Bruxelles,Familles,Général,Loisirs,Régional,Santé,Thèmes
ATTACH;FMTTYPE=image/png:https://www.soralia.be/wp-content/uploads/2017/01/calendrier-mai.png
END:VEVENT
BEGIN:VEVENT
DTSTART;TZID=Europe/Paris:20210902T130000
DTEND;TZID=Europe/Paris:20210902T160000
DTSTAMP:20260423T004234
CREATED:20210816T131320Z
LAST-MODIFIED:20210816T131320Z
UID:10005219-1630587600-1630598400@www.soralia.be
SUMMARY:Atelier créatif "Un soutif pour ma santé"
DESCRIPTION:Soralia proposent une action créative pour sensibiliser les femme​s au dépistage du cancer du sein. \nUn sujet qui touche à l’intimité\, au corps\, à la féminité et à la maladie. \nEnsemble\, nous créerons une exposition avec la technique du collage  pour faire bouger les idées et mettre en avant l’importance de prendre soin de soi.  \n Venez nous rejoindre les jeudis  2\, 9\, 16\, 23\, 30 septembre et 7 octobre de 13h00 à 16h00 \nDans les locaux du Centre culturel\, Faubourg de la Ville à Couvin \nGratuit \nInfos et inscriptions : francoise.dupont@solidaris.be ou 0497/97.85.50     \n  \nLe 9 octobre\, les créations seront exposées lors de la journée « Un soutif pour ma santé »  \nProjet en partenariat avec le Centre culturel
URL:https://www.soralia.be/accueil/event/atelier-creatif-un-soutif-pour-ma-sante/
LOCATION:Centre culturel de Couvin\, Faubourg-de-la-Ville\, 5660 Couvin\, 5660\, Belgique
CATEGORIES:Namur,Régional,Santé,Thèmes
ATTACH;FMTTYPE=image/png:https://www.soralia.be/wp-content/uploads/2017/01/calendrier-sept.png
ORGANIZER;CN="FPS Namur":MAILTO:fps.provincenamur@solidaris.be
END:VEVENT
END:VCALENDAR