BEGIN:VCALENDAR
VERSION:2.0
PRODID:-//Soralia - ECPv6.15.17.1//NONSGML v1.0//EN
CALSCALE:GREGORIAN
METHOD:PUBLISH
X-WR-CALNAME:Soralia
X-ORIGINAL-URL:https://www.soralia.be/accueil
X-WR-CALDESC:Évènements pour Soralia
REFRESH-INTERVAL;VALUE=DURATION:PT1H
X-Robots-Tag:noindex
X-PUBLISHED-TTL:PT1H
BEGIN:VTIMEZONE
TZID:Europe/Paris
BEGIN:DAYLIGHT
TZOFFSETFROM:+0100
TZOFFSETTO:+0200
TZNAME:CEST
DTSTART:20200329T010000
END:DAYLIGHT
BEGIN:STANDARD
TZOFFSETFROM:+0200
TZOFFSETTO:+0100
TZNAME:CET
DTSTART:20201025T010000
END:STANDARD
BEGIN:DAYLIGHT
TZOFFSETFROM:+0100
TZOFFSETTO:+0200
TZNAME:CEST
DTSTART:20210328T010000
END:DAYLIGHT
BEGIN:STANDARD
TZOFFSETFROM:+0200
TZOFFSETTO:+0100
TZNAME:CET
DTSTART:20211031T010000
END:STANDARD
BEGIN:DAYLIGHT
TZOFFSETFROM:+0100
TZOFFSETTO:+0200
TZNAME:CEST
DTSTART:20220327T010000
END:DAYLIGHT
BEGIN:STANDARD
TZOFFSETFROM:+0200
TZOFFSETTO:+0100
TZNAME:CET
DTSTART:20221030T010000
END:STANDARD
END:VTIMEZONE
BEGIN:VEVENT
DTSTART;TZID=Europe/Paris:20210920T100000
DTEND;TZID=Europe/Paris:20211021T170000
DTSTAMP:20260420T215304
CREATED:20210908T140906Z
LAST-MODIFIED:20210909T074209Z
UID:10005330-1632132000-1634835600@www.soralia.be
SUMMARY:Expo "Le droit de vivre"
DESCRIPTION:Basée sur la BD d’Harald « Un coeur en commun »\, cette expo vous fera (re)découvrir l’histoire de la Sécurité sociale en Belgique\, de façon originale\, ludique\, et adaptée à tous publics. \nVisites animées sur inscription : du lundi au vendredi : 10h-12h/13h-15h/15h-17h – possibilité de 17h30 à 19h30 les mardis uniquement. \nInfos et inscriptions : exposition.ledroitdevivre@gmail.com ou 081/64 99 58 \nEn partenariat avec Afico\, PAC Namur\, CAL Namur\, le RWLP\, Les jeunes FGTB\, Latitudes Jeunes réseau Solidaris\, et le Collectif La Casserole.
URL:https://www.soralia.be/accueil/event/expo-le-droit-de-vivre/
LOCATION:Collectif La Casserole\, rue du Moulin Lavigne 19B\, 5002 Namur\, 5002\, Belgique
CATEGORIES:Droit & Citoyenneté,Namur,Régional,Santé,Thèmes
ATTACH;FMTTYPE=image/png:https://www.soralia.be/wp-content/uploads/2017/01/calendrier-sept.png
ORGANIZER;CN="FPS Namur":MAILTO:fps.provincenamur@solidaris.be
END:VEVENT
BEGIN:VEVENT
DTSTART;TZID=Europe/Paris:20210927T093000
DTEND;TZID=Europe/Paris:20210927T103000
DTSTAMP:20260420T215304
CREATED:20210823T150611Z
LAST-MODIFIED:20210823T150611Z
UID:10005290-1632735000-1632738600@www.soralia.be
SUMMARY:Cours de Yoga [COS\, centre sportif de Charleroi]
DESCRIPTION:Nous vous proposons un cours de Yoga.\nMais qu’est-ce que le Yoga?\nC’est une discipline\, une ascèse\, mais aussi l’état d’union qui en découle. Il existe plusieurs types de yoga\, le plus pratiqué en occident étant le hatha yoga. Il s’agit de la pratique des « asanas » ou postures avec une attention conjointe sur la respiration et le mental.\nDans un cadre bienveillant\, à l’écoute\, et sans jugement\, nous vous recevons pour pratiquer et améliorer votre pratique de cette discipline.\n\n\nLe prix s’entend pour 10 séances.\nInscriptions obligatoires au 071/507.821\n  \n 
URL:https://www.soralia.be/accueil/event/cours-de-yoga-cos-centre-sportif-de-charleroi/2021-09-27/
LOCATION:COS\, Centre sportif de Charleroi\, Rue des Olympiades\, 2\, Charleroi\, Hainaut\, 6000\, Belgique
CATEGORIES:Charleroi,Loisirs,Régional
ATTACH;FMTTYPE=image/png:https://www.soralia.be/wp-content/uploads/2017/01/calendrier-sept.png
END:VEVENT
BEGIN:VEVENT
DTSTART;TZID=Europe/Paris:20210927T100000
DTEND;TZID=Europe/Paris:20210927T130000
DTSTAMP:20260420T215304
CREATED:20210517T093213Z
LAST-MODIFIED:20210517T155320Z
UID:10005111-1632736800-1632747600@www.soralia.be
SUMMARY:Balade -Bains de Forêt
DESCRIPTION:Découvrez les bienfaits des « Bains de Forêt »\nOffrez-vous\, en compagnie de notre thérapeute\, 3 heures de déconnexion totale en forêt pour ressentir un bien-être tant physique que mental ! \nQuand ?\nSoit le samedi 22 mai de 10h 13h\, \nSoit le samedi 29 mai de 10h 13h\, \nSoit le samedi 12 juin de 10h 13h \nOù ?\nEn Forêt de Soignes (départ d’Auderghem) \nCombien ?\n20 euros \nRenseignements :\n02/546 14 07 \nfps-ateliersante@fmsdb.be \n 
URL:https://www.soralia.be/accueil/event/bains-de-foret/2021-09-27/
LOCATION:Forêt de Soignes\, Auderghem\, Belgique
CATEGORIES:Bruxelles,Familles,Général,Loisirs,Régional,Santé,Thèmes
ATTACH;FMTTYPE=image/png:https://www.soralia.be/wp-content/uploads/2017/01/calendrier-mai.png
END:VEVENT
BEGIN:VEVENT
DTSTART;TZID=Europe/Paris:20210928T140000
DTEND;TZID=Europe/Paris:20210928T150000
DTSTAMP:20260420T215304
CREATED:20210823T091107Z
LAST-MODIFIED:20210823T091449Z
UID:10005243-1632837600-1632841200@www.soralia.be
SUMMARY:Gym Zen Epinois 
DESCRIPTION:La gym Zen permet un renforcement musculaire général. L’échauffement est réalisé au moyen de pas dynamiques. Ensuite\, des exercices combinés permettent de travailler plusieurs groupes musculaires en même temps. Des exercices au sol sont également proposés. Le cours se termine par des étirements.\nDans une ambiance respectueuse de chacun-e\, ce cours d’activité physique se donne dans un climat de confiance.\nLe prix s’entend pour une carte de dix séances.\n 
URL:https://www.soralia.be/accueil/event/gym-zen-epinois-47/2021-09-28/
LOCATION:Salle communale Epinois\, rue du By 132\, Epinois\, Hainaut\, Belgique
CATEGORIES:Loisirs
ATTACH;FMTTYPE=image/png:https://www.soralia.be/wp-content/uploads/2017/01/calendrier-sept.png
END:VEVENT
BEGIN:VEVENT
DTSTART;TZID=Europe/Paris:20210928T180000
DTEND;TZID=Europe/Paris:20210928T210000
DTSTAMP:20260420T215304
CREATED:20210830T100909Z
LAST-MODIFIED:20210902T091255Z
UID:10005321-1632852000-1632862800@www.soralia.be
SUMMARY:Conférence débat - Capitalisme\, richesses et limites 
DESCRIPTION:Dans le cadre de la venue du Musée du Capitalisme à Charleroi en janvier 2022\, les partenaires de celui-ci\, dont Soralia de Charleroi\, se penchent sur différentes facettes du capitalisme afin de mieux les mettre en débat. \nCapitalisme\, richesses et limites de quoi parle-t-on ? Cette rencontre souhaite nourrir nos connaissances sur le capitalisme : les richesses\, les limites révélatrices d’inégalités.  Resituons nous un peu face aux mécanismes du capitalisme\, les richesses et les limites qui en découlent qui engendrent des inégalités comme celles du patrimoine\, les questions d’héritages\, la taxation et la redistribution … \nAvec Edouard Delruelle Président Union Nationale des Mutualités Socialistes – Solidaris  et Olivier Bonfond  économiste et conseiller au CEPAG. \nEvénement gratuit \nLieu : à confirmer \nInscriptions : 071/507.819 ou fps.charleroi@solidaris.be
URL:https://www.soralia.be/accueil/event/conference-debat-capitalisme-richesses-et-limites/
LOCATION:Bruxelles
CATEGORIES:Charleroi,Droit & Citoyenneté,Egalité femme-homme,Général,Régional,Thèmes
ATTACH;FMTTYPE=image/png:https://www.soralia.be/wp-content/uploads/2017/01/calendrier-sept.png
END:VEVENT
BEGIN:VEVENT
DTSTART;TZID=Europe/Paris:20210928T193000
DTEND;TZID=Europe/Paris:20210928T220000
DTSTAMP:20260420T215304
CREATED:20210830T132945Z
LAST-MODIFIED:20210902T085334Z
UID:10005322-1632857400-1632866400@www.soralia.be
SUMMARY:Zéro déchet "Comment et pas où commencer ? Tris\, recyclage\, récupération"
DESCRIPTION:Soralia de Laeken vous invitent à une animation sur le thème :  « ZÉRO DÉCHETS COMMENT ET PAR OÙ COMMENCER ? TRI\, RECYCLAGE\, RÉCUPÉRATION ? »\n\nLe Mardi 28 septembre 2021 à 19h30\nSalle de la Mutualité – 93 rue De Wand – 1020 Laeken \nInfos et inscriptions obligatoires au 0475 304 171 ou z_ouberri@hotmail.com \nVenez partager vos expériences!
URL:https://www.soralia.be/accueil/event/zero-dechets-comment-et-par-ou-commencer-tri-recyclage-recuperation/
LOCATION:Salle Freddy Thielemans – Rue de Wand 93 à 1020 Laeken\, Rue de Wand 93\, Laeken\, Bruxelles\, 1020\, Belgique
CATEGORIES:Bruxelles,Familles,Général,Régional,Santé,Thèmes
ATTACH;FMTTYPE=image/png:https://www.soralia.be/wp-content/uploads/2017/01/calendrier-sept.png
END:VEVENT
BEGIN:VEVENT
DTSTART;TZID=Europe/Paris:20210929T100000
DTEND;TZID=Europe/Paris:20210929T110000
DTSTAMP:20260420T215304
CREATED:20210823T085545Z
LAST-MODIFIED:20210823T085838Z
UID:10005222-1632909600-1632913200@www.soralia.be
SUMMARY:Swiss Ball - Gym Ballon
DESCRIPTION:Vous avez déjà testé un cours de Swiss-Ball? Qu’est-ce que ça peut vous apporter lorsque c’est pratiqué régulièrement?\nLes exercices se font à l’aide d’un gros ballon de 45 à 65 cm de diamètre. Le swiss ball permet de travailler le corps dans sa globalité. Les abdos et les muscles du dos sont travaillés et étirés\, ce sont eux qui vous aideront à trouver l’équilibre indispensable à la réalisation des divers exercices. Le ballon de gymnastique ou Swiss Ball est excellent aussi pour renforcer les articulations et vous aider à travailler votre concentration.\nDans une ambiance décontractée\, de respect des capacités de chacun-e\, nous vous accueillerons avec plaisir.\n==>Prix: 35€ pour 10 séances\n==>Inscriptions obligatoires au 071/507.821\n 
URL:https://www.soralia.be/accueil/event/swiss-ball-gym-ballon-2/2021-09-29/
LOCATION:ACJ la Broc – Bâtiment Solidaris Charleroi\, avenue des Alliés\, 2\, Charleroi\, Hainaut\, 6000\, Belgique
CATEGORIES:Charleroi,Loisirs,Régional
ATTACH;FMTTYPE=image/png:https://www.soralia.be/wp-content/uploads/2017/01/calendrier-sept.png
END:VEVENT
BEGIN:VEVENT
DTSTART;TZID=Europe/Paris:20210930T180000
DTEND;TZID=Europe/Paris:20210930T200000
DTSTAMP:20260420T215305
CREATED:20210823T163231Z
LAST-MODIFIED:20210902T091152Z
UID:10005311-1633024800-1633032000@www.soralia.be
SUMMARY:Conférence santé - Les maladies cardio-vasculaires\, quid d'une approche genrée ?
DESCRIPTION:Les maladies cardio-vasculaires constituent la première cause de décès dans le monde. Les statistiques et études démontrent que les femmes et les hommes sont loin d’être sur un pied d’égalité face à ces maladies. Contrairement à ce qu’on pourrait penser\, ce sont les femmes qui sont les premières victimes des maladies cardio-vasculaires : malgré les avancées médicales en la matière\, ces pathologies progressent chez les femmes alors qu’elles régressent chez les hommes. \nComment cela s’explique-t-il ? Et pourquoi continue-t-on à penser que les femmes sont épargnées par ces maladies ? \nLorsqu’on parle de ce type de pathologie\, c’est pourtant plus souvent l’image d’un homme d’une cinquantaine d’années\, fumeur\, sédentaire et ayant un certain embonpoint qui s’impose dans l’imaginaire collectif. Cette étude a pour objectif de déconstruire ces nombreuses idées reçues et de mettre en lumière les lourdes conséquences qu’elles peuvent avoir sur la santé des femmes. \nCe 30 septembre\, en compangnie de notre chargée d’études\, Anissa D’ortenzio ainsi que d’un.e cardiologue\, nous analyserons cette nécessité d’apporter une approche genrée lorsqu’on parle médecine. Pourquoi c’est important et dans quelle mesure ça peut sauver des vies. sept \nInscriptions obligatoires au 071/507.819 ou sur fps.charleroi@solidaris.be \n 
URL:https://www.soralia.be/accueil/event/conference-les-maladies-cardio-vasculaires/
LOCATION:Maison des Femmes à Gilly\, Chaussée de Lodelinsart 100\, Gilly\, 6060\, Belgique
CATEGORIES:Charleroi,Egalité femme-homme,Général,Régional,Santé,Thèmes
ATTACH;FMTTYPE=image/png:https://www.soralia.be/wp-content/uploads/2017/01/calendrier-sept.png
END:VEVENT
BEGIN:VEVENT
DTSTART;TZID=Europe/Paris:20211001T091500
DTEND;TZID=Europe/Paris:20211001T113000
DTSTAMP:20260420T215305
CREATED:20210823T101036Z
LAST-MODIFIED:20211216T150207Z
UID:10005269-1633079700-1633087800@www.soralia.be
SUMMARY:Marche nordique Charleroi
DESCRIPTION:Le principe de la marche nordique est simple : il s’agit d’accentuer le mouvement naturel de balancier des bras et de propulser le corps vers l’avant à l’aide de deux bâtons qui soutiennent les articulations des chevilles\, des genoux et des hanches. Toute la partie supérieure du corps est active et pas seulement les membres inférieurs. L’exercice physique est alors complet et l’entraînement cardiovasculaire et musculaire incomparable.\nAccessible à toutes et à tous\, cette activité physique vous permettra de vous re-mettre en mouvement\, accompagné-e de notre animatrice formée à cette pratique.\n\n\nPrix: 35€ et comprend 10 séances.\nLe lieu de rdv sera communiqué à l’inscription\nUn vendredi sur 2 \nRDV 9H15 départ 9h30 \n17/09\, 1/10\, 15/10\, 29/10\, 12/11\, 26/11\, 10/12 \n 
URL:https://www.soralia.be/accueil/event/marche-nordique-charleroi-2/2021-10-01/
LOCATION:Bruxelles
CATEGORIES:Charleroi,Loisirs,Régional
ATTACH;FMTTYPE=image/png:https://www.soralia.be/wp-content/uploads/2017/01/calendrier-sept.png
END:VEVENT
BEGIN:VEVENT
DTSTART;TZID=Europe/Paris:20211001T193000
DTEND;TZID=Europe/Paris:20211001T213000
DTSTAMP:20260420T215305
CREATED:20210901T110446Z
LAST-MODIFIED:20211013T095309Z
UID:10005324-1633116600-1633123800@www.soralia.be
SUMMARY:Ateliers - Prendre la parole en public
DESCRIPTION:Vous tremblez à l’idée de passer vos examens oraux\, vous stressez lors d’un entretien d’ embauche\, … \nNous vous proposons un atelier pour : \n\napprendre à respirer\napprendre à poser votre voix\ncomprendre l’importance du regard\noser s’affirmer\n\nAtelier avec des exercices individuels et collectifs dans un climat de confiance. \nModule en 5 séances : les vendredis 1er\, 8\, 15\, 22 et 29 octobre\, de 19h00  à 21h00 au Centre culturel de Nismes. Animé par Stéphanie Destrée
URL:https://www.soralia.be/accueil/event/atelier-prendre-la-parole-en-public-2021-10-22/2021-10-01/
LOCATION:Centre culturel de Nismes\, rue Vieille Eglise\, Nismes\, 5670
CATEGORIES:Egalité femme-homme,Général,Namur,Régional,Thèmes
ATTACH;FMTTYPE=image/png:https://www.soralia.be/wp-content/uploads/2017/01/calendrier-oct.png
ORGANIZER;CN="FPS Namur":MAILTO:fps.provincenamur@solidaris.be
END:VEVENT
BEGIN:VEVENT
DTSTART;TZID=Europe/Paris:20211002T093000
DTEND;TZID=Europe/Paris:20211002T120000
DTSTAMP:20260420T215305
CREATED:20210816T122010Z
LAST-MODIFIED:20210816T124456Z
UID:10005216-1633167000-1633176000@www.soralia.be
SUMMARY:Balades nature
DESCRIPTION:Marcher\, apprendre à regarder\, découvrir le monde qui nous entoure pour se connecter à la terre\, à soi et aux autres. \nC’’est surtout la promesse de vivre mieux. \nBalades d’environ 5-6 km\, animées par Françoise Ramaut\, guide nature de la Noctule –Cercles des naturalistes de Belgique. \nRendez-vous à 9h30 devant l’église du village de : \nCastillon\, le 2 octobre \nSautour\, le 23 octobre \nYves-Gomezée\, le 13 novembre \nGerpinnes\, le 27 novembre \nPrix : 3 € (gratuit pour les enfants de moins de 14 ans) \nInscription au 0472/516.427
URL:https://www.soralia.be/accueil/event/balades-nature-2/
LOCATION:Castillon\, Namur\, 5630\, Belgique
CATEGORIES:Namur,Régional,Santé,Thèmes
ATTACH;FMTTYPE=image/png:https://www.soralia.be/wp-content/uploads/2017/01/calendrier-oct.png
ORGANIZER;CN="FPS Namur":MAILTO:fps.provincenamur@solidaris.be
END:VEVENT
END:VCALENDAR