BEGIN:VCALENDAR
VERSION:2.0
PRODID:-//Soralia - ECPv6.15.17.1//NONSGML v1.0//EN
CALSCALE:GREGORIAN
METHOD:PUBLISH
X-ORIGINAL-URL:https://www.soralia.be/accueil
X-WR-CALDESC:Évènements pour Soralia
REFRESH-INTERVAL;VALUE=DURATION:PT1H
X-Robots-Tag:noindex
X-PUBLISHED-TTL:PT1H
BEGIN:VTIMEZONE
TZID:Europe/Paris
BEGIN:DAYLIGHT
TZOFFSETFROM:+0100
TZOFFSETTO:+0200
TZNAME:CEST
DTSTART:20200329T010000
END:DAYLIGHT
BEGIN:STANDARD
TZOFFSETFROM:+0200
TZOFFSETTO:+0100
TZNAME:CET
DTSTART:20201025T010000
END:STANDARD
BEGIN:DAYLIGHT
TZOFFSETFROM:+0100
TZOFFSETTO:+0200
TZNAME:CEST
DTSTART:20210328T010000
END:DAYLIGHT
BEGIN:STANDARD
TZOFFSETFROM:+0200
TZOFFSETTO:+0100
TZNAME:CET
DTSTART:20211031T010000
END:STANDARD
BEGIN:DAYLIGHT
TZOFFSETFROM:+0100
TZOFFSETTO:+0200
TZNAME:CEST
DTSTART:20220327T010000
END:DAYLIGHT
BEGIN:STANDARD
TZOFFSETFROM:+0200
TZOFFSETTO:+0100
TZNAME:CET
DTSTART:20221030T010000
END:STANDARD
END:VTIMEZONE
BEGIN:VEVENT
DTSTART;TZID=Europe/Paris:20210920T100000
DTEND;TZID=Europe/Paris:20211021T170000
DTSTAMP:20260424T173222
CREATED:20210908T140906Z
LAST-MODIFIED:20210909T074209Z
UID:10005330-1632132000-1634835600@www.soralia.be
SUMMARY:Expo "Le droit de vivre"
DESCRIPTION:Basée sur la BD d’Harald « Un coeur en commun »\, cette expo vous fera (re)découvrir l’histoire de la Sécurité sociale en Belgique\, de façon originale\, ludique\, et adaptée à tous publics. \nVisites animées sur inscription : du lundi au vendredi : 10h-12h/13h-15h/15h-17h – possibilité de 17h30 à 19h30 les mardis uniquement. \nInfos et inscriptions : exposition.ledroitdevivre@gmail.com ou 081/64 99 58 \nEn partenariat avec Afico\, PAC Namur\, CAL Namur\, le RWLP\, Les jeunes FGTB\, Latitudes Jeunes réseau Solidaris\, et le Collectif La Casserole.
URL:https://www.soralia.be/accueil/event/expo-le-droit-de-vivre/
LOCATION:Collectif La Casserole\, rue du Moulin Lavigne 19B\, 5002 Namur\, 5002\, Belgique
CATEGORIES:Droit & Citoyenneté,Namur,Régional,Santé,Thèmes
ATTACH;FMTTYPE=image/png:https://www.soralia.be/wp-content/uploads/2017/01/calendrier-sept.png
ORGANIZER;CN="FPS Namur":MAILTO:fps.provincenamur@solidaris.be
END:VEVENT
BEGIN:VEVENT
DTSTART;TZID=Europe/Paris:20211011T093000
DTEND;TZID=Europe/Paris:20211011T103000
DTSTAMP:20260424T173222
CREATED:20210823T150611Z
LAST-MODIFIED:20210823T150611Z
UID:10005292-1633944600-1633948200@www.soralia.be
SUMMARY:Cours de Yoga [COS\, centre sportif de Charleroi]
DESCRIPTION:Nous vous proposons un cours de Yoga.\nMais qu’est-ce que le Yoga?\nC’est une discipline\, une ascèse\, mais aussi l’état d’union qui en découle. Il existe plusieurs types de yoga\, le plus pratiqué en occident étant le hatha yoga. Il s’agit de la pratique des « asanas » ou postures avec une attention conjointe sur la respiration et le mental.\nDans un cadre bienveillant\, à l’écoute\, et sans jugement\, nous vous recevons pour pratiquer et améliorer votre pratique de cette discipline.\n\n\nLe prix s’entend pour 10 séances.\nInscriptions obligatoires au 071/507.821\n  \n 
URL:https://www.soralia.be/accueil/event/cours-de-yoga-cos-centre-sportif-de-charleroi/2021-10-11/
LOCATION:COS\, Centre sportif de Charleroi\, Rue des Olympiades\, 2\, Charleroi\, Hainaut\, 6000\, Belgique
CATEGORIES:Charleroi,Loisirs,Régional
ATTACH;FMTTYPE=image/png:https://www.soralia.be/wp-content/uploads/2017/01/calendrier-sept.png
END:VEVENT
BEGIN:VEVENT
DTSTART;TZID=Europe/Paris:20211011T093000
DTEND;TZID=Europe/Paris:20211011T133000
DTSTAMP:20260424T173223
CREATED:20210921T145247Z
LAST-MODIFIED:20210921T145247Z
UID:10005346-1633944600-1633959000@www.soralia.be
SUMMARY:Atelier alimentation : Goutez-moi ça ! à Seneffe
DESCRIPTION:​Depuis plusieurs années\, Soralia du Centre et de Soignies\, développent des ateliers autour de l’alimentation. A travers ces ateliers\, vous cuisinez tout en alliant santé et plaisir. Les différents thèmes abordés tels que le budget ou l’alimentation durable tendent vers une consommation responsable dans le respect de l’environnement. \nLes lundis 11/10\, 8/11 et 13/12 de 9h30 à 13h30 \nSeneffe – Local communautaire – rue Scrawelle 7  \n6€ par atelier  \nInfos et inscriptions obligatoires au 071/507 820 ou fps.cs@solidaris.be
URL:https://www.soralia.be/accueil/event/atelier-alimentation-goutez-moi-ca-a-seneffe/2021-10-11/
LOCATION:Brabant wallon
CATEGORIES:Centre & Soignies,Régional,Santé,Thèmes
ORGANIZER;CN="FPS Centre & Soignies":MAILTO:fps.cs@solidaris.be
END:VEVENT
BEGIN:VEVENT
DTSTART;TZID=Europe/Paris:20211011T100000
DTEND;TZID=Europe/Paris:20211011T130000
DTSTAMP:20260424T173223
CREATED:20210517T093213Z
LAST-MODIFIED:20210517T155320Z
UID:10005113-1633946400-1633957200@www.soralia.be
SUMMARY:Balade -Bains de Forêt
DESCRIPTION:Découvrez les bienfaits des « Bains de Forêt »\nOffrez-vous\, en compagnie de notre thérapeute\, 3 heures de déconnexion totale en forêt pour ressentir un bien-être tant physique que mental ! \nQuand ?\nSoit le samedi 22 mai de 10h 13h\, \nSoit le samedi 29 mai de 10h 13h\, \nSoit le samedi 12 juin de 10h 13h \nOù ?\nEn Forêt de Soignes (départ d’Auderghem) \nCombien ?\n20 euros \nRenseignements :\n02/546 14 07 \nfps-ateliersante@fmsdb.be \n 
URL:https://www.soralia.be/accueil/event/bains-de-foret/2021-10-11/
LOCATION:Forêt de Soignes\, Auderghem\, Belgique
CATEGORIES:Bruxelles,Familles,Général,Loisirs,Régional,Santé,Thèmes
ATTACH;FMTTYPE=image/png:https://www.soralia.be/wp-content/uploads/2017/01/calendrier-mai.png
END:VEVENT
BEGIN:VEVENT
DTSTART;TZID=Europe/Paris:20211012T140000
DTEND;TZID=Europe/Paris:20211012T150000
DTSTAMP:20260424T173223
CREATED:20210823T091107Z
LAST-MODIFIED:20210823T091449Z
UID:10005245-1634047200-1634050800@www.soralia.be
SUMMARY:Gym Zen Epinois 
DESCRIPTION:La gym Zen permet un renforcement musculaire général. L’échauffement est réalisé au moyen de pas dynamiques. Ensuite\, des exercices combinés permettent de travailler plusieurs groupes musculaires en même temps. Des exercices au sol sont également proposés. Le cours se termine par des étirements.\nDans une ambiance respectueuse de chacun-e\, ce cours d’activité physique se donne dans un climat de confiance.\nLe prix s’entend pour une carte de dix séances.\n 
URL:https://www.soralia.be/accueil/event/gym-zen-epinois-47/2021-10-12/
LOCATION:Salle communale Epinois\, rue du By 132\, Epinois\, Hainaut\, Belgique
CATEGORIES:Loisirs
ATTACH;FMTTYPE=image/png:https://www.soralia.be/wp-content/uploads/2017/01/calendrier-sept.png
END:VEVENT
BEGIN:VEVENT
DTSTART;TZID=Europe/Paris:20211013T100000
DTEND;TZID=Europe/Paris:20211013T110000
DTSTAMP:20260424T173223
CREATED:20210823T085545Z
LAST-MODIFIED:20210823T085838Z
UID:10005224-1634119200-1634122800@www.soralia.be
SUMMARY:Swiss Ball - Gym Ballon
DESCRIPTION:Vous avez déjà testé un cours de Swiss-Ball? Qu’est-ce que ça peut vous apporter lorsque c’est pratiqué régulièrement?\nLes exercices se font à l’aide d’un gros ballon de 45 à 65 cm de diamètre. Le swiss ball permet de travailler le corps dans sa globalité. Les abdos et les muscles du dos sont travaillés et étirés\, ce sont eux qui vous aideront à trouver l’équilibre indispensable à la réalisation des divers exercices. Le ballon de gymnastique ou Swiss Ball est excellent aussi pour renforcer les articulations et vous aider à travailler votre concentration.\nDans une ambiance décontractée\, de respect des capacités de chacun-e\, nous vous accueillerons avec plaisir.\n==>Prix: 35€ pour 10 séances\n==>Inscriptions obligatoires au 071/507.821\n 
URL:https://www.soralia.be/accueil/event/swiss-ball-gym-ballon-2/2021-10-13/
LOCATION:ACJ la Broc – Bâtiment Solidaris Charleroi\, avenue des Alliés\, 2\, Charleroi\, Hainaut\, 6000\, Belgique
CATEGORIES:Charleroi,Loisirs,Régional
ATTACH;FMTTYPE=image/png:https://www.soralia.be/wp-content/uploads/2017/01/calendrier-sept.png
END:VEVENT
BEGIN:VEVENT
DTSTART;TZID=Europe/Paris:20211013T140000
DTEND;TZID=Europe/Paris:20211013T163000
DTSTAMP:20260424T173223
CREATED:20210928T144636Z
LAST-MODIFIED:20210928T144636Z
UID:10005358-1634133600-1634142600@www.soralia.be
SUMMARY:Animation -   Ne faites pas l’autruche : découvrez le Gynoquid !
DESCRIPTION:Vous qui avez toujours voulu tout savoir sur la prévention des cancers féminins\, venez participer pendant 2h30 à l’animation et posez toutes vos questions. \nUn jeu coopératif par équipe où la progression dans le jeu se fait toutes ensemble ! Des échanges\, des discussions sur les cancers féminins (Sein\, col de l’utérus)\, sur les comportements protecteurs\, les examens de dépistage se partagent.  Des réactions\, des étonnements\, une note de soulagement\, un moment fort et agréable à partager sans modération ! \nDates: \nSoit les vendredis 8 ou 22 octobre \nSoit les mercredis 13 ou 20 octobre \nSi ces dates ne vous conviennent pas il est possible de convenir d’un autre moment.  Une animation sur demande et/ou à destination de groupes de femmes constitués est toujours possible. \n  \n 
URL:https://www.soralia.be/accueil/event/animation-ne-faites-pas-lautruche-decouvrez-le-gynoquid/2021-10-13/
LOCATION:Maison des Femmes à Gilly\, Chaussée de Lodelinsart 100\, Gilly\, 6060\, Belgique
CATEGORIES:Charleroi,Régional,Santé,Thèmes
ATTACH;FMTTYPE=image/png:https://www.soralia.be/wp-content/uploads/2017/01/calendrier-oct.png
END:VEVENT
BEGIN:VEVENT
DTSTART;TZID=Europe/Paris:20211013T190000
DTEND;TZID=Europe/Paris:20211013T213000
DTSTAMP:20260424T173223
CREATED:20210903T094203Z
LAST-MODIFIED:20211001T130152Z
UID:10005329-1634151600-1634160600@www.soralia.be
SUMMARY:Projection du film «Kinshasa Kids»
DESCRIPTION:Le Fonds Aristote\, SOLIDARCO et Wajnbrosse Productions vous invitent à la projection du film « KINSHASA KIDS » de Marc-Henri Wajnberg le 13 octobre 2021 à 19h00 au centre culturel « Tour à plomb » rue de l’Abattoir 24 à 1000 Bruxelles.\n\nParticipation gratuite!\n\n\n\n\n\nBord d’écran à l’issue de la projection\, pour présenter le Fonds Aristote et débattre sur le thème « Pas de travail décent\, sans protections sociales » avec la participation du réalisateur du film\nMarc-Henri Wajnberg (sous réserve).\n\nDans le cadre de la quinzaine de la Solidarité internationale de la Ville de Bruxelles.\n\nUne initiative organisée dans le cadre de la quinzaine de la Solidarité internationale de la Ville de Bruxelles.\n\n\n\nLe Covid Safe Ticket sera d’application!
URL:https://www.soralia.be/accueil/event/projection-du-film-kinshasa-kids/
LOCATION:Centre culturel Tour à plomb\, Rue de l'Abattoir 24\, Bruxelles\, Bruxelles\, 1000
CATEGORIES:Bruxelles,Culture,Droit & Citoyenneté,Familles,Général,Régional,Thèmes
ATTACH;FMTTYPE=image/png:https://www.soralia.be/wp-content/uploads/2017/01/calendrier-oct.png
END:VEVENT
BEGIN:VEVENT
DTSTART;TZID=Europe/Paris:20211014T093000
DTEND;TZID=Europe/Paris:20211014T123000
DTSTAMP:20260424T173223
CREATED:20210929T073845Z
LAST-MODIFIED:20211011T075123Z
UID:10005361-1634203800-1634214600@www.soralia.be
SUMMARY:Journée de la santé mentale
DESCRIPTION:Envie de sensibiliser votre public à la problématique du stress ?  Venez nous rejoindre. \nNous vous proposons un moment de rencontre pour découvrir et vivre le jeu « Parcours D-Stress »\, un jeu pour s’interroger sur les causes et conséquences du stress et comprendre la manière dont chacun peut y faire face. \nParticipation gratuite \nCLPS Brabant wallon\, chaussée des Collines\, 54 à Wavre \nRenseignements : Christine Dejode : 010 62 17 32 ou dejode@clps-bw.be
URL:https://www.soralia.be/accueil/event/journee-de-la-sante-menta/
LOCATION:CLPS Brabant wallon\, Chaussée des Collines\, 54\, Wavre\, Belgique
CATEGORIES:Brabant wallon,Général,Régional,Santé,Thèmes
ATTACH;FMTTYPE=image/png:https://www.soralia.be/wp-content/uploads/2017/01/calendrier-oct.png
ORGANIZER;CN="FPS Brabant wallon":MAILTO:fpsbw@solidaris.be
END:VEVENT
BEGIN:VEVENT
DTSTART;TZID=Europe/Paris:20211015T091500
DTEND;TZID=Europe/Paris:20211015T113000
DTSTAMP:20260424T173223
CREATED:20210823T101036Z
LAST-MODIFIED:20211216T150207Z
UID:10005270-1634289300-1634297400@www.soralia.be
SUMMARY:Marche nordique Charleroi
DESCRIPTION:Le principe de la marche nordique est simple : il s’agit d’accentuer le mouvement naturel de balancier des bras et de propulser le corps vers l’avant à l’aide de deux bâtons qui soutiennent les articulations des chevilles\, des genoux et des hanches. Toute la partie supérieure du corps est active et pas seulement les membres inférieurs. L’exercice physique est alors complet et l’entraînement cardiovasculaire et musculaire incomparable.\nAccessible à toutes et à tous\, cette activité physique vous permettra de vous re-mettre en mouvement\, accompagné-e de notre animatrice formée à cette pratique.\n\n\nPrix: 35€ et comprend 10 séances.\nLe lieu de rdv sera communiqué à l’inscription\nUn vendredi sur 2 \nRDV 9H15 départ 9h30 \n17/09\, 1/10\, 15/10\, 29/10\, 12/11\, 26/11\, 10/12 \n 
URL:https://www.soralia.be/accueil/event/marche-nordique-charleroi-2/2021-10-15/
LOCATION:Brabant wallon
CATEGORIES:Charleroi,Loisirs,Régional
ATTACH;FMTTYPE=image/png:https://www.soralia.be/wp-content/uploads/2017/01/calendrier-sept.png
END:VEVENT
BEGIN:VEVENT
DTSTART;TZID=Europe/Paris:20211015T133000
DTEND;TZID=Europe/Paris:20211015T163000
DTSTAMP:20260424T173223
CREATED:20210823T162133Z
LAST-MODIFIED:20210823T162133Z
UID:10005306-1634304600-1634315400@www.soralia.be
SUMMARY:atelier d'aquarelle et de techniques mixtes
DESCRIPTION:Laissez-vous tenter par l’aventure et plongez vos pinceaux dans l’univers de l’eau\, de l’aquarelle\, des techniques et des supports mixtes (toile\, carton…). Pour la recette\, rien de plus simple : une utilisation d’eau\, mélange de pigments\, une palette de couleurs\, des éléments féminins\, un choix de papier étonnant et des pinceaux de tous poils\, tout cela dans une ambiance décontractée ! S’inspirer des prochains rendez-vous et s’essayer aux techniques d’impressions ! \nDébutant.e.s ou confirmé.e.s se retrouvent ainsi dans une ambiance chaleureuse et amicale\, progressent de séance en séance. \nLe prix s’entend matériel compris. \n  \n 
URL:https://www.soralia.be/accueil/event/atelier-daquarelle-et-de-techniques-mixtes/2021-10-15/
LOCATION:Bâtiment Solidaris route de Beaumont 189 – 6030 Marchienne-au-Pont\, route de Beaumont 189\, Marchienne-au-Pont\, Hainaut\, 6030\, Belgique
CATEGORIES:Charleroi,Loisirs,Régional
ATTACH;FMTTYPE=image/png:https://www.soralia.be/wp-content/uploads/2017/01/calendrier-sept.png
END:VEVENT
BEGIN:VEVENT
DTSTART;TZID=Europe/Paris:20211015T193000
DTEND;TZID=Europe/Paris:20211015T213000
DTSTAMP:20260424T173223
CREATED:20210901T110446Z
LAST-MODIFIED:20211013T095309Z
UID:10005326-1634326200-1634333400@www.soralia.be
SUMMARY:Ateliers - Prendre la parole en public
DESCRIPTION:Vous tremblez à l’idée de passer vos examens oraux\, vous stressez lors d’un entretien d’ embauche\, … \nNous vous proposons un atelier pour : \n\napprendre à respirer\napprendre à poser votre voix\ncomprendre l’importance du regard\noser s’affirmer\n\nAtelier avec des exercices individuels et collectifs dans un climat de confiance. \nModule en 5 séances : les vendredis 1er\, 8\, 15\, 22 et 29 octobre\, de 19h00  à 21h00 au Centre culturel de Nismes. Animé par Stéphanie Destrée
URL:https://www.soralia.be/accueil/event/atelier-prendre-la-parole-en-public-2021-10-22/2021-10-15/
LOCATION:Centre culturel de Nismes\, rue Vieille Eglise\, Nismes\, 5670
CATEGORIES:Egalité femme-homme,Général,Namur,Régional,Thèmes
ATTACH;FMTTYPE=image/png:https://www.soralia.be/wp-content/uploads/2017/01/calendrier-oct.png
ORGANIZER;CN="FPS Namur":MAILTO:fps.provincenamur@solidaris.be
END:VEVENT
BEGIN:VEVENT
DTSTART;TZID=Europe/Paris:20211016T104500
DTEND;TZID=Europe/Paris:20211016T114500
DTSTAMP:20260424T173223
CREATED:20210823T122450Z
LAST-MODIFIED:20210823T122450Z
UID:10005282-1634381100-1634384700@www.soralia.be
SUMMARY:Cours de Yoga [ACJ la Broc]
DESCRIPTION:Nous vous proposons un cours de Yoga.\,Mais qu’est-ce que le Yoga?\n\nC’est une discipline\, une ascèse\, mais aussi l’état d’union qui en découle. Il existe plusieurs types de yoga\, le plus pratiqué en occident étant le hatha yoga. Il s’agit de la pratique des « asanas » ou postures avec une attention conjointe sur la respiration et le mental.\nDans un cadre bienveillant\, à l’écoute\, et sans jugement\, nous vous recevons pour pratiquer et améliorer votre pratique de cette discipline.\n\n\nLe prix s’entend pour 10 séances.\nInscriptions obligatoires au 071/507.821\n\n  \n  \n 
URL:https://www.soralia.be/accueil/event/cours-de-yoga-acj-la-broc/2021-10-16/
LOCATION:ACJ la Broc – Bâtiment Solidaris Charleroi\, avenue des Alliés\, 2\, Charleroi\, Hainaut\, 6000\, Belgique
CATEGORIES:Charleroi,Loisirs,Régional
ATTACH;FMTTYPE=image/png:https://www.soralia.be/wp-content/uploads/2017/01/calendrier-sept.png
END:VEVENT
BEGIN:VEVENT
DTSTART;TZID=Europe/Paris:20211016T140000
DTEND;TZID=Europe/Paris:20211016T163000
DTSTAMP:20260424T173223
CREATED:20210920T132747Z
LAST-MODIFIED:20211014T121649Z
UID:10005332-1634392800-1634401800@www.soralia.be
SUMMARY:Table ronde - Femmes & Précarité
DESCRIPTION:Le comité FPS de Schaerbeek vous convie à une table ronde sur le thème de « Femmes & Précarité »\, avec la participation de:\n– Karine Lalieux\, ministre des Pensions et de l’Intégration sociale\, chargée des Personnes handicapées\, de la Lutte contre la pauvreté et de Beliris\,\n– Christine Mahy du Réseau Wallon de lutte contre la pauvreté.\n\n\n\nQuand?\nLe samedi 16 octobre 2021 à 14h00\n\n\n\nOù?\nSalle Jef Baeck (auditorium -1) FMSB\nRue du Midi 110 à 1000 Bruxelles\n\n\n\nInscription auprès de C. Catherin au 0479 787 354 ou par email à fps-fam@fmsb.be.\nLe nombre de participants étant limité à 70 personnes\, l’inscription est obligatoire.\n\n\n\nRespect des mesures sanitaires en vigueur
URL:https://www.soralia.be/accueil/event/table-ronde-femmes-precarite/
LOCATION:Salle Jef Baeck FMSB\, Rue du Midi 110\, Bruxelles\, Bruxelles\, 1000\, Belgique
CATEGORIES:Bruxelles,Culture,Droit & Citoyenneté,Egalité femme-homme,Familles,Général,Régional,Thèmes
ATTACH;FMTTYPE=image/png:https://www.soralia.be/wp-content/uploads/2017/01/calendrier-oct.png
END:VEVENT
BEGIN:VEVENT
DTSTART;TZID=Europe/Paris:20211016T190000
DTEND;TZID=Europe/Paris:20211016T220000
DTSTAMP:20260424T173223
CREATED:20211012T073756Z
LAST-MODIFIED:20211012T073756Z
UID:10005364-1634410800-1634421600@www.soralia.be
SUMMARY:Cabaret littéraire
DESCRIPTION:Le temps d’une soirée\, une dizaine de femmes vous invitent à vivre un moment suspendu dans le temps. Avec leurs écrits\, elles vous feront voyager au pays des utopies. Au passage\, elles en profiteront pour dénoncer quelques injustices\, qui\, au fil des siècles\, traversent l’histoire des femmes. Mais surtout\, elles nous montreront toutes les forces et les énergies qui sont en elles. Quelques histoires drôles et coquines sont aussi au menu ! \nBar\, exposition et coin papote. \nLibrairie éphémère des Ateliers de l’Escargot éditions. \nGratuit mais réservation obligatoire au 081/777 182 ou fps.provincenamur@solidaris.be
URL:https://www.soralia.be/accueil/event/cabaret-litteraire/
LOCATION:Centre culturel de Walcourt\, rue de la Montagne 3\, Walcourt\, Namur\, 5650\, Belgique
CATEGORIES:Egalité femme-homme,Namur,Régional,Thèmes
ATTACH;FMTTYPE=image/png:https://www.soralia.be/wp-content/uploads/2017/01/calendrier-oct.png
ORGANIZER;CN="FPS Namur":MAILTO:fps.provincenamur@solidaris.be
END:VEVENT
BEGIN:VEVENT
DTSTART;VALUE=DATE:20211017
DTEND;VALUE=DATE:20211018
DTSTAMP:20260424T173223
CREATED:20210816T075746Z
LAST-MODIFIED:20210816T075746Z
UID:10005212-1634428800-1634515199@www.soralia.be
SUMMARY:Autodéfense Wendo
DESCRIPTION:L’agressivité est aussi bien physique que verbale\, on la rencontre partout\, dans la rue\, au travail\, à l’école\, dans la famille… \nLe Wendo\, c’est prendre conscience de sa force et de son énergie quelle que soit sa condition physique afin d’assurer sa protection. Il permet également prendre conscience de sa valeur\, de son importance en tant que femme. Le Wendo c’est aussi développer la confiance en soi\, sentir ses limites et les faire respecter\, oser prendre sa place en tout lieu et en toute circonstance. Développer la vigilance et éviter les situations dangereuses. \nCe stage vous permettra d’acquérir des techniques d’autodéfense\, simples et efficaces\, élaborées à partir de situations concrètes et quotidiennes. Le Wendo tient compte des différences de morphologie entre les femmes et les hommes\, de la façon dont la violence a été intégrée et de la spécificité des agressions contre les femmes. \nIl remet en cause les conditionnements qui mènent à la peur et à la soumission face à la violence. \n\nModalités\n\nLieu : Les Associations Solidaris Longdoz / Espace différences\nRue Edouard Remouchamps\, 2\, 4020 Liège • Près de la Médiacité\nNombre d’inscriptions limité.\n\nWendo 12-14 ans\nDates :\n17 et 24/10/2021 de 9h30 à 16h30 \nPublic : adolescentes entre 12 et 14 ans\nPrix :  75 €* / 80 €\nInfo et réservation : 0485/46 74 83 ou wendo@skynet.be
URL:https://www.soralia.be/accueil/event/autodefense-wendo-2/
LOCATION:Les Associations Solidaris – Longdoz\, Rue Edouard Remouchamps 2\, Liège\, Liège\, 4020\, Belgique
CATEGORIES:Liège,Régional,Thèmes,Violences
ATTACH;FMTTYPE=image/png:https://www.soralia.be/wp-content/uploads/2017/01/calendrier-oct.png
END:VEVENT
END:VCALENDAR