BEGIN:VCALENDAR
VERSION:2.0
PRODID:-//Soralia - ECPv6.15.17.1//NONSGML v1.0//EN
CALSCALE:GREGORIAN
METHOD:PUBLISH
X-WR-CALNAME:Soralia
X-ORIGINAL-URL:https://www.soralia.be/accueil
X-WR-CALDESC:Évènements pour Soralia
REFRESH-INTERVAL;VALUE=DURATION:PT1H
X-Robots-Tag:noindex
X-PUBLISHED-TTL:PT1H
BEGIN:VTIMEZONE
TZID:Europe/Paris
BEGIN:DAYLIGHT
TZOFFSETFROM:+0100
TZOFFSETTO:+0200
TZNAME:CEST
DTSTART:20200329T010000
END:DAYLIGHT
BEGIN:STANDARD
TZOFFSETFROM:+0200
TZOFFSETTO:+0100
TZNAME:CET
DTSTART:20201025T010000
END:STANDARD
BEGIN:DAYLIGHT
TZOFFSETFROM:+0100
TZOFFSETTO:+0200
TZNAME:CEST
DTSTART:20210328T010000
END:DAYLIGHT
BEGIN:STANDARD
TZOFFSETFROM:+0200
TZOFFSETTO:+0100
TZNAME:CET
DTSTART:20211031T010000
END:STANDARD
BEGIN:DAYLIGHT
TZOFFSETFROM:+0100
TZOFFSETTO:+0200
TZNAME:CEST
DTSTART:20220327T010000
END:DAYLIGHT
BEGIN:STANDARD
TZOFFSETFROM:+0200
TZOFFSETTO:+0100
TZNAME:CET
DTSTART:20221030T010000
END:STANDARD
END:VTIMEZONE
BEGIN:VEVENT
DTSTART;TZID=Europe/Paris:20210920T100000
DTEND;TZID=Europe/Paris:20211021T170000
DTSTAMP:20260425T151500
CREATED:20210908T140906Z
LAST-MODIFIED:20210909T074209Z
UID:10005330-1632132000-1634835600@www.soralia.be
SUMMARY:Expo "Le droit de vivre"
DESCRIPTION:Basée sur la BD d’Harald « Un coeur en commun »\, cette expo vous fera (re)découvrir l’histoire de la Sécurité sociale en Belgique\, de façon originale\, ludique\, et adaptée à tous publics. \nVisites animées sur inscription : du lundi au vendredi : 10h-12h/13h-15h/15h-17h – possibilité de 17h30 à 19h30 les mardis uniquement. \nInfos et inscriptions : exposition.ledroitdevivre@gmail.com ou 081/64 99 58 \nEn partenariat avec Afico\, PAC Namur\, CAL Namur\, le RWLP\, Les jeunes FGTB\, Latitudes Jeunes réseau Solidaris\, et le Collectif La Casserole.
URL:https://www.soralia.be/accueil/event/expo-le-droit-de-vivre/
LOCATION:Collectif La Casserole\, rue du Moulin Lavigne 19B\, 5002 Namur\, 5002\, Belgique
CATEGORIES:Droit & Citoyenneté,Namur,Régional,Santé,Thèmes
ATTACH;FMTTYPE=image/png:https://www.soralia.be/wp-content/uploads/2017/01/calendrier-sept.png
ORGANIZER;CN="FPS Namur":MAILTO:fps.provincenamur@solidaris.be
END:VEVENT
BEGIN:VEVENT
DTSTART;TZID=Europe/Paris:20211018T093000
DTEND;TZID=Europe/Paris:20211018T103000
DTSTAMP:20260425T151500
CREATED:20210823T150611Z
LAST-MODIFIED:20210823T150611Z
UID:10005293-1634549400-1634553000@www.soralia.be
SUMMARY:Cours de Yoga [COS\, centre sportif de Charleroi]
DESCRIPTION:Nous vous proposons un cours de Yoga.\nMais qu’est-ce que le Yoga?\nC’est une discipline\, une ascèse\, mais aussi l’état d’union qui en découle. Il existe plusieurs types de yoga\, le plus pratiqué en occident étant le hatha yoga. Il s’agit de la pratique des « asanas » ou postures avec une attention conjointe sur la respiration et le mental.\nDans un cadre bienveillant\, à l’écoute\, et sans jugement\, nous vous recevons pour pratiquer et améliorer votre pratique de cette discipline.\n\n\nLe prix s’entend pour 10 séances.\nInscriptions obligatoires au 071/507.821\n  \n 
URL:https://www.soralia.be/accueil/event/cours-de-yoga-cos-centre-sportif-de-charleroi/2021-10-18/
LOCATION:COS\, Centre sportif de Charleroi\, Rue des Olympiades\, 2\, Charleroi\, Hainaut\, 6000\, Belgique
CATEGORIES:Charleroi,Loisirs,Régional
ATTACH;FMTTYPE=image/png:https://www.soralia.be/wp-content/uploads/2017/01/calendrier-sept.png
END:VEVENT
BEGIN:VEVENT
DTSTART;TZID=Europe/Paris:20211018T100000
DTEND;TZID=Europe/Paris:20211018T130000
DTSTAMP:20260425T151500
CREATED:20210517T093213Z
LAST-MODIFIED:20210517T155320Z
UID:10005114-1634551200-1634562000@www.soralia.be
SUMMARY:Balade -Bains de Forêt
DESCRIPTION:Découvrez les bienfaits des « Bains de Forêt »\nOffrez-vous\, en compagnie de notre thérapeute\, 3 heures de déconnexion totale en forêt pour ressentir un bien-être tant physique que mental ! \nQuand ?\nSoit le samedi 22 mai de 10h 13h\, \nSoit le samedi 29 mai de 10h 13h\, \nSoit le samedi 12 juin de 10h 13h \nOù ?\nEn Forêt de Soignes (départ d’Auderghem) \nCombien ?\n20 euros \nRenseignements :\n02/546 14 07 \nfps-ateliersante@fmsdb.be \n 
URL:https://www.soralia.be/accueil/event/bains-de-foret/2021-10-18/
LOCATION:Forêt de Soignes\, Auderghem\, Belgique
CATEGORIES:Bruxelles,Familles,Général,Loisirs,Régional,Santé,Thèmes
ATTACH;FMTTYPE=image/png:https://www.soralia.be/wp-content/uploads/2017/01/calendrier-mai.png
END:VEVENT
BEGIN:VEVENT
DTSTART;TZID=Europe/Paris:20211019T100000
DTEND;TZID=Europe/Paris:20211019T140000
DTSTAMP:20260425T151500
CREATED:20210922T093559Z
LAST-MODIFIED:20211115T160500Z
UID:10005349-1634637600-1634652000@www.soralia.be
SUMMARY:Atelier alimentation - Goutez-moi ça !
DESCRIPTION:​Depuis plusieurs années\, Soralia du Centre et de Soignies\, en collaboration avec le PCS de Morlanwelz\, développent des ateliers autour de l’alimentation. A travers ces ateliers\, vous cuisinez tout en alliant santé et plaisir. Les différents thèmes abordés tels que le budget ou l’alimentation durable tendent vers une consommation responsable dans le respect de l’environnement. \nLes mardis 19/10\, 16/11 et 7/12 de 10h à 14h \nMorlanwelz – rue de l’Amitié 11 \nGratuit ! Réservé aux habitants de la commune !  \nInfos et inscriptions obligatoires au 071/507 820 ou fps.cs@solidaris.be
URL:https://www.soralia.be/accueil/event/atelier-alimentation-goutez-moi-ca-a-morlanwelz/2021-10-19/
LOCATION:Brabant wallon
CATEGORIES:Centre & Soignies,Régional,Santé,Thèmes
ATTACH;FMTTYPE=image/png:https://www.soralia.be/wp-content/uploads/2017/01/calendrier-nov.png
ORGANIZER;CN="FPS Centre & Soignies":MAILTO:fps.cs@solidaris.be
END:VEVENT
BEGIN:VEVENT
DTSTART;TZID=Europe/Paris:20211019T140000
DTEND;TZID=Europe/Paris:20211019T150000
DTSTAMP:20260425T151500
CREATED:20210823T091107Z
LAST-MODIFIED:20210823T091449Z
UID:10005246-1634652000-1634655600@www.soralia.be
SUMMARY:Gym Zen Epinois 
DESCRIPTION:La gym Zen permet un renforcement musculaire général. L’échauffement est réalisé au moyen de pas dynamiques. Ensuite\, des exercices combinés permettent de travailler plusieurs groupes musculaires en même temps. Des exercices au sol sont également proposés. Le cours se termine par des étirements.\nDans une ambiance respectueuse de chacun-e\, ce cours d’activité physique se donne dans un climat de confiance.\nLe prix s’entend pour une carte de dix séances.\n 
URL:https://www.soralia.be/accueil/event/gym-zen-epinois-47/2021-10-19/
LOCATION:Salle communale Epinois\, rue du By 132\, Epinois\, Hainaut\, Belgique
CATEGORIES:Loisirs
ATTACH;FMTTYPE=image/png:https://www.soralia.be/wp-content/uploads/2017/01/calendrier-sept.png
END:VEVENT
BEGIN:VEVENT
DTSTART;TZID=Europe/Paris:20211020T100000
DTEND;TZID=Europe/Paris:20211020T110000
DTSTAMP:20260425T151500
CREATED:20210823T085545Z
LAST-MODIFIED:20210823T085838Z
UID:10005225-1634724000-1634727600@www.soralia.be
SUMMARY:Swiss Ball - Gym Ballon
DESCRIPTION:Vous avez déjà testé un cours de Swiss-Ball? Qu’est-ce que ça peut vous apporter lorsque c’est pratiqué régulièrement?\nLes exercices se font à l’aide d’un gros ballon de 45 à 65 cm de diamètre. Le swiss ball permet de travailler le corps dans sa globalité. Les abdos et les muscles du dos sont travaillés et étirés\, ce sont eux qui vous aideront à trouver l’équilibre indispensable à la réalisation des divers exercices. Le ballon de gymnastique ou Swiss Ball est excellent aussi pour renforcer les articulations et vous aider à travailler votre concentration.\nDans une ambiance décontractée\, de respect des capacités de chacun-e\, nous vous accueillerons avec plaisir.\n==>Prix: 35€ pour 10 séances\n==>Inscriptions obligatoires au 071/507.821\n 
URL:https://www.soralia.be/accueil/event/swiss-ball-gym-ballon-2/2021-10-20/
LOCATION:ACJ la Broc – Bâtiment Solidaris Charleroi\, avenue des Alliés\, 2\, Charleroi\, Hainaut\, 6000\, Belgique
CATEGORIES:Charleroi,Loisirs,Régional
ATTACH;FMTTYPE=image/png:https://www.soralia.be/wp-content/uploads/2017/01/calendrier-sept.png
END:VEVENT
BEGIN:VEVENT
DTSTART;TZID=Europe/Paris:20211020T140000
DTEND;TZID=Europe/Paris:20211020T163000
DTSTAMP:20260425T151500
CREATED:20210928T144636Z
LAST-MODIFIED:20210928T144636Z
UID:10005359-1634738400-1634747400@www.soralia.be
SUMMARY:Animation -   Ne faites pas l’autruche : découvrez le Gynoquid !
DESCRIPTION:Vous qui avez toujours voulu tout savoir sur la prévention des cancers féminins\, venez participer pendant 2h30 à l’animation et posez toutes vos questions. \nUn jeu coopératif par équipe où la progression dans le jeu se fait toutes ensemble ! Des échanges\, des discussions sur les cancers féminins (Sein\, col de l’utérus)\, sur les comportements protecteurs\, les examens de dépistage se partagent.  Des réactions\, des étonnements\, une note de soulagement\, un moment fort et agréable à partager sans modération ! \nDates: \nSoit les vendredis 8 ou 22 octobre \nSoit les mercredis 13 ou 20 octobre \nSi ces dates ne vous conviennent pas il est possible de convenir d’un autre moment.  Une animation sur demande et/ou à destination de groupes de femmes constitués est toujours possible. \n  \n 
URL:https://www.soralia.be/accueil/event/animation-ne-faites-pas-lautruche-decouvrez-le-gynoquid/2021-10-20/
LOCATION:Maison des Femmes à Gilly\, Chaussée de Lodelinsart 100\, Gilly\, 6060\, Belgique
CATEGORIES:Charleroi,Régional,Santé,Thèmes
ATTACH;FMTTYPE=image/png:https://www.soralia.be/wp-content/uploads/2017/01/calendrier-oct.png
END:VEVENT
BEGIN:VEVENT
DTSTART;TZID=Europe/Paris:20211020T190000
DTEND;TZID=Europe/Paris:20211020T203000
DTSTAMP:20260425T151500
CREATED:20210824T082758Z
LAST-MODIFIED:20211206T102241Z
UID:10005314-1634756400-1634761800@www.soralia.be
SUMMARY:Table ronde autour des familles
DESCRIPTION:Des familles\, il en existe une multitude\, qu’elles soient de sang\, de cœur\, monoparentales\, homoparentales\, de tutelle\, ou bien d’autres choses encore.\nSur base du jeu Familial Poursuite\, nous vous proposons trois tables rondes autour des politiques familiales afin d’échanger\, débattre\, comprendre\, s’outiller\, partager ensemble autour des créances alimentaires\, des allocations familiales\, du soutien aux familles et bien d’autres sujets qui rythment vos vies de famille. \nParce qu’ensemble on va plus loin\, nous souhaitons\, grâce à ces ateliers\, nourrir vos réflexions et pourquoi pas enrichir les politiques familiales souvent peu adaptées au vécu des familles. \nInfos & inscriptions obligatoires au 071/507.819 ou via fps.charleroi@solidaris.be
URL:https://www.soralia.be/accueil/event/table-ronde-autour-des-familles/2021-10-20/
LOCATION:Maison des Femmes à Gilly\, Chaussée de Lodelinsart 100\, Gilly\, 6060\, Belgique
CATEGORIES:Charleroi,Droit & Citoyenneté,Familles,Général,parentalité,Régional,Thèmes
ATTACH;FMTTYPE=image/png:https://www.soralia.be/wp-content/uploads/2017/01/calendrier-dec.png
END:VEVENT
BEGIN:VEVENT
DTSTART;TZID=Europe/Paris:20211021T091500
DTEND;TZID=Europe/Paris:20211021T113000
DTSTAMP:20260425T151500
CREATED:20210823T102000Z
LAST-MODIFIED:20210823T102000Z
UID:10005277-1634807700-1634815800@www.soralia.be
SUMMARY:Marche nordique Epinois
DESCRIPTION:Le principe de la marche nordique est simple : il s’agit d’accentuer le mouvement naturel de balancier des bras et de propulser le corps vers l’avant à l’aide de deux bâtons qui soutiennent les articulations des chevilles\, des genoux et des hanches. Toute la partie supérieure du corps est active et pas seulement les membres inférieurs. L’exercice physique est alors complet et l’entraînement cardiovasculaire et musculaire incomparable.\nAccessible à toutes et à tous\, cette activité physique vous permettra de vous re-mettre en mouvement\, accompagné-e de notre animatrice formée à cette pratique.\n\n\nPrix: 35€ et comprend 10 séances.\nLe lieu de rdv sera communiqué à l’inscription\nUn jeudi sur 2 \nRDV 9H15 départ 9h30 \n23/09\, 7/10\, 21/10\, 18/11\, 2/12\, 16/12 \nsept
URL:https://www.soralia.be/accueil/event/marche-nordique-epinois-31/2021-10-21/
LOCATION:Brabant wallon
CATEGORIES:Charleroi,Régional
ATTACH;FMTTYPE=image/png:https://www.soralia.be/wp-content/uploads/2017/01/calendrier-sept.png
END:VEVENT
BEGIN:VEVENT
DTSTART;TZID=Europe/Paris:20211022T100000
DTEND;TZID=Europe/Paris:20211022T120000
DTSTAMP:20260425T151500
CREATED:20210830T095440Z
LAST-MODIFIED:20210830T095440Z
UID:10005318-1634896800-1634904000@www.soralia.be
SUMMARY:Atelier d'écriture en ligne
DESCRIPTION:L’écriture est un terrain de jeu car écrire\, c’est jouer. Nous vous proposons des exercices d’écriture\, des jeux de mots pour écrire des choses inhabituelles qui nous entraîneront dans l’écriture de façon dynamique\, surprenante\, inattendue à notre sauce féministe ! \nA partir de photos que vous chérissez\, celles de votre été\, de livres découverts\, des morceaux de musiques\, d’objets insolites\, nous nous plongerons dans l’écriture et ses textes créatifs et/ou engagés composés de mots\, de phrases transformés\, détournés\, répétés… \nAmbiance chaleureuse et respectueuse. \nAtelier gratuit en ligne via la plateforme teams  \n1 rdv par mois \nInfos & inscription au 071/507.819 ou via fps.charleroi@solidaris.be  \n  \n 
URL:https://www.soralia.be/accueil/event/atelier-decriture-en-ligne/2021-10-22/
LOCATION:plateforme en ligne Teams
CATEGORIES:Charleroi,Droit & Citoyenneté,Egalité femme-homme,Régional,Thèmes
ATTACH;FMTTYPE=image/png:https://www.soralia.be/wp-content/uploads/2017/01/calendrier-sept.png
END:VEVENT
BEGIN:VEVENT
DTSTART;TZID=Europe/Paris:20211022T140000
DTEND;TZID=Europe/Paris:20211022T163000
DTSTAMP:20260425T151500
CREATED:20210928T144636Z
LAST-MODIFIED:20210928T144636Z
UID:10005360-1634911200-1634920200@www.soralia.be
SUMMARY:Animation -   Ne faites pas l’autruche : découvrez le Gynoquid !
DESCRIPTION:Vous qui avez toujours voulu tout savoir sur la prévention des cancers féminins\, venez participer pendant 2h30 à l’animation et posez toutes vos questions. \nUn jeu coopératif par équipe où la progression dans le jeu se fait toutes ensemble ! Des échanges\, des discussions sur les cancers féminins (Sein\, col de l’utérus)\, sur les comportements protecteurs\, les examens de dépistage se partagent.  Des réactions\, des étonnements\, une note de soulagement\, un moment fort et agréable à partager sans modération ! \nDates: \nSoit les vendredis 8 ou 22 octobre \nSoit les mercredis 13 ou 20 octobre \nSi ces dates ne vous conviennent pas il est possible de convenir d’un autre moment.  Une animation sur demande et/ou à destination de groupes de femmes constitués est toujours possible. \n  \n 
URL:https://www.soralia.be/accueil/event/animation-ne-faites-pas-lautruche-decouvrez-le-gynoquid/2021-10-22/
LOCATION:Maison des Femmes à Gilly\, Chaussée de Lodelinsart 100\, Gilly\, 6060\, Belgique
CATEGORIES:Charleroi,Régional,Santé,Thèmes
ATTACH;FMTTYPE=image/png:https://www.soralia.be/wp-content/uploads/2017/01/calendrier-oct.png
END:VEVENT
BEGIN:VEVENT
DTSTART;TZID=Europe/Paris:20211022T193000
DTEND;TZID=Europe/Paris:20211022T213000
DTSTAMP:20260425T151500
CREATED:20210901T110446Z
LAST-MODIFIED:20211013T095309Z
UID:10005327-1634931000-1634938200@www.soralia.be
SUMMARY:Ateliers - Prendre la parole en public
DESCRIPTION:Vous tremblez à l’idée de passer vos examens oraux\, vous stressez lors d’un entretien d’ embauche\, … \nNous vous proposons un atelier pour : \n\napprendre à respirer\napprendre à poser votre voix\ncomprendre l’importance du regard\noser s’affirmer\n\nAtelier avec des exercices individuels et collectifs dans un climat de confiance. \nModule en 5 séances : les vendredis 1er\, 8\, 15\, 22 et 29 octobre\, de 19h00  à 21h00 au Centre culturel de Nismes. Animé par Stéphanie Destrée
URL:https://www.soralia.be/accueil/event/atelier-prendre-la-parole-en-public-2021-10-22/2021-10-22/
LOCATION:Centre culturel de Nismes\, rue Vieille Eglise\, Nismes\, 5670
CATEGORIES:Egalité femme-homme,Général,Namur,Régional,Thèmes
ATTACH;FMTTYPE=image/png:https://www.soralia.be/wp-content/uploads/2017/01/calendrier-oct.png
ORGANIZER;CN="FPS Namur":MAILTO:fps.provincenamur@solidaris.be
END:VEVENT
BEGIN:VEVENT
DTSTART;TZID=Europe/Paris:20211024T090000
DTEND;TZID=Europe/Paris:20211024T150000
DTSTAMP:20260425T151500
CREATED:20210924T125955Z
LAST-MODIFIED:20211019T075842Z
UID:10005353-1635066000-1635087600@www.soralia.be
SUMMARY:Grande Brocante aux Livres & aux Disques
DESCRIPTION:Soralia d’Evere vous invitent à la « Grande brocante aux Livres & aux Disques« .\n\n\n\nQuand?\nLe dimanche 24 octobre 2021 de 9h à 15h\n\n\n\nOù?\nMaison communale d’Evere – Espace Delahaut\n10 Square Hoedemaekers à 1140 Evere (niveau -1)\n\n\n\nRenseignements et réservation d’emplacement(s) au :\nVéronique Levieux 0476 767 855 ou Eliane Daels 0497 599 617\n\n\n\nLe Covid safe Ticket sera d’application!
URL:https://www.soralia.be/accueil/event/grande-brocante-aux-livres-aux-disques/
LOCATION:Maison communale Evere\, square Hoedemaekers\, 10\, Evere\, Bruxelles\, 1140\, Belgique
CATEGORIES:Bruxelles,Général,Loisirs,Régional
ATTACH;FMTTYPE=image/png:https://www.soralia.be/wp-content/uploads/2017/01/calendrier-oct.png
END:VEVENT
END:VCALENDAR