BEGIN:VCALENDAR
VERSION:2.0
PRODID:-//Soralia - ECPv6.15.17.1//NONSGML v1.0//EN
CALSCALE:GREGORIAN
METHOD:PUBLISH
X-WR-CALNAME:Soralia
X-ORIGINAL-URL:https://www.soralia.be/accueil
X-WR-CALDESC:Évènements pour Soralia
REFRESH-INTERVAL;VALUE=DURATION:PT1H
X-Robots-Tag:noindex
X-PUBLISHED-TTL:PT1H
BEGIN:VTIMEZONE
TZID:Europe/Paris
BEGIN:DAYLIGHT
TZOFFSETFROM:+0100
TZOFFSETTO:+0200
TZNAME:CEST
DTSTART:20200329T010000
END:DAYLIGHT
BEGIN:STANDARD
TZOFFSETFROM:+0200
TZOFFSETTO:+0100
TZNAME:CET
DTSTART:20201025T010000
END:STANDARD
BEGIN:DAYLIGHT
TZOFFSETFROM:+0100
TZOFFSETTO:+0200
TZNAME:CEST
DTSTART:20210328T010000
END:DAYLIGHT
BEGIN:STANDARD
TZOFFSETFROM:+0200
TZOFFSETTO:+0100
TZNAME:CET
DTSTART:20211031T010000
END:STANDARD
BEGIN:DAYLIGHT
TZOFFSETFROM:+0100
TZOFFSETTO:+0200
TZNAME:CEST
DTSTART:20220327T010000
END:DAYLIGHT
BEGIN:STANDARD
TZOFFSETFROM:+0200
TZOFFSETTO:+0100
TZNAME:CET
DTSTART:20221030T010000
END:STANDARD
END:VTIMEZONE
BEGIN:VEVENT
DTSTART;TZID=Europe/Paris:20211025T093000
DTEND;TZID=Europe/Paris:20211025T103000
DTSTAMP:20260423T225736
CREATED:20210823T150611Z
LAST-MODIFIED:20210823T150611Z
UID:10005294-1635154200-1635157800@www.soralia.be
SUMMARY:Cours de Yoga [COS\, centre sportif de Charleroi]
DESCRIPTION:Nous vous proposons un cours de Yoga.\nMais qu’est-ce que le Yoga?\nC’est une discipline\, une ascèse\, mais aussi l’état d’union qui en découle. Il existe plusieurs types de yoga\, le plus pratiqué en occident étant le hatha yoga. Il s’agit de la pratique des « asanas » ou postures avec une attention conjointe sur la respiration et le mental.\nDans un cadre bienveillant\, à l’écoute\, et sans jugement\, nous vous recevons pour pratiquer et améliorer votre pratique de cette discipline.\n\n\nLe prix s’entend pour 10 séances.\nInscriptions obligatoires au 071/507.821\n  \n 
URL:https://www.soralia.be/accueil/event/cours-de-yoga-cos-centre-sportif-de-charleroi/2021-10-25/
LOCATION:COS\, Centre sportif de Charleroi\, Rue des Olympiades\, 2\, Charleroi\, Hainaut\, 6000\, Belgique
CATEGORIES:Charleroi,Loisirs,Régional
ATTACH;FMTTYPE=image/png:https://www.soralia.be/wp-content/uploads/2017/01/calendrier-sept.png
END:VEVENT
BEGIN:VEVENT
DTSTART;TZID=Europe/Paris:20211025T100000
DTEND;TZID=Europe/Paris:20211025T130000
DTSTAMP:20260423T225736
CREATED:20210517T093213Z
LAST-MODIFIED:20210517T155320Z
UID:10005115-1635156000-1635166800@www.soralia.be
SUMMARY:Balade -Bains de Forêt
DESCRIPTION:Découvrez les bienfaits des « Bains de Forêt »\nOffrez-vous\, en compagnie de notre thérapeute\, 3 heures de déconnexion totale en forêt pour ressentir un bien-être tant physique que mental ! \nQuand ?\nSoit le samedi 22 mai de 10h 13h\, \nSoit le samedi 29 mai de 10h 13h\, \nSoit le samedi 12 juin de 10h 13h \nOù ?\nEn Forêt de Soignes (départ d’Auderghem) \nCombien ?\n20 euros \nRenseignements :\n02/546 14 07 \nfps-ateliersante@fmsdb.be \n 
URL:https://www.soralia.be/accueil/event/bains-de-foret/2021-10-25/
LOCATION:Forêt de Soignes\, Auderghem\, Belgique
CATEGORIES:Bruxelles,Familles,Général,Loisirs,Régional,Santé,Thèmes
ATTACH;FMTTYPE=image/png:https://www.soralia.be/wp-content/uploads/2017/01/calendrier-mai.png
END:VEVENT
BEGIN:VEVENT
DTSTART;TZID=Europe/Paris:20211026T140000
DTEND;TZID=Europe/Paris:20211026T150000
DTSTAMP:20260423T225736
CREATED:20210823T091107Z
LAST-MODIFIED:20210823T091449Z
UID:10005247-1635256800-1635260400@www.soralia.be
SUMMARY:Gym Zen Epinois 
DESCRIPTION:La gym Zen permet un renforcement musculaire général. L’échauffement est réalisé au moyen de pas dynamiques. Ensuite\, des exercices combinés permettent de travailler plusieurs groupes musculaires en même temps. Des exercices au sol sont également proposés. Le cours se termine par des étirements.\nDans une ambiance respectueuse de chacun-e\, ce cours d’activité physique se donne dans un climat de confiance.\nLe prix s’entend pour une carte de dix séances.\n 
URL:https://www.soralia.be/accueil/event/gym-zen-epinois-47/2021-10-26/
LOCATION:Salle communale Epinois\, rue du By 132\, Epinois\, Hainaut\, Belgique
CATEGORIES:Loisirs
ATTACH;FMTTYPE=image/png:https://www.soralia.be/wp-content/uploads/2017/01/calendrier-sept.png
END:VEVENT
BEGIN:VEVENT
DTSTART;TZID=Europe/Paris:20211027T100000
DTEND;TZID=Europe/Paris:20211027T110000
DTSTAMP:20260423T225736
CREATED:20210823T085545Z
LAST-MODIFIED:20210823T085838Z
UID:10005226-1635328800-1635332400@www.soralia.be
SUMMARY:Swiss Ball - Gym Ballon
DESCRIPTION:Vous avez déjà testé un cours de Swiss-Ball? Qu’est-ce que ça peut vous apporter lorsque c’est pratiqué régulièrement?\nLes exercices se font à l’aide d’un gros ballon de 45 à 65 cm de diamètre. Le swiss ball permet de travailler le corps dans sa globalité. Les abdos et les muscles du dos sont travaillés et étirés\, ce sont eux qui vous aideront à trouver l’équilibre indispensable à la réalisation des divers exercices. Le ballon de gymnastique ou Swiss Ball est excellent aussi pour renforcer les articulations et vous aider à travailler votre concentration.\nDans une ambiance décontractée\, de respect des capacités de chacun-e\, nous vous accueillerons avec plaisir.\n==>Prix: 35€ pour 10 séances\n==>Inscriptions obligatoires au 071/507.821\n 
URL:https://www.soralia.be/accueil/event/swiss-ball-gym-ballon-2/2021-10-27/
LOCATION:ACJ la Broc – Bâtiment Solidaris Charleroi\, avenue des Alliés\, 2\, Charleroi\, Hainaut\, 6000\, Belgique
CATEGORIES:Charleroi,Loisirs,Régional
ATTACH;FMTTYPE=image/png:https://www.soralia.be/wp-content/uploads/2017/01/calendrier-sept.png
END:VEVENT
BEGIN:VEVENT
DTSTART;TZID=Europe/Paris:20211027T140000
DTEND;TZID=Europe/Paris:20211027T170000
DTSTAMP:20260423T225736
CREATED:20210823T161301Z
LAST-MODIFIED:20210823T161301Z
UID:10005302-1635343200-1635354000@www.soralia.be
SUMMARY:Atelier d'art floral
DESCRIPTION:Travailler avec des fleurs vous plait et vous avez envie de le faire en groupe\, accompagné.e d’une animatrice qui vous guidera pas à pas dans la confection de votre montage de fleurs?\nAlors\, rejoignez-nous! Cet atelier risque de vous plaire!\nVenez comme vous êtes\, nous nous occupons de vous fournir les fleurs!\n\n\nUn mercredi par mois \n1er groupe de 14h à 16h et 2e groupe de 17h à 19h \nDates : 27/10\, 24/11\, 22/12 \nSpécial Noël : Le mercredi 22 décembre 2021 \nLe prix s’entend avec oasis et fleurs comprises \n  \n 
URL:https://www.soralia.be/accueil/event/atelier-dart-floral-2/2021-10-27/
LOCATION:Maison des Femmes à Gilly\, Chaussée de Lodelinsart 100\, Gilly\, 6060\, Belgique
CATEGORIES:Loisirs
ATTACH;FMTTYPE=image/png:https://www.soralia.be/wp-content/uploads/2017/01/calendrier-sept.png
END:VEVENT
BEGIN:VEVENT
DTSTART;TZID=Europe/Paris:20211029T091500
DTEND;TZID=Europe/Paris:20211029T113000
DTSTAMP:20260423T225736
CREATED:20210823T101036Z
LAST-MODIFIED:20211216T150207Z
UID:10005271-1635498900-1635507000@www.soralia.be
SUMMARY:Marche nordique Charleroi
DESCRIPTION:Le principe de la marche nordique est simple : il s’agit d’accentuer le mouvement naturel de balancier des bras et de propulser le corps vers l’avant à l’aide de deux bâtons qui soutiennent les articulations des chevilles\, des genoux et des hanches. Toute la partie supérieure du corps est active et pas seulement les membres inférieurs. L’exercice physique est alors complet et l’entraînement cardiovasculaire et musculaire incomparable.\nAccessible à toutes et à tous\, cette activité physique vous permettra de vous re-mettre en mouvement\, accompagné-e de notre animatrice formée à cette pratique.\n\n\nPrix: 35€ et comprend 10 séances.\nLe lieu de rdv sera communiqué à l’inscription\nUn vendredi sur 2 \nRDV 9H15 départ 9h30 \n17/09\, 1/10\, 15/10\, 29/10\, 12/11\, 26/11\, 10/12 \n 
URL:https://www.soralia.be/accueil/event/marche-nordique-charleroi-2/2021-10-29/
CATEGORIES:Charleroi,Loisirs,Régional
ATTACH;FMTTYPE=image/png:https://www.soralia.be/wp-content/uploads/2017/01/calendrier-sept.png
END:VEVENT
BEGIN:VEVENT
DTSTART;TZID=Europe/Paris:20211029T133000
DTEND;TZID=Europe/Paris:20211029T163000
DTSTAMP:20260423T225736
CREATED:20210823T162133Z
LAST-MODIFIED:20210823T162133Z
UID:10005307-1635514200-1635525000@www.soralia.be
SUMMARY:atelier d'aquarelle et de techniques mixtes
DESCRIPTION:Laissez-vous tenter par l’aventure et plongez vos pinceaux dans l’univers de l’eau\, de l’aquarelle\, des techniques et des supports mixtes (toile\, carton…). Pour la recette\, rien de plus simple : une utilisation d’eau\, mélange de pigments\, une palette de couleurs\, des éléments féminins\, un choix de papier étonnant et des pinceaux de tous poils\, tout cela dans une ambiance décontractée ! S’inspirer des prochains rendez-vous et s’essayer aux techniques d’impressions ! \nDébutant.e.s ou confirmé.e.s se retrouvent ainsi dans une ambiance chaleureuse et amicale\, progressent de séance en séance. \nLe prix s’entend matériel compris. \n  \n 
URL:https://www.soralia.be/accueil/event/atelier-daquarelle-et-de-techniques-mixtes/2021-10-29/
LOCATION:Bâtiment Solidaris route de Beaumont 189 – 6030 Marchienne-au-Pont\, route de Beaumont 189\, Marchienne-au-Pont\, Hainaut\, 6030\, Belgique
CATEGORIES:Charleroi,Loisirs,Régional
ATTACH;FMTTYPE=image/png:https://www.soralia.be/wp-content/uploads/2017/01/calendrier-sept.png
END:VEVENT
BEGIN:VEVENT
DTSTART;TZID=Europe/Paris:20211029T193000
DTEND;TZID=Europe/Paris:20211029T213000
DTSTAMP:20260423T225736
CREATED:20210901T110446Z
LAST-MODIFIED:20211013T095309Z
UID:10005328-1635535800-1635543000@www.soralia.be
SUMMARY:Ateliers - Prendre la parole en public
DESCRIPTION:Vous tremblez à l’idée de passer vos examens oraux\, vous stressez lors d’un entretien d’ embauche\, … \nNous vous proposons un atelier pour : \n\napprendre à respirer\napprendre à poser votre voix\ncomprendre l’importance du regard\noser s’affirmer\n\nAtelier avec des exercices individuels et collectifs dans un climat de confiance. \nModule en 5 séances : les vendredis 1er\, 8\, 15\, 22 et 29 octobre\, de 19h00  à 21h00 au Centre culturel de Nismes. Animé par Stéphanie Destrée
URL:https://www.soralia.be/accueil/event/atelier-prendre-la-parole-en-public-2021-10-22/2021-10-29/
LOCATION:Centre culturel de Nismes\, rue Vieille Eglise\, Nismes\, 5670
CATEGORIES:Egalité femme-homme,Général,Namur,Régional,Thèmes
ATTACH;FMTTYPE=image/png:https://www.soralia.be/wp-content/uploads/2017/01/calendrier-oct.png
ORGANIZER;CN="FPS Namur":MAILTO:fps.provincenamur@solidaris.be
END:VEVENT
BEGIN:VEVENT
DTSTART;TZID=Europe/Paris:20211030T100000
DTEND;TZID=Europe/Paris:20211030T160000
DTSTAMP:20260423T225736
CREATED:20210823T164425Z
LAST-MODIFIED:20211019T080029Z
UID:10005312-1635588000-1635609600@www.soralia.be
SUMMARY:Atelier - Zéro déchet\, zéro sexisme?
DESCRIPTION:Lors de cet atelier\, nous vous invitons à la découverte de la question zéro déchet. Comment\, à l’heure à laquelle nous parlons de plus en plus de la situation climatique\, apporter sa pierre à l’édifice sans tomber dans les clichés sexistes des tâches ménagères.\nQui dit fabriquer ses produits d’entretiens naturels\, pose également la question de la charge mentale de ces fabrications. \nEnsemble\, nous réfléchirons à comment répartir équitablement ces tâches au sein de la famille\, nous échangerons nos pratiques et vous terminerez l’après-midi en fabriquant vos produits d’entretiens! \nInscriptions obligatoires au 071/507.819 ou via fps.charleroi@solidaris.be \n  \n 
URL:https://www.soralia.be/accueil/event/samedi-ep-zero-dechet-zero-sexisme/
LOCATION:Bâtiment Solidaris route de Beaumont 189 – 6030 Marchienne-au-Pont\, route de Beaumont 189\, Marchienne-au-Pont\, Hainaut\, 6030\, Belgique
CATEGORIES:Charleroi,Egalité femme-homme,Familles,Général,Régional,Thèmes
ATTACH;FMTTYPE=image/png:https://www.soralia.be/wp-content/uploads/2017/01/calendrier-oct.png
END:VEVENT
BEGIN:VEVENT
DTSTART;VALUE=DATE:20211031
DTEND;VALUE=DATE:20211101
DTSTAMP:20260423T225736
CREATED:20210816T080447Z
LAST-MODIFIED:20210816T080447Z
UID:10005215-1635638400-1635724799@www.soralia.be
SUMMARY:Autodéfense verbale
DESCRIPTION:L’idéal est d’éviter l’affrontement physique ! Les agressions verbales font partie du quotidien et polluent votre vie ? Ce stage vous propose une approche de base : identifier les différents types d’agressions\, poser ses limites\, apprendre à développer des stratégies\, gérer ses émotions… pour améliorer sa qualité de vie. \nDate :\n31/10/2021 de 9h30 à 18h \nPublic : femmes à partir de 16 ans\nPrix : 40 €* / 45 €\nInfo et réservation : 0485/46 74 83 ou wendo@skynet.be
URL:https://www.soralia.be/accueil/event/autodefense-verbale-4/
LOCATION:Les Associations Solidaris – Longdoz\, Rue Edouard Remouchamps 2\, Liège\, Liège\, 4020\, Belgique
CATEGORIES:Liège,Régional,Thèmes,Violences
ATTACH;FMTTYPE=image/png:https://www.soralia.be/wp-content/uploads/2017/01/calendrier-oct.png
END:VEVENT
END:VCALENDAR