BEGIN:VCALENDAR
VERSION:2.0
PRODID:-//Soralia - ECPv6.15.17.1//NONSGML v1.0//EN
CALSCALE:GREGORIAN
METHOD:PUBLISH
X-WR-CALNAME:Soralia
X-ORIGINAL-URL:https://www.soralia.be/accueil
X-WR-CALDESC:Évènements pour Soralia
REFRESH-INTERVAL;VALUE=DURATION:PT1H
X-Robots-Tag:noindex
X-PUBLISHED-TTL:PT1H
BEGIN:VTIMEZONE
TZID:Europe/Paris
BEGIN:DAYLIGHT
TZOFFSETFROM:+0100
TZOFFSETTO:+0200
TZNAME:CEST
DTSTART:20210328T010000
END:DAYLIGHT
BEGIN:STANDARD
TZOFFSETFROM:+0200
TZOFFSETTO:+0100
TZNAME:CET
DTSTART:20211031T010000
END:STANDARD
BEGIN:DAYLIGHT
TZOFFSETFROM:+0100
TZOFFSETTO:+0200
TZNAME:CEST
DTSTART:20220327T010000
END:DAYLIGHT
BEGIN:STANDARD
TZOFFSETFROM:+0200
TZOFFSETTO:+0100
TZNAME:CET
DTSTART:20221030T010000
END:STANDARD
BEGIN:DAYLIGHT
TZOFFSETFROM:+0100
TZOFFSETTO:+0200
TZNAME:CEST
DTSTART:20230326T010000
END:DAYLIGHT
BEGIN:STANDARD
TZOFFSETFROM:+0200
TZOFFSETTO:+0100
TZNAME:CET
DTSTART:20231029T010000
END:STANDARD
END:VTIMEZONE
BEGIN:VEVENT
DTSTART;VALUE=DATE:20220208
DTEND;VALUE=DATE:20220307
DTSTAMP:20260422T133400
CREATED:20220121T134545Z
LAST-MODIFIED:20220125T085316Z
UID:10005432-1644278400-1646611199@www.soralia.be
SUMMARY:Exposition des oeuvres de Ina Lichtenberg
DESCRIPTION:𝗘𝗫𝗣𝗢𝗦𝗜𝗧𝗜𝗢𝗡 𝗗𝗘𝗦 𝗢𝗘𝗨𝗩𝗥𝗘𝗦 𝗗𝗘 𝗜𝗡𝗔 𝗟𝗜𝗖𝗛𝗧𝗘𝗡𝗕𝗘𝗥𝗚\n\n\nProjet « Mater de mémoire » en collaboration avec Véronique Levieux\, échevine de l’égalité des chances de la commune d’Evere\n\n\n\n𝘘𝘶𝘢𝘯𝘥?\ndu 𝟴 𝗳𝗲́𝘃𝗿𝗶𝗲𝗿 𝗮𝘂 𝟲 𝗺𝗮𝗿𝘀 𝟮𝟬𝟮𝟮\n\n\n\n𝘖𝘶̀?\nEspace Delahaut – Maison communale d’Evere\nSquare Servaes Hoedemakers 10 1140 Evere
URL:https://www.soralia.be/accueil/event/exposition-des-oeuvres-de-ina-lichtenberg/
LOCATION:Maison communale Evere\, square Hoedemaekers\, 10\, Evere\, Bruxelles\, 1140\, Belgique
CATEGORIES:Bruxelles,Culture,Régional
ATTACH;FMTTYPE=image/png:https://www.soralia.be/wp-content/uploads/2017/01/calendrier-fevrier.png
END:VEVENT
BEGIN:VEVENT
DTSTART;TZID=Europe/Paris:20220228T100000
DTEND;TZID=Europe/Paris:20220228T130000
DTSTAMP:20260422T133400
CREATED:20210517T093213Z
LAST-MODIFIED:20210517T155320Z
UID:10005133-1646042400-1646053200@www.soralia.be
SUMMARY:Balade -Bains de Forêt
DESCRIPTION:Découvrez les bienfaits des « Bains de Forêt »\nOffrez-vous\, en compagnie de notre thérapeute\, 3 heures de déconnexion totale en forêt pour ressentir un bien-être tant physique que mental ! \nQuand ?\nSoit le samedi 22 mai de 10h 13h\, \nSoit le samedi 29 mai de 10h 13h\, \nSoit le samedi 12 juin de 10h 13h \nOù ?\nEn Forêt de Soignes (départ d’Auderghem) \nCombien ?\n20 euros \nRenseignements :\n02/546 14 07 \nfps-ateliersante@fmsdb.be \n 
URL:https://www.soralia.be/accueil/event/bains-de-foret/2022-02-28/
LOCATION:Forêt de Soignes\, Auderghem\, Belgique
CATEGORIES:Bruxelles,Familles,Général,Loisirs,Régional,Santé,Thèmes
ATTACH;FMTTYPE=image/png:https://www.soralia.be/wp-content/uploads/2017/01/calendrier-mai.png
END:VEVENT
BEGIN:VEVENT
DTSTART;TZID=Europe/Paris:20220301T130000
DTEND;TZID=Europe/Paris:20220301T160000
DTSTAMP:20260422T133400
CREATED:20211209T142914Z
LAST-MODIFIED:20220401T080357Z
UID:10005392-1646139600-1646150400@www.soralia.be
SUMMARY:Atelier de théâtre-action
DESCRIPTION:Libérer la parole de chaque participant.e en vue d’initier un espace d’expression conscient. Et ce\, par le biais de jeux\, de la découverte d’expressions verbales et non verbales\, d’écriture de petites histoires spontanées et de mise en débat. Le thème se profilera au fil des rencontres en lien avec le féminisme. L’objectif est la création du spectacle pour début mars 2023. \nSéances chaque mardi après-midi\, à partir du 1er février. Gratuit. \nInfos et inscriptions : Françoise Dupont 0497/97 85 50 ou francoise.dupont@solidaris.be
URL:https://www.soralia.be/accueil/event/atelier-de-theatre-action/2022-03-01/
LOCATION:Centre culturel de Philippeville\, rue de France 1A\, Philippeville\, Namur\, 5600
CATEGORIES:Egalité femme-homme,Namur,Régional,Thèmes
ATTACH;FMTTYPE=image/png:https://www.soralia.be/wp-content/uploads/2017/01/calendrier-avril.png
ORGANIZER;CN="FPS Namur":MAILTO:fps.provincenamur@solidaris.be
END:VEVENT
BEGIN:VEVENT
DTSTART;TZID=Europe/Paris:20220303T190000
DTEND;TZID=Europe/Paris:20220303T213000
DTSTAMP:20260422T133400
CREATED:20220303T091030Z
LAST-MODIFIED:20220303T100809Z
UID:10005472-1646334000-1646343000@www.soralia.be
SUMMARY:Résister et militer au féminin
DESCRIPTION:Un cycle de rencontres avec des femmes qui agissent aujourd’hui dans des domaines tels que l’enseignement\, la scène\, la littérature\, l’action sociale\, la désobéissance civile ou encore la lutte contre le handicap. \nAnouk Van Gestel – « Désobéir par solidarité »\n\n3 mars 2022 à 19h \nSalle de la FMSB \nChaussée de Vleurgat 23 à 1050 Ixelles \n\nInfos et inscriptions : juliaerazo@hotmail.com – 0493 70 67 94
URL:https://www.soralia.be/accueil/event/resister-et-militer-au-feminin-2/
LOCATION:Salle de la FMSB – Chaussée de Vleurgat 23\, 1050 Ixelles\, Chaussée de Vleurgat 23\, Ixelles\, Brussel\, 1050\, Belgique
CATEGORIES:Bruxelles,Culture,Droit & Citoyenneté,Général,Régional,Thèmes
ATTACH;FMTTYPE=image/png:https://www.soralia.be/wp-content/uploads/2017/01/calendrier-mars.png
END:VEVENT
BEGIN:VEVENT
DTSTART;TZID=Europe/Paris:20220304T093000
DTEND;TZID=Europe/Paris:20220312T170000
DTSTAMP:20260422T133400
CREATED:20220215T113842Z
LAST-MODIFIED:20220215T113842Z
UID:10005450-1646386200-1647104400@www.soralia.be
SUMMARY:Expo - Que portais-tu ce jour-là ?
DESCRIPTION:Dans le cadre de la Journée internationale des droits des femmes\, le comité local FPS de Tubize\, en collaboration avec le Centre culturel de Tubize\, propose l’exposition « Que portais-tu ce jour-là » d’Amnesty Internationale. \nVernissage : le 4 mars à 19h30 \nInfos : anne.gerard@solidaris.be
URL:https://www.soralia.be/accueil/event/expo-que-portais-tu-ce-jour-la/
LOCATION:Centre culturel de Tubize\, Boulevard Georges Deryck\, 124 \, Tubize
CATEGORIES:Brabant wallon,Droit & Citoyenneté,Egalité femme-homme,Régional,Thèmes
ORGANIZER;CN="Comit%C3%A9 local FPS de Tubize":MAILTO:fps.tubize@gmail.com
END:VEVENT
BEGIN:VEVENT
DTSTART;TZID=Europe/Paris:20220304T130000
DTEND;TZID=Europe/Paris:20220304T160000
DTSTAMP:20260422T133400
CREATED:20211209T141236Z
LAST-MODIFIED:20220426T075058Z
UID:10005380-1646398800-1646409600@www.soralia.be
SUMMARY:Atelier d'écriture créative
DESCRIPTION:Parcours de femmes \nNous agiterons nos neurones et nos doigts avec de la couleur\, de l’encre\, des mots\, des paroles. \nChacune vient avec son bagage\, pour écrire le passé\, le présent\, le futur\, pour se dire\, pour le plaisir de partager un moment. \nIl y aura des moments d’écriture sur base de consignes pour faire émerger la créativité des mots\, des moments de partage avec le groupe et aussi quelques fous rire et idées farfelues. \nAtelier gratuit un vendredi par mois\, de 13h à 16h\, à partir du 4 février 2022 \nInfos et inscriptions : Françoise Dupont 0497/97 85 50 ou francoise.dupont@solidaris.be
URL:https://www.soralia.be/accueil/event/atelier-decriture-creative/2022-03-04/
LOCATION:Solidaris Saint-Servais\, chaussée de Waterloo 182\, 5002 Saint-Servais\, Namur\, 5002\, Belgique
CATEGORIES:Egalité femme-homme,Namur,Régional,Thèmes
ATTACH;FMTTYPE=image/png:https://www.soralia.be/wp-content/uploads/2017/01/calendrier-fevrier.png
ORGANIZER;CN="FPS Namur":MAILTO:fps.provincenamur@solidaris.be
END:VEVENT
BEGIN:VEVENT
DTSTART;TZID=Europe/Paris:20220304T203000
DTEND;TZID=Europe/Paris:20220304T230000
DTSTAMP:20260422T133400
CREATED:20220215T114112Z
LAST-MODIFIED:20220215T114112Z
UID:10005451-1646425800-1646434800@www.soralia.be
SUMMARY:Ciné-débat : #SalePute de Florence Hainaut et Myriam Leroy
DESCRIPTION:Dans le cadre de la Journée internationale des droits des femmes\, le comité local FPS de Tubize\, en collaboration avec le Centre culturel de Tubize\, propose un ciné-débat autour du film #SalePute de Florence Hainaut et Myriam Leroy \nInformation et inscriptions : Centre culturel de Tubize – 02 355 98 95
URL:https://www.soralia.be/accueil/event/cine-debat-salepute-de-florence-hainaut-et-myriam-leroy/
LOCATION:Centre culturel de Tubize\, Boulevard Georges Deryck\, 124 \, Tubize
CATEGORIES:Brabant wallon,Droit & Citoyenneté,Egalité femme-homme,Régional,Thèmes
ORGANIZER;CN="Comit%C3%A9 local FPS de Tubize":MAILTO:fps.tubize@gmail.com
END:VEVENT
BEGIN:VEVENT
DTSTART;TZID=Europe/Paris:20220305T100000
DTEND;TZID=Europe/Paris:20220305T170000
DTSTAMP:20260422T133400
CREATED:20220215T110211Z
LAST-MODIFIED:20220215T110211Z
UID:10005449-1646474400-1646499600@www.soralia.be
SUMMARY:Stage d'autodéfense
DESCRIPTION:Dans le cadre de la Journée Internationale des droits des femmes le 8 mars\, nous avons le plaisir de vous inviter à un stage d’auto-défense\, organisé avec la collaboration de l’asbl Garance. \n  \nDurant ces 2 journées\, vous apprendrez à connaître vos propres limites\, à les poser de manière verbale et non verbale\, et si besoin à les défendre de manière physique. \nVous saurez aussi identifier des situations potentiellement dangereuses et les désamorcer\, afin de mettre un terme à toute agression\, qu’elle vienne d’un.e proche ou d’un.e inconnu.e. \nCe stage est accessible à toutes les femmes\, quelle que soit leur condition physique.
URL:https://www.soralia.be/accueil/event/stage-dautodefense-2/
LOCATION:Hall Omnisports Jambes\, rue Michiels 8\, 5100 Jambes\, 5100
CATEGORIES:Egalité femme-homme,Namur,Régional,Thèmes
ATTACH;FMTTYPE=image/png:https://www.soralia.be/wp-content/uploads/2017/01/calendrier-mars.png
ORGANIZER;CN="FPS Namur":MAILTO:fps.provincenamur@solidaris.be
END:VEVENT
BEGIN:VEVENT
DTSTART;TZID=Europe/Paris:20220305T140000
DTEND;TZID=Europe/Paris:20220305T160000
DTSTAMP:20260422T133400
CREATED:20220215T114420Z
LAST-MODIFIED:20220215T114420Z
UID:10005452-1646488800-1646496000@www.soralia.be
SUMMARY:Atelier d'initiation à l'auto-défense verbale
DESCRIPTION:Dans le cadre de la Journée internationale des droits des femmes\, le comité local FPS de Tubize\, en collaboration avec le Centre culturel de Tubize\, propose un atelier d’initiation à l’auto-défense verbale animé par le Théâtre des Rues. \nInformation et inscriptions : Adriana Rocco : 0478 24 00 74 – fps.tubize@gmail.com \nPlaces limitées
URL:https://www.soralia.be/accueil/event/atelier-dinitiation-a-lauto-defense-verbale/
LOCATION:Centre culturel de Tubize\, Boulevard Georges Deryck\, 124 \, Tubize
ORGANIZER;CN="Comit%C3%A9 local FPS de Tubize":MAILTO:fps.tubize@gmail.com
END:VEVENT
BEGIN:VEVENT
DTSTART;TZID=Europe/Paris:20220306T100000
DTEND;TZID=Europe/Paris:20220306T170000
DTSTAMP:20260422T133400
CREATED:20220215T110113Z
LAST-MODIFIED:20220215T110113Z
UID:10005448-1646560800-1646586000@www.soralia.be
SUMMARY:Stage d'autodéfense
DESCRIPTION:Dans le cadre de la Journée Internationale des droits des femmes le 8 mars\, nous avons le plaisir de vous inviter à un stage d’auto-défense\, organisé avec la collaboration de l’asbl Garance. \n  \nDurant ces 2 journées\, vous apprendrez à connaître vos propres limites\, à les poser de manière verbale et non verbale\, et si besoin à les défendre de manière physique. \nVous saurez aussi identifier des situations potentiellement dangereuses et les désamorcer\, afin de mettre un terme à toute agression\, qu’elle vienne d’un.e proche ou d’un.e inconnu.e. \nCe stage est accessible à toutes les femmes\, quelle que soit leur condition physique.
URL:https://www.soralia.be/accueil/event/stage-dautodefense/
LOCATION:Hall Omnisports Jambes\, rue Michiels 8\, 5100 Jambes\, 5100
CATEGORIES:Egalité femme-homme,Namur,Régional,Thèmes
ATTACH;FMTTYPE=image/png:https://www.soralia.be/wp-content/uploads/2017/01/calendrier-mars.png
END:VEVENT
END:VCALENDAR