BEGIN:VCALENDAR
VERSION:2.0
PRODID:-//Soralia - ECPv6.15.17.1//NONSGML v1.0//EN
CALSCALE:GREGORIAN
METHOD:PUBLISH
X-ORIGINAL-URL:https://www.soralia.be/accueil
X-WR-CALDESC:Évènements pour Soralia
REFRESH-INTERVAL;VALUE=DURATION:PT1H
X-Robots-Tag:noindex
X-PUBLISHED-TTL:PT1H
BEGIN:VTIMEZONE
TZID:Europe/Paris
BEGIN:DAYLIGHT
TZOFFSETFROM:+0100
TZOFFSETTO:+0200
TZNAME:CEST
DTSTART:20230326T010000
END:DAYLIGHT
BEGIN:STANDARD
TZOFFSETFROM:+0200
TZOFFSETTO:+0100
TZNAME:CET
DTSTART:20231029T010000
END:STANDARD
BEGIN:DAYLIGHT
TZOFFSETFROM:+0100
TZOFFSETTO:+0200
TZNAME:CEST
DTSTART:20240331T010000
END:DAYLIGHT
BEGIN:STANDARD
TZOFFSETFROM:+0200
TZOFFSETTO:+0100
TZNAME:CET
DTSTART:20241027T010000
END:STANDARD
BEGIN:DAYLIGHT
TZOFFSETFROM:+0100
TZOFFSETTO:+0200
TZNAME:CEST
DTSTART:20250330T010000
END:DAYLIGHT
BEGIN:STANDARD
TZOFFSETFROM:+0200
TZOFFSETTO:+0100
TZNAME:CET
DTSTART:20251026T010000
END:STANDARD
BEGIN:DAYLIGHT
TZOFFSETFROM:+0100
TZOFFSETTO:+0200
TZNAME:CEST
DTSTART:20260329T010000
END:DAYLIGHT
BEGIN:STANDARD
TZOFFSETFROM:+0200
TZOFFSETTO:+0100
TZNAME:CET
DTSTART:20261025T010000
END:STANDARD
BEGIN:DAYLIGHT
TZOFFSETFROM:+0100
TZOFFSETTO:+0200
TZNAME:CEST
DTSTART:20270328T010000
END:DAYLIGHT
BEGIN:STANDARD
TZOFFSETFROM:+0200
TZOFFSETTO:+0100
TZNAME:CET
DTSTART:20271031T010000
END:STANDARD
END:VTIMEZONE
BEGIN:VEVENT
DTSTART;TZID=Europe/Paris:20240416T183000
DTEND;TZID=Europe/Paris:20260416T203000
DTSTAMP:20260421T162854
CREATED:20260421T081017Z
LAST-MODIFIED:20260421T081017Z
UID:10006465-1713292200-1776371400@www.soralia.be
SUMMARY:Escape Game : 9m2
DESCRIPTION:Une expérience immersive pour découvrir autrement la réalité carcérale.  A travers cet escape game\, plongez dans une cellule de prison et questionnez les conditions de détention\, les droits humains et les idées reçues.
URL:https://www.soralia.be/accueil/event/escape-game-9m2/2024-04-16/
LOCATION:Maison de la Laïcité Philippeville\, Boulevard de l'Enseignement 5\, Philippeville\, Namur\, 5600\, Belgique
CATEGORIES:Namur,Régional
END:VEVENT
BEGIN:VEVENT
DTSTART;TZID=Europe/Paris:20241001T140000
DTEND;TZID=Europe/Paris:20241015T200000
DTSTAMP:20260421T162854
CREATED:20230704T150406Z
LAST-MODIFIED:20240923T112833Z
UID:10005817-1727791200-1729022400@www.soralia.be
SUMMARY:Cycle de rencontres “L’extrême-droite : on a déjà essayé !”
DESCRIPTION:Du 1er au 14 octobre à La Louvière\, le Mouvement PAC\, Soralia Centre et Soignies\, le Centre Indigo et le club Achille Chavée vous proposent un cycle de rencontres “L’extrême-droite\, on a déjà essayé !”. \n— \nL’objectif est de se questionner sur la banalisation des idées d’extrême-droite et sur le succès électoral de ses candidat.e.s\, que ce soit en Italie\, en Hongrie\, en Espagne\, en France… mais aussi en Belgique où cette année électorale a vu émerger un parti d’extrême-droite qui maîtrise les codes de la communication\, se soumet au suffrage communal à La Louvière et surfe sur nos peurs pour nous exhorter à devenir toujours plus individualiste\, raciste\, sexiste… \nTout au long du cycle\, vous aurez l’occasion de découvrir « Chez nous aussi\, ça pourrait arriver »\, une exposition proposée par Soralia. Face aux désillusions citoyennes et aux crises successives\, les partis d’extrême droite se présentent comme une solution miracle aux maux d’une société en perte de sens. Pourtant\, ce n’est qu’un leurre. Pire encore\, c’est une réelle menace pour les droits des femmes et des minorités. En cette année d’élections\, Soralia a décidé de tirer la sonnette d’alarme et de mettre en lumière les menaces que représente l’extrême droite au pouvoir. \nPROGRAMME :  \n\nExposition « Chez nous aussi\, ça pourrait arriver » de Soralia\nArpentages et rencontre avec Olivier Starquit autour des livres « Le poing\, la rose et le putois » et « Les mots qui puent »\nConférence gesticulée de Martin Gontier « Moins con qu’un poisson – Pourquoi ne faut-il pas débattre avec l’extrême-droite ? »\nFormation citoyenne « Avec l’extrême-droite\, la cible c’est toi ! »\n\nDécouvrez le programme complet ici  \nINFORMATIONS PRATIQUES :  \n\nDates : Du 1er au 18 octobre\nLieu : La Louvière\nPlus d’infos : animation@pac-g.be
URL:https://www.soralia.be/accueil/event/ateliers-nutrition-et-sante-11-18-et-25-juillet/
CATEGORIES:Centre & Soignies,Droit & Citoyenneté
ATTACH;FMTTYPE=image/png:https://www.soralia.be/wp-content/uploads/2017/01/calendrier-oct.png
END:VEVENT
BEGIN:VEVENT
DTSTART;TZID=Europe/Paris:20241015T180000
DTEND;TZID=Europe/Paris:20241015T200000
DTSTAMP:20260421T162854
CREATED:20241011T103256Z
LAST-MODIFIED:20241011T110517Z
UID:10005983-1729015200-1729022400@www.soralia.be
SUMMARY:Chorale interculturelle - Tournai
DESCRIPTION:Chorale interculturelle tournaisienne\nChanter ensemble pour aller à la rencontre de l’autre. \nLa chorale interculturelle tournaisienne a pour vocation de tisser des ponts entre citoyen.nes du monde en proposant un répertoire plus éclectique\, issu de la diversité culturelle des participant.e.s ! \nVenez travailler votre voix avec la cheffe de chœurs\, Comète Waf ! \nInfos pratiques\n\nPour qui ? Dès 18 ans \n\nQuand ? 2 mardis par mois de 18h à 20h \n\nOù ? Salle CMT (suivez le fléchage)\nrue de Cordes 8\, 7500 Tournai \n\nPrix ? Gratuit \n\nSur inscription\nSoralia Wallonie picarde\n068/84 84 98 – soralia.mwp@solidaris.be
URL:https://www.soralia.be/accueil/event/chorale-interculturelle-tournai/
LOCATION:Centre Mutuelliste Tournaisien\, rue de Cordes\, 8\, Tournai\, Hainaut\, 7500\, Belgique
CATEGORIES:Culture,Général,Loisirs,Régional,Wallonie-picarde
ATTACH;FMTTYPE=image/png:https://www.soralia.be/wp-content/uploads/2017/01/calendrier-oct.png
ORGANIZER;CN="Soralia Wallonie picarde":MAILTO:soralia.mwp@solidaris.be
END:VEVENT
BEGIN:VEVENT
DTSTART;TZID=Europe/Paris:20241019T100000
DTEND;TZID=Europe/Paris:20241019T120000
DTSTAMP:20260421T162854
CREATED:20241011T111029Z
LAST-MODIFIED:20241011T111029Z
UID:10005989-1729332000-1729339200@www.soralia.be
SUMMARY:Chorale - Ath
DESCRIPTION:Chorale à Ath\nRejoignez notre chorale athoise !\nAvec notre cheffe de chœurs Comète Waf\, apprenez à faire groupe. \nChanter ensemble pour sortir de la solitude\, créer le lien et envisager de sortir de sa zone de confort ! \nLa chorale de Ath existe depuis juin 2024 pour rassembler autour de titres connus les individus ! De la pop\, des grands classiques… on chante\, pour le plaisir ! De temps à autre\, des propositions de titres plus engagés sont proposés au groupe\, au grès des actualités et au regard des valeurs de Soralia. \nInfos pratiques\n\nPour qui ? Dès 18 ans \n\nQuand ? 2 à 3 samedis par mois de 10h à 12h \n\nOù ? Bâtiment Solidaris\nrue du Fort 48 à Ath \n\nPrix ? Gratuit \n\nSur inscription\nSoralia Wallonie picarde\n068/84 84 98 – soralia.mwp@solidaris.be
URL:https://www.soralia.be/accueil/event/chorale-ath-2/
LOCATION:Solidaris Ath\, rue du Fort\, 48\, Ath\, Hainaut\, 7800\, Belgique
CATEGORIES:Culture,Général,Loisirs,Régional,Wallonie-picarde
ATTACH;FMTTYPE=image/png:https://www.soralia.be/wp-content/uploads/2017/01/calendrier-oct.png
ORGANIZER;CN="Soralia Wallonie picarde":MAILTO:soralia.mwp@solidaris.be
END:VEVENT
BEGIN:VEVENT
DTSTART;TZID=Europe/Paris:20241019T100000
DTEND;TZID=Europe/Paris:20241019T120000
DTSTAMP:20260421T162854
CREATED:20241011T113051Z
LAST-MODIFIED:20241011T113147Z
UID:10005995-1729332000-1729339200@www.soralia.be
SUMMARY:Avant-midi pour les endowarriors - Tournai
DESCRIPTION:Appel aux endoWarriors de Wallonie Picarde (et d’ailleurs !)\nNous vous proposons deux matinées pour vous permettre de vous rencontrer\, de papoter\, de pratiquer des exos de yoga tout doux et de cuisiner ensemble quelques recettes dites bénéfiques pour soulager l’endométriose ! A la fin de la matinée\, de nouvelles rencontres vous seront proposées dans l’optique de garder le contact et développer des moyens de parler de l’endométriose de manière créative ! \nAu programme\n9h Accueil\n9h30 Yoga positif avec Daya Yoga (Chloé)\n11h Atelier culinaire\n12h Temps d’échanges autour de la volonté de se revoir tout en dégustant nos réalisations ! \nInfos pratiques\nQuand ? le samedi 19/10 2024 \nOù ? Salle CMT – rue de Cordes 8\, 7500 Tournai \nAteliers limités à 10 endowarriors ! \nParticipation : Serviettes et tampons\, à ramener le jour J \nInscriptions : Soralia Wallonie picarde\n068/84 84 98 – soralia.mwp@solidaris.be \nInfos supplémentaires auprès de aline.renaud@solidaris.be
URL:https://www.soralia.be/accueil/event/endowarriors-tournai/
LOCATION:Centre Mutuelliste Tournaisien\, rue de Cordes\, 8\, Tournai\, Hainaut\, 7500\, Belgique
CATEGORIES:Général,Régional,Santé,Wallonie-picarde
ATTACH;FMTTYPE=image/png:https://www.soralia.be/wp-content/uploads/2017/01/calendrier-oct.png
ORGANIZER;CN="Soralia Wallonie picarde":MAILTO:soralia.mwp@solidaris.be
END:VEVENT
END:VCALENDAR