BEGIN:VCALENDAR
VERSION:2.0
PRODID:-//Soralia - ECPv6.15.17.1//NONSGML v1.0//EN
CALSCALE:GREGORIAN
METHOD:PUBLISH
X-ORIGINAL-URL:https://www.soralia.be/accueil
X-WR-CALDESC:Évènements pour Soralia
REFRESH-INTERVAL;VALUE=DURATION:PT1H
X-Robots-Tag:noindex
X-PUBLISHED-TTL:PT1H
BEGIN:VTIMEZONE
TZID:Europe/Paris
BEGIN:DAYLIGHT
TZOFFSETFROM:+0100
TZOFFSETTO:+0200
TZNAME:CEST
DTSTART:20160327T010000
END:DAYLIGHT
BEGIN:STANDARD
TZOFFSETFROM:+0200
TZOFFSETTO:+0100
TZNAME:CET
DTSTART:20161030T010000
END:STANDARD
BEGIN:DAYLIGHT
TZOFFSETFROM:+0100
TZOFFSETTO:+0200
TZNAME:CEST
DTSTART:20170326T010000
END:DAYLIGHT
BEGIN:STANDARD
TZOFFSETFROM:+0200
TZOFFSETTO:+0100
TZNAME:CET
DTSTART:20171029T010000
END:STANDARD
BEGIN:DAYLIGHT
TZOFFSETFROM:+0100
TZOFFSETTO:+0200
TZNAME:CEST
DTSTART:20180325T010000
END:DAYLIGHT
BEGIN:STANDARD
TZOFFSETFROM:+0200
TZOFFSETTO:+0100
TZNAME:CET
DTSTART:20181028T010000
END:STANDARD
END:VTIMEZONE
BEGIN:VEVENT
DTSTART;TZID=Europe/Paris:20170912T090000
DTEND;TZID=Europe/Paris:20170912T120000
DTSTAMP:20260422T000302
CREATED:20170825T104147Z
LAST-MODIFIED:20170825T104147Z
UID:10003835-1505206800-1505217600@www.soralia.be
SUMMARY:Êtes-vous prêts à aller mieux?
DESCRIPTION:prendre soin de sa santé mentale constitue aujourd’hui un enjeu maheur qui détermine le bien-être global de la personne. \nDans un groupe de personnes\, encadré.e.s par notre animatrice socio-culturelle\, formée aux différentes techniques de mieux-être\, vous serez amenés\, en 12 séances\, à reprendre les rennes de votre vie. \nafin de donner la possibilité à un maximum de personnes de participer\, ces séances se font à Charleroi\, à Wanfercée-Baulet et à Farciennes.\nInscriptions obligatoires au 0471/345.868 ou rolanda.antonacci@solidaris.be\nRemarque: le prix ne doit pas être un frein à votre participation. \n 
URL:https://www.soralia.be/accueil/event/etes-vous-prets-a-aller-mieux/
LOCATION:Bâtiment FPS\, Rue d'Orléans 34\, Charleroi\, 6000\, Belgique
CATEGORIES:Charleroi,Régional,Santé,Thèmes
ATTACH;FMTTYPE=image/png:https://www.soralia.be/wp-content/uploads/2017/01/calendrier-sept.png
END:VEVENT
BEGIN:VEVENT
DTSTART;TZID=Europe/Paris:20170329T090000
DTEND;TZID=Europe/Paris:20170329T120000
DTSTAMP:20260422T000302
CREATED:20170321T140955Z
LAST-MODIFIED:20170327T095413Z
UID:10003776-1490778000-1490788800@www.soralia.be
SUMMARY:Ateliers Bien-être: êtes-vous prêtes à aller mieux ?
DESCRIPTION:Soralia de Charleroi vous proposent la reprise des ateliers « Êtes-vous prêt(e)s à aller mieux » ?  Prendre soin de sa santé mentale constitue aujourd’hui un enjeu majeur qui détermine le bien-être global. \nAu programme :\n12 séances pour permettre de se construire une boîte à outils à utiliser pour aller mieux. Faire le deuil de ses expériences d’échecs\, identifier ses blocages\, sabotages pour retrouver l’énergie de la motivation et apprendre à prendre soin de soi et de sa santé mentale. \nLes ateliers ont lieu de mi-mars à juin 2017\, à Charleroi\, Fraciennes et Wanfercée-Baulet  \n\nCHARLEROI\, Bâtiment FPS (Rue d’Orléans\, 34 – 6000 Charleroi)\nMercredi de 9h à 12h\n22 et 29 mars; 5\, 12\, 19 et 26 avril; 3\, 10\, 17 et 24 mai; 7 et 14 juin\nFARCIENNES\, Bâtiment Solidaris (Rue Jules Maltaux\, 4 à Farciennes)\nLundi de 13h30 à 16h30\n13\, 20 et 27 mars; 3\, 10\, 24 avril; 8\, 15 et 22 mai; 12\, 19 et 26 juin\nWANFERCÉE-BAULET\nBâtiment Solidaris (Rue Trieu Gossiaux\, 23 à Wanfercée-Baulet)\nMardi de 9h à 12h\n21 et 28 mars; 4\, 11\, 18 et 25 avril; 2\, 9\, 16 et 23 mai; 6 et 13 juin\n\n 
URL:https://www.soralia.be/accueil/event/ateliers-bien-etre-etes-vous-pretes-a-aller-mieux/
LOCATION:Bâtiment FPS\, Rue d'Orléans 34\, Charleroi\, 6000\, Belgique
CATEGORIES:Charleroi,Général,Régional,Santé,Thèmes
ATTACH;FMTTYPE=image/png:https://www.soralia.be/wp-content/uploads/2017/01/calendrier-mars.png
END:VEVENT
END:VCALENDAR