BEGIN:VCALENDAR
VERSION:2.0
PRODID:-//Soralia - ECPv6.15.17.1//NONSGML v1.0//EN
CALSCALE:GREGORIAN
METHOD:PUBLISH
X-WR-CALNAME:Soralia
X-ORIGINAL-URL:https://www.soralia.be/accueil
X-WR-CALDESC:Évènements pour Soralia
REFRESH-INTERVAL;VALUE=DURATION:PT1H
X-Robots-Tag:noindex
X-PUBLISHED-TTL:PT1H
BEGIN:VTIMEZONE
TZID:Europe/Paris
BEGIN:DAYLIGHT
TZOFFSETFROM:+0100
TZOFFSETTO:+0200
TZNAME:CEST
DTSTART:20170326T010000
END:DAYLIGHT
BEGIN:STANDARD
TZOFFSETFROM:+0200
TZOFFSETTO:+0100
TZNAME:CET
DTSTART:20171029T010000
END:STANDARD
BEGIN:DAYLIGHT
TZOFFSETFROM:+0100
TZOFFSETTO:+0200
TZNAME:CEST
DTSTART:20180325T010000
END:DAYLIGHT
BEGIN:STANDARD
TZOFFSETFROM:+0200
TZOFFSETTO:+0100
TZNAME:CET
DTSTART:20181028T010000
END:STANDARD
BEGIN:DAYLIGHT
TZOFFSETFROM:+0100
TZOFFSETTO:+0200
TZNAME:CEST
DTSTART:20190331T010000
END:DAYLIGHT
BEGIN:STANDARD
TZOFFSETFROM:+0200
TZOFFSETTO:+0100
TZNAME:CET
DTSTART:20191027T010000
END:STANDARD
END:VTIMEZONE
BEGIN:VEVENT
DTSTART;TZID=Europe/Paris:20180508T173000
DTEND;TZID=Europe/Paris:20180508T193000
DTSTAMP:20260421T211011
CREATED:20171221T104440Z
LAST-MODIFIED:20171221T104440Z
UID:10003920-1525800600-1525807800@www.soralia.be
SUMMARY:Atelier d'écriture
DESCRIPTION:Paroles de femmes\nUn atelier d’écriture pour parler de soi\, de nous\, des autres… \nÊtre une femme\, une mère\, une travailleuse dans notre société… \nQuels vécus\, quelles expériences ? \nQuels débats ? \n  \nPossibilité de s’inscrire pour l’entièreté du module. D’autres dates sont proposées : 29.05 et 19 juin 2018. \n  \nIntervenante : Deborah Barbarossa\, animatrice FPS \nInscription obligatoire
URL:https://www.soralia.be/accueil/event/atelier-decriture-6/
LOCATION:Bibliothèque communale d’Houdeng-Goegnies\, Chaussée Houtart 300\, Houdeng-Goegnies\, La Louvière\, 7110\, Belgique
CATEGORIES:Centre & Soignies,Egalité femme-homme,Régional,Thèmes
ATTACH;FMTTYPE=image/png:https://www.soralia.be/wp-content/uploads/2017/01/calendrier-mai.png
ORGANIZER;CN="FPS Centre & Soignies":MAILTO:fps.cs@solidaris.be
END:VEVENT
END:VCALENDAR