BEGIN:VCALENDAR
VERSION:2.0
PRODID:-//Soralia - ECPv6.15.17.1//NONSGML v1.0//EN
CALSCALE:GREGORIAN
METHOD:PUBLISH
X-ORIGINAL-URL:https://www.soralia.be/accueil
X-WR-CALDESC:Évènements pour Soralia
REFRESH-INTERVAL;VALUE=DURATION:PT1H
X-Robots-Tag:noindex
X-PUBLISHED-TTL:PT1H
BEGIN:VTIMEZONE
TZID:Europe/Paris
BEGIN:DAYLIGHT
TZOFFSETFROM:+0100
TZOFFSETTO:+0200
TZNAME:CEST
DTSTART:20180325T010000
END:DAYLIGHT
BEGIN:STANDARD
TZOFFSETFROM:+0200
TZOFFSETTO:+0100
TZNAME:CET
DTSTART:20181028T010000
END:STANDARD
BEGIN:DAYLIGHT
TZOFFSETFROM:+0100
TZOFFSETTO:+0200
TZNAME:CEST
DTSTART:20190331T010000
END:DAYLIGHT
BEGIN:STANDARD
TZOFFSETFROM:+0200
TZOFFSETTO:+0100
TZNAME:CET
DTSTART:20191027T010000
END:STANDARD
BEGIN:DAYLIGHT
TZOFFSETFROM:+0100
TZOFFSETTO:+0200
TZNAME:CEST
DTSTART:20200329T010000
END:DAYLIGHT
BEGIN:STANDARD
TZOFFSETFROM:+0200
TZOFFSETTO:+0100
TZNAME:CET
DTSTART:20201025T010000
END:STANDARD
END:VTIMEZONE
BEGIN:VEVENT
DTSTART;TZID=Europe/Paris:20190309T103000
DTEND;TZID=Europe/Paris:20190309T160000
DTSTAMP:20260420T202325
CREATED:20190226T102534Z
LAST-MODIFIED:20190226T102534Z
UID:10004426-1552127400-1552147200@www.soralia.be
SUMMARY:Edit-a-thon sur les femmes belges et liégeoises #02
DESCRIPTION:Au lendemain de la journée mondiale de lutte pour les droits des femmes\, la bibliothèque Chiroux et le groupe féministe Be Cause Toujours vous convient à leur deuxième Edit-a-thon féministe. Ensemble\, utilisons les ressources de la bibliothèque pour améliorer la visibilité des femmes sur Wikipédia ! \nA la pause de midi\, rencontre avec Cécile Maïchak pour la présentation de son livre « Les femmes se rêv’elles » (adelphity asbl) et une discussion sur l’écriture inclusive. \n\nModalités\nDate : 09/03/2018 de 10h30 à 16h\nLieu : Bibliothèque Chiroux (Section de consultation) \nInscriptions et renseignements\nannelore.eloy@provincedeliege.be \nCet événement s’inscrit dans le mois de la contribution francophone organisé par la Fondation Wikipedia\, en présence de sa représentante belge.
URL:https://www.soralia.be/accueil/event/edit-a-thon-sur-les-femmes-belges-et-liegeoises-02/
LOCATION:Bibliothèque Les Chiroux\, Liège
CATEGORIES:Culture,Egalité femme-homme,Liège
ATTACH;FMTTYPE=image/png:https://www.soralia.be/wp-content/uploads/2017/01/calendrier-mars.png
END:VEVENT
END:VCALENDAR