BEGIN:VCALENDAR
VERSION:2.0
PRODID:-//Soralia - ECPv6.15.17.1//NONSGML v1.0//EN
CALSCALE:GREGORIAN
METHOD:PUBLISH
X-WR-CALNAME:Soralia
X-ORIGINAL-URL:https://www.soralia.be/accueil
X-WR-CALDESC:Évènements pour Soralia
REFRESH-INTERVAL;VALUE=DURATION:PT1H
X-Robots-Tag:noindex
X-PUBLISHED-TTL:PT1H
BEGIN:VTIMEZONE
TZID:Europe/Paris
BEGIN:DAYLIGHT
TZOFFSETFROM:+0100
TZOFFSETTO:+0200
TZNAME:CEST
DTSTART:20250330T010000
END:DAYLIGHT
BEGIN:STANDARD
TZOFFSETFROM:+0200
TZOFFSETTO:+0100
TZNAME:CET
DTSTART:20251026T010000
END:STANDARD
BEGIN:DAYLIGHT
TZOFFSETFROM:+0100
TZOFFSETTO:+0200
TZNAME:CEST
DTSTART:20260329T010000
END:DAYLIGHT
BEGIN:STANDARD
TZOFFSETFROM:+0200
TZOFFSETTO:+0100
TZNAME:CET
DTSTART:20261025T010000
END:STANDARD
BEGIN:DAYLIGHT
TZOFFSETFROM:+0100
TZOFFSETTO:+0200
TZNAME:CEST
DTSTART:20270328T010000
END:DAYLIGHT
BEGIN:STANDARD
TZOFFSETFROM:+0200
TZOFFSETTO:+0100
TZNAME:CET
DTSTART:20271031T010000
END:STANDARD
END:VTIMEZONE
BEGIN:VEVENT
DTSTART;TZID=Europe/Paris:20260424T100000
DTEND;TZID=Europe/Paris:20260424T120000
DTSTAMP:20260424T183253
CREATED:20260421T084305Z
LAST-MODIFIED:20260421T084305Z
UID:10006469-1777024800-1777032000@www.soralia.be
SUMMARY:Café-Poussettes
DESCRIPTION:Soralia\, en partenariat avec le Cepag Sud Hainaut.  PAC Dinant-Philippeville et le Centre Culturel Action Sud\, lance les Cafés-Poussettes : des rencontres conviviales pour les parents et leurs enfants\, pour échanger\, souffler et partager.  Chaque séance propose une activité autour de la parentalité\, dans un cadre bienveillant.
URL:https://www.soralia.be/accueil/event/cafe-poussettes/2026-04-24/
LOCATION:Centre Culturel Action Sud Nismes\, Rue Vieille-Eglise 10\, Viroinval\, 5670\, Belgium
CATEGORIES:Namur,Régional
ATTACH;FMTTYPE=image/png:https://www.soralia.be/wp-content/uploads/2017/01/calendrier-avril.png
ORGANIZER;CN="Soralia Namur":MAILTO:soralia.namur@solidaris.be
END:VEVENT
BEGIN:VEVENT
DTSTART;TZID=Europe/Paris:20260410T100000
DTEND;TZID=Europe/Paris:20260410T120000
DTSTAMP:20260424T183253
CREATED:20260421T084305Z
LAST-MODIFIED:20260421T084305Z
UID:10006468-1775815200-1775822400@www.soralia.be
SUMMARY:Café-Poussettes
DESCRIPTION:Soralia\, en partenariat avec le Cepag Sud Hainaut.  PAC Dinant-Philippeville et le Centre Culturel Action Sud\, lance les Cafés-Poussettes : des rencontres conviviales pour les parents et leurs enfants\, pour échanger\, souffler et partager.  Chaque séance propose une activité autour de la parentalité\, dans un cadre bienveillant.
URL:https://www.soralia.be/accueil/event/cafe-poussettes/2026-04-10/
LOCATION:Centre Culturel Action Sud Nismes\, Rue Vieille-Eglise 10\, Viroinval\, 5670\, Belgium
CATEGORIES:Namur,Régional
ATTACH;FMTTYPE=image/png:https://www.soralia.be/wp-content/uploads/2017/01/calendrier-avril.png
ORGANIZER;CN="Soralia Namur":MAILTO:soralia.namur@solidaris.be
END:VEVENT
END:VCALENDAR