BEGIN:VCALENDAR
VERSION:2.0
PRODID:-//Soralia - ECPv6.15.17.1//NONSGML v1.0//EN
CALSCALE:GREGORIAN
METHOD:PUBLISH
X-WR-CALNAME:Soralia
X-ORIGINAL-URL:https://www.soralia.be/accueil
X-WR-CALDESC:Évènements pour Soralia
REFRESH-INTERVAL;VALUE=DURATION:PT1H
X-Robots-Tag:noindex
X-PUBLISHED-TTL:PT1H
BEGIN:VTIMEZONE
TZID:Europe/Paris
BEGIN:DAYLIGHT
TZOFFSETFROM:+0100
TZOFFSETTO:+0200
TZNAME:CEST
DTSTART:20160327T010000
END:DAYLIGHT
BEGIN:STANDARD
TZOFFSETFROM:+0200
TZOFFSETTO:+0100
TZNAME:CET
DTSTART:20161030T010000
END:STANDARD
BEGIN:DAYLIGHT
TZOFFSETFROM:+0100
TZOFFSETTO:+0200
TZNAME:CEST
DTSTART:20170326T010000
END:DAYLIGHT
BEGIN:STANDARD
TZOFFSETFROM:+0200
TZOFFSETTO:+0100
TZNAME:CET
DTSTART:20171029T010000
END:STANDARD
BEGIN:DAYLIGHT
TZOFFSETFROM:+0100
TZOFFSETTO:+0200
TZNAME:CEST
DTSTART:20180325T010000
END:DAYLIGHT
BEGIN:STANDARD
TZOFFSETFROM:+0200
TZOFFSETTO:+0100
TZNAME:CET
DTSTART:20181028T010000
END:STANDARD
END:VTIMEZONE
BEGIN:VEVENT
DTSTART;TZID=Europe/Paris:20170314T150000
DTEND;TZID=Europe/Paris:20170314T190000
DTSTAMP:20260422T051405
CREATED:20170307T105647Z
LAST-MODIFIED:20170307T105724Z
UID:10003774-1489503600-1489518000@www.soralia.be
SUMMARY:Marches exploratoires à Philippeville
DESCRIPTION:Le 8 mars\, Journée Internationale des droits des femmes\, est l’occasion pour Soralia de la Province de Namur de réunir les femmes\, les hommes\, les militant-es pour diverses activités. L’égalité entre les femmes et les hommes reste un sujet d’actualité\, qui demande une vigilance constante de tous et toutes. Nous vous invitons cordialement à participer à l’une ou l’autre des activités que nous organisons cette année à Namur\, Dinant\, Philippeville et Jemeppe-sur-Sambre. \nLe mardi 14 mars à 15h00 et à 19h00 : marches exploratoires de 2 heures (environ 2 km) animées par l’asbl Garance. Ces marches permettent de repérer\, en groupe\, les points positifs ou négatifs de l’aménagement urbain selon que nous nous y sentons en sécurité ou au contraire éprouvons un sentiment d’insécurité ; nous pourrons ainsi ensuite émettre des recommandations et interpeller\, afin d’intégrer l’analyse de genre dans l’urbanisme. \nRéservation obligatoire au 0471/11 96 22
URL:https://www.soralia.be/accueil/event/marches-exploratoires-a-philippeville/
LOCATION:Centre culturel des Halles\, Philippeville\, Belgique
CATEGORIES:Egalité femme-homme,Général,Namur,Régional,Thèmes
ATTACH;FMTTYPE=image/png:https://www.soralia.be/wp-content/uploads/2017/01/calendrier-mars.png
ORGANIZER;CN="FPS Namur":MAILTO:fps.provincenamur@solidaris.be
END:VEVENT
BEGIN:VEVENT
DTSTART;VALUE=DATE:20170307
DTEND;VALUE=DATE:20170308
DTSTAMP:20260422T051405
CREATED:20170307T105203Z
LAST-MODIFIED:20170307T105357Z
UID:10003773-1488844800-1488931199@www.soralia.be
SUMMARY:Etre femme dans l'espace public à Philippeville
DESCRIPTION:Le 8 mars\, Journée Internationale des droits des femmes\, est l’occasion pour Soralia de la Province de Namur de réunir les femmes\, les hommes\, les militant-es pour diverses activités. L’égalité entre les femmes et les hommes reste un sujet d’actualité\, qui demande une vigilance constante de tous et toutes. Nous vous invitons cordialement à participer à l’une ou l’autre des activités que nous organisons cette année à Namur\, Dinant\, Philippeville et Jemeppe-sur-Sambre. \nExpo\, conférence\, marches exploratoires à Philippeville \n\nDu 6 au 21 mars : exposition « Crocodiles »\nde vraies histoires de harcèlement et de sexisme ordinaire mises en bande dessinée par Thomas Mathieu. Visite libre ou avec animation. Accessible au public adultes\, aux groupes scolaires à partir de la 6e primaire\, et aux familles.\nInfos et réservations : 071/666 778\nLe mardi 7 mars : conférence débat sur la place de la femme dans l’espace public et sur le harcèlement à l’école\, animée par Claudine Liénard (Université des femmes) et des représentant-es du Comité des étudiants francophones.\nSéance scolaire à 14h et séance tout public à 19h\nLe mardi 14 mars à 15h00 et à 19h00 : marches exploratoires de 2 heures (environ 2 km) animées par l’asbl Garance. Ces marches permettent de repérer\, en groupe\, les points positifs ou négatifs de l’aménagement urbain selon que nous nous y sentons en sécurité ou au contraire éprouvons un sentiment d’insécurité ; nous pourrons ainsi ensuite émettre des recommandations et interpeller\, afin d’intégrer l’analyse de genre dans l’urbanisme.\nRéservation obligatoire au 0471/11 96 22\nLe mardi 21 mars à 19h : « dévernissage »\nDévernissage de l’expo\, présentation des conclusions des marches exploratoires aux associations et mandataires publics de Philippeville\, et verre de clôture.
URL:https://www.soralia.be/accueil/event/etre-femme-dans-lespace-public-a-philippeville/
LOCATION:Centre culturel des Halles\, Philippeville\, Belgique
CATEGORIES:Egalité femme-homme,Général,Namur,Régional,Thèmes
ATTACH;FMTTYPE=image/png:https://www.soralia.be/wp-content/uploads/2017/01/calendrier-mars.png
ORGANIZER;CN="FPS Namur":MAILTO:francoise.dupont@solidaris.be 
END:VEVENT
END:VCALENDAR