BEGIN:VCALENDAR
VERSION:2.0
PRODID:-//Soralia - ECPv6.15.17.1//NONSGML v1.0//EN
CALSCALE:GREGORIAN
METHOD:PUBLISH
X-WR-CALNAME:Soralia
X-ORIGINAL-URL:https://www.soralia.be/accueil
X-WR-CALDESC:Évènements pour Soralia
REFRESH-INTERVAL;VALUE=DURATION:PT1H
X-Robots-Tag:noindex
X-PUBLISHED-TTL:PT1H
BEGIN:VTIMEZONE
TZID:Europe/Paris
BEGIN:DAYLIGHT
TZOFFSETFROM:+0100
TZOFFSETTO:+0200
TZNAME:CEST
DTSTART:20230326T010000
END:DAYLIGHT
BEGIN:STANDARD
TZOFFSETFROM:+0200
TZOFFSETTO:+0100
TZNAME:CET
DTSTART:20231029T010000
END:STANDARD
BEGIN:DAYLIGHT
TZOFFSETFROM:+0100
TZOFFSETTO:+0200
TZNAME:CEST
DTSTART:20240331T010000
END:DAYLIGHT
BEGIN:STANDARD
TZOFFSETFROM:+0200
TZOFFSETTO:+0100
TZNAME:CET
DTSTART:20241027T010000
END:STANDARD
BEGIN:DAYLIGHT
TZOFFSETFROM:+0100
TZOFFSETTO:+0200
TZNAME:CEST
DTSTART:20250330T010000
END:DAYLIGHT
BEGIN:STANDARD
TZOFFSETFROM:+0200
TZOFFSETTO:+0100
TZNAME:CET
DTSTART:20251026T010000
END:STANDARD
END:VTIMEZONE
BEGIN:VEVENT
DTSTART;TZID=Europe/Paris:20240321T133000
DTEND;TZID=Europe/Paris:20240321T153000
DTSTAMP:20260423T063008
CREATED:20240305T142106Z
LAST-MODIFIED:20240305T142106Z
UID:10005927-1711027800-1711035000@www.soralia.be
SUMMARY:Charge mentale : Présentation du Cahier de revendications
DESCRIPTION:Avec des citoyen·ne·s de tous horizons\, en groupe de travail\, nous avons réfléchi et décidé d’agir collectivement afin de proposer des pistes pour lutter contre la charge mentale.\n• 75 % de familles belges ne partagent pas de manière égale les tâches liées au foyer et à la famille\n• les chiffres les plus récents montrent qu’en Wallonie\, les femmes consacrent en moyenne 11 heures hebdomadaires de plus que les hommes au travail ménager\, de soins et d’éducation aux enfants\nS’il faut encore la définir\, la charge mentale\, c’est quand notre cerveau est en surchauffe du fait d’une planification et d’une gestion permanentes pour le bien-être de la famille.\nLes femmes se sentent souvent épuisées par cette charge éreintante et chronophage\, qui les met en position d’inégalité en terme de possibilités d’emploi\, de formation\, d’évolution de carrière et de présence dans l’espace public.\nFace à ce constat\, le groupe a rédigé un ensemble de revendications qui seront présentées aux politiques et aux médias.\nOrganisé en partenariat avec Afico Cepag et le PAC
URL:https://www.soralia.be/accueil/event/charge-mentale-presentation-du-cahier-de-revendications/
LOCATION:CGSP Namur\, rue Armée Grouchy 41\, Namur\, Namur\, 5000\, Belgique
CATEGORIES:Egalité femme-homme,Namur,Régional
ATTACH;FMTTYPE=image/png:https://www.soralia.be/wp-content/uploads/2017/01/calendrier-mars.png
END:VEVENT
END:VCALENDAR