BEGIN:VCALENDAR
VERSION:2.0
PRODID:-//Soralia - ECPv6.15.17.1//NONSGML v1.0//EN
CALSCALE:GREGORIAN
METHOD:PUBLISH
X-ORIGINAL-URL:https://www.soralia.be/accueil
X-WR-CALDESC:Évènements pour Soralia
REFRESH-INTERVAL;VALUE=DURATION:PT1H
X-Robots-Tag:noindex
X-PUBLISHED-TTL:PT1H
BEGIN:VTIMEZONE
TZID:Europe/Paris
BEGIN:DAYLIGHT
TZOFFSETFROM:+0100
TZOFFSETTO:+0200
TZNAME:CEST
DTSTART:20180325T010000
END:DAYLIGHT
BEGIN:STANDARD
TZOFFSETFROM:+0200
TZOFFSETTO:+0100
TZNAME:CET
DTSTART:20181028T010000
END:STANDARD
BEGIN:DAYLIGHT
TZOFFSETFROM:+0100
TZOFFSETTO:+0200
TZNAME:CEST
DTSTART:20190331T010000
END:DAYLIGHT
BEGIN:STANDARD
TZOFFSETFROM:+0200
TZOFFSETTO:+0100
TZNAME:CET
DTSTART:20191027T010000
END:STANDARD
BEGIN:DAYLIGHT
TZOFFSETFROM:+0100
TZOFFSETTO:+0200
TZNAME:CEST
DTSTART:20200329T010000
END:DAYLIGHT
BEGIN:STANDARD
TZOFFSETFROM:+0200
TZOFFSETTO:+0100
TZNAME:CET
DTSTART:20201025T010000
END:STANDARD
END:VTIMEZONE
BEGIN:VEVENT
DTSTART;TZID=Europe/Paris:20190126T100000
DTEND;TZID=Europe/Paris:20190126T110000
DTSTAMP:20260423T170418
CREATED:20181221T073945Z
LAST-MODIFIED:20181221T073945Z
UID:10004295-1548496800-1548500400@www.soralia.be
SUMMARY:Yoga
DESCRIPTION:Nous vous proposons un cours de Yoga. \nMais qu’est-ce que le Yoga?\nC’est une discipline\, une ascèse\, mais aussi l’état d’union qui en découle. Il existe plusieurs types de yoga\, le plus pratiqué en occident étant le hatha yoga. Il s’agit de la pratique des « asanas » ou postures avec une attention conjointe sur la respiration et le mental. \nDans un cadre bienveillant\, à l’écoute\, et sans jugement\, nous vous recevons pour pratiquer et améliorer votre pratique de cette discipline. \nLe prix s’entend pour 10 séances.\nInscriptions obligatoires. \nLes dates:\n19-20 janvier\n2-9-16-23 février\n2-16-23-30 mars\n6-27 avril\n4-11-18-25 mai\n1-8-15-22 juin \n 
URL:https://www.soralia.be/accueil/event/yoga-20/
LOCATION:Ecole Cobaux\, rue de la Science 41\, Charleroi\, Hainaut\, 6000\, Belgique
CATEGORIES:Charleroi,Loisirs,Régional
ATTACH;FMTTYPE=image/png:https://www.soralia.be/wp-content/uploads/2017/01/calendrier-janvier.png
END:VEVENT
BEGIN:VEVENT
DTSTART;TZID=Europe/Paris:20190119T100000
DTEND;TZID=Europe/Paris:20190119T110000
DTSTAMP:20260423T170418
CREATED:20181221T073742Z
LAST-MODIFIED:20181221T073848Z
UID:10004294-1547892000-1547895600@www.soralia.be
SUMMARY:Yoga
DESCRIPTION:Nous vous proposons un cours de Yoga. \nMais qu’est-ce que le Yoga?\nC’est une discipline\, une ascèse\, mais aussi l’état d’union qui en découle. Il existe plusieurs types de yoga\, le plus pratiqué en occident étant le hatha yoga. Il s’agit de la pratique des « asanas » ou postures avec une attention conjointe sur la respiration et le mental. \nDans un cadre bienveillant\, à l’écoute\, et sans jugement\, nous vous recevons pour pratiquer et améliorer votre pratique de cette discipline. \nLe prix s’entend pour 10 séances.\nInscriptions obligatoires. \nLes dates:\n19-20 janvier\n2-9-16-23 février\n2-16-23-30 mars\n6-27 avril\n4-11-18-25 mai\n1-8-15-22 juin \n 
URL:https://www.soralia.be/accueil/event/7424/
LOCATION:Ecole Cobaux\, rue de la Science 41\, Charleroi\, Hainaut\, 6000\, Belgique
CATEGORIES:Charleroi,Loisirs,Régional
ATTACH;FMTTYPE=image/png:https://www.soralia.be/wp-content/uploads/2017/01/calendrier-janvier.png
END:VEVENT
END:VCALENDAR