BEGIN:VCALENDAR
VERSION:2.0
PRODID:-//Soralia - ECPv6.15.17.1//NONSGML v1.0//EN
CALSCALE:GREGORIAN
METHOD:PUBLISH
X-ORIGINAL-URL:https://www.soralia.be/accueil
X-WR-CALDESC:Évènements pour Soralia
REFRESH-INTERVAL;VALUE=DURATION:PT1H
X-Robots-Tag:noindex
X-PUBLISHED-TTL:PT1H
BEGIN:VTIMEZONE
TZID:Europe/Paris
BEGIN:DAYLIGHT
TZOFFSETFROM:+0100
TZOFFSETTO:+0200
TZNAME:CEST
DTSTART:20180325T010000
END:DAYLIGHT
BEGIN:STANDARD
TZOFFSETFROM:+0200
TZOFFSETTO:+0100
TZNAME:CET
DTSTART:20181028T010000
END:STANDARD
BEGIN:DAYLIGHT
TZOFFSETFROM:+0100
TZOFFSETTO:+0200
TZNAME:CEST
DTSTART:20190331T010000
END:DAYLIGHT
BEGIN:STANDARD
TZOFFSETFROM:+0200
TZOFFSETTO:+0100
TZNAME:CET
DTSTART:20191027T010000
END:STANDARD
BEGIN:DAYLIGHT
TZOFFSETFROM:+0100
TZOFFSETTO:+0200
TZNAME:CEST
DTSTART:20200329T010000
END:DAYLIGHT
BEGIN:STANDARD
TZOFFSETFROM:+0200
TZOFFSETTO:+0100
TZNAME:CET
DTSTART:20201025T010000
END:STANDARD
END:VTIMEZONE
BEGIN:VEVENT
DTSTART;TZID=Europe/Paris:20191003T193000
DTEND;TZID=Europe/Paris:20191003T213000
DTSTAMP:20260421T163341
CREATED:20190910T113305Z
LAST-MODIFIED:20190925T141418Z
UID:10004661-1570131000-1570138200@www.soralia.be
SUMMARY:Conférence sur les maladies cardio-vasculaires
DESCRIPTION:Les maladies cardio-vasculaires représentent la première cause de mortalité en Belgique. Certains facteurs provoquant des maladies sont génétiques mais pas tous ! Ce que nous mangeons\, la cigarette\, l’alcool… sont autant de facteurs qui augmentent le risque de développer ces maladies. \nSoralia de Walhain vous proposent une conférence sur les maladies cardio-vasculaires et ses facteurs de risques en présence de professionnels et de personnes greffées qui témoigneront de leur vécu.
URL:https://www.soralia.be/accueil/event/conference-sur-les-maladies-cardio-vasculaires/
LOCATION:Ecole de Tourinnes-Saint-Lambert\, Rue d'Enfer 5\, Tourinnes-Saint-Lambert\, Belgique
CATEGORIES:Brabant wallon,Général,Régional,Santé,Thèmes
ATTACH;FMTTYPE=image/png:https://www.soralia.be/wp-content/uploads/2017/01/calendrier-oct.png
ORGANIZER;CN="FPS Brabant wallon":MAILTO:fpsbw@solidaris.be
END:VEVENT
END:VCALENDAR