BEGIN:VCALENDAR
VERSION:2.0
PRODID:-//Soralia - ECPv6.15.17.1//NONSGML v1.0//EN
CALSCALE:GREGORIAN
METHOD:PUBLISH
X-ORIGINAL-URL:https://www.soralia.be/accueil
X-WR-CALDESC:Évènements pour Soralia
REFRESH-INTERVAL;VALUE=DURATION:PT1H
X-Robots-Tag:noindex
X-PUBLISHED-TTL:PT1H
BEGIN:VTIMEZONE
TZID:Europe/Paris
BEGIN:DAYLIGHT
TZOFFSETFROM:+0100
TZOFFSETTO:+0200
TZNAME:CEST
DTSTART:20170326T010000
END:DAYLIGHT
BEGIN:STANDARD
TZOFFSETFROM:+0200
TZOFFSETTO:+0100
TZNAME:CET
DTSTART:20171029T010000
END:STANDARD
BEGIN:DAYLIGHT
TZOFFSETFROM:+0100
TZOFFSETTO:+0200
TZNAME:CEST
DTSTART:20180325T010000
END:DAYLIGHT
BEGIN:STANDARD
TZOFFSETFROM:+0200
TZOFFSETTO:+0100
TZNAME:CET
DTSTART:20181028T010000
END:STANDARD
BEGIN:DAYLIGHT
TZOFFSETFROM:+0100
TZOFFSETTO:+0200
TZNAME:CEST
DTSTART:20190331T010000
END:DAYLIGHT
BEGIN:STANDARD
TZOFFSETFROM:+0200
TZOFFSETTO:+0100
TZNAME:CET
DTSTART:20191027T010000
END:STANDARD
END:VTIMEZONE
BEGIN:VEVENT
DTSTART;TZID=Europe/Paris:20181204T193000
DTEND;TZID=Europe/Paris:20181204T223000
DTSTAMP:20260424T213107
CREATED:20180911T091938Z
LAST-MODIFIED:20181102T085044Z
UID:10004101-1543951800-1543962600@www.soralia.be
SUMMARY:Conférence-débat - L’apnée du sommeil
DESCRIPTION:L’apnée du sommeil : Quelles conséquences sur la santé ?\nLe comité FPS de Tubize vous propose une conférence-débat avec la présence de Paul Wulleman\, médecin et pneumologue. \nInfos et inscriptions :\nAdriana Rocco : 0478/24 00 74 – fps.tubize@gmail.com
URL:https://www.soralia.be/accueil/event/conference-debat-lapnee-du-sommeil-quelles-consequences-sur-la-sante/
LOCATION:Espace Citoyen\, rue de Mons 64 \, Tubize
CATEGORIES:Brabant wallon,Général,Santé
ATTACH;FMTTYPE=image/png:https://www.soralia.be/wp-content/uploads/2017/01/calendrier-dec.png
ORGANIZER;CN="FPS Brabant wallon":MAILTO:fpsbw@solidaris.be
END:VEVENT
BEGIN:VEVENT
DTSTART;TZID=Europe/Paris:20180606T190000
DTEND;TZID=Europe/Paris:20180606T220000
DTSTAMP:20260424T213107
CREATED:20180104T090436Z
LAST-MODIFIED:20180416T133710Z
UID:10003931-1528311600-1528322400@www.soralia.be
SUMMARY:Atelier-débat « Voter\, c’est décider »
DESCRIPTION:Au vue des élections communales\, Soralia de Tubize vous proposent de participer à un débat « Voter\, c’est décider ». \nUn atelier/débat organisé par le comité local de Tubize.
URL:https://www.soralia.be/accueil/event/atelier-debat-voter-cest-decider/
LOCATION:Espace Citoyen\, rue de Mons 64 \, Tubize
CATEGORIES:Brabant wallon,Droit & Citoyenneté,Général,Régional,Thèmes
ATTACH;FMTTYPE=image/png:https://www.soralia.be/wp-content/uploads/2017/01/calendrier-juin.png
ORGANIZER;CN="FPS Brabant wallon":MAILTO:fpsbw@solidaris.be
END:VEVENT
END:VCALENDAR