BEGIN:VCALENDAR
VERSION:2.0
PRODID:-//Soralia - ECPv6.15.17.1//NONSGML v1.0//EN
CALSCALE:GREGORIAN
METHOD:PUBLISH
X-ORIGINAL-URL:https://www.soralia.be/accueil
X-WR-CALDESC:Évènements pour Soralia
REFRESH-INTERVAL;VALUE=DURATION:PT1H
X-Robots-Tag:noindex
X-PUBLISHED-TTL:PT1H
BEGIN:VTIMEZONE
TZID:Europe/Paris
BEGIN:DAYLIGHT
TZOFFSETFROM:+0100
TZOFFSETTO:+0200
TZNAME:CEST
DTSTART:20160327T010000
END:DAYLIGHT
BEGIN:STANDARD
TZOFFSETFROM:+0200
TZOFFSETTO:+0100
TZNAME:CET
DTSTART:20161030T010000
END:STANDARD
BEGIN:DAYLIGHT
TZOFFSETFROM:+0100
TZOFFSETTO:+0200
TZNAME:CEST
DTSTART:20170326T010000
END:DAYLIGHT
BEGIN:STANDARD
TZOFFSETFROM:+0200
TZOFFSETTO:+0100
TZNAME:CET
DTSTART:20171029T010000
END:STANDARD
BEGIN:DAYLIGHT
TZOFFSETFROM:+0100
TZOFFSETTO:+0200
TZNAME:CEST
DTSTART:20180325T010000
END:DAYLIGHT
BEGIN:STANDARD
TZOFFSETFROM:+0200
TZOFFSETTO:+0100
TZNAME:CET
DTSTART:20181028T010000
END:STANDARD
END:VTIMEZONE
BEGIN:VEVENT
DTSTART;TZID=Europe/Paris:20171204T183000
DTEND;TZID=Europe/Paris:20171204T203000
DTSTAMP:20260421T103624
CREATED:20171031T122244Z
LAST-MODIFIED:20171106T142651Z
UID:10003887-1512412200-1512419400@www.soralia.be
SUMMARY:Atelier haptonomie: préparation affective à la naissance
DESCRIPTION:Une kinésithérapeute apprend aux futurs parents les techniques pour intensifier la relation affective avec leur bébé (être enceinte de +/- 5 mois de grossesse) Infos et Inscriptions: 02 546 14 33 ou planningrosa@fmsb.be
URL:https://www.soralia.be/accueil/event/preparation-affective-a-la-naissance-atelier-haptonomie/
LOCATION:FPS du Brabant\, rue du Midi 118\, Bruxelles\, 1000
CATEGORIES:Bruxelles,Régional
END:VEVENT
END:VCALENDAR