BEGIN:VCALENDAR
VERSION:2.0
PRODID:-//Soralia - ECPv6.15.17.1//NONSGML v1.0//EN
CALSCALE:GREGORIAN
METHOD:PUBLISH
X-WR-CALNAME:Soralia
X-ORIGINAL-URL:https://www.soralia.be/accueil
X-WR-CALDESC:Évènements pour Soralia
REFRESH-INTERVAL;VALUE=DURATION:PT1H
X-Robots-Tag:noindex
X-PUBLISHED-TTL:PT1H
BEGIN:VTIMEZONE
TZID:Europe/Paris
BEGIN:DAYLIGHT
TZOFFSETFROM:+0100
TZOFFSETTO:+0200
TZNAME:CEST
DTSTART:20160327T010000
END:DAYLIGHT
BEGIN:STANDARD
TZOFFSETFROM:+0200
TZOFFSETTO:+0100
TZNAME:CET
DTSTART:20161030T010000
END:STANDARD
BEGIN:DAYLIGHT
TZOFFSETFROM:+0100
TZOFFSETTO:+0200
TZNAME:CEST
DTSTART:20170326T010000
END:DAYLIGHT
BEGIN:STANDARD
TZOFFSETFROM:+0200
TZOFFSETTO:+0100
TZNAME:CET
DTSTART:20171029T010000
END:STANDARD
BEGIN:DAYLIGHT
TZOFFSETFROM:+0100
TZOFFSETTO:+0200
TZNAME:CEST
DTSTART:20180325T010000
END:DAYLIGHT
BEGIN:STANDARD
TZOFFSETFROM:+0200
TZOFFSETTO:+0100
TZNAME:CET
DTSTART:20181028T010000
END:STANDARD
END:VTIMEZONE
BEGIN:VEVENT
DTSTART;VALUE=DATE:20171215
DTEND;VALUE=DATE:20171218
DTSTAMP:20260423T202010
CREATED:20171206T130955Z
LAST-MODIFIED:20171206T130955Z
UID:10003895-1513296000-1513555199@www.soralia.be
SUMMARY:Marché de Noël au profit du Fonds Aristote
DESCRIPTION:Soralia de Jette seront cette année encore au Marché de Noël pour vendre peckets et artisanats de tous les goûts et toutes les couleurs \nLes bénéfices alimenteront le Fonds Aristote www.fondsaristote.com \nElles seront épaulées comme d’habitude par Soralia de Molenbeek et de Schaerbeek \n 
URL:https://www.soralia.be/accueil/event/marche-de-noel-au-profit-du-fonds-aristote/
LOCATION:Gare de Jette\, Place Cardinal Mercier\, Jette\, Bruxelles\, 1090\, Belgique
ORGANIZER;CN="Comit%C3%A9 local FPS de Jette":MAILTO:fpsjette@gmail.com
END:VEVENT
END:VCALENDAR