BEGIN:VCALENDAR
VERSION:2.0
PRODID:-//Soralia - ECPv6.15.17.1//NONSGML v1.0//EN
CALSCALE:GREGORIAN
METHOD:PUBLISH
X-ORIGINAL-URL:https://www.soralia.be/accueil
X-WR-CALDESC:Évènements pour Soralia
REFRESH-INTERVAL;VALUE=DURATION:PT1H
X-Robots-Tag:noindex
X-PUBLISHED-TTL:PT1H
BEGIN:VTIMEZONE
TZID:Europe/Paris
BEGIN:DAYLIGHT
TZOFFSETFROM:+0100
TZOFFSETTO:+0200
TZNAME:CEST
DTSTART:20160327T010000
END:DAYLIGHT
BEGIN:STANDARD
TZOFFSETFROM:+0200
TZOFFSETTO:+0100
TZNAME:CET
DTSTART:20161030T010000
END:STANDARD
BEGIN:DAYLIGHT
TZOFFSETFROM:+0100
TZOFFSETTO:+0200
TZNAME:CEST
DTSTART:20170326T010000
END:DAYLIGHT
BEGIN:STANDARD
TZOFFSETFROM:+0200
TZOFFSETTO:+0100
TZNAME:CET
DTSTART:20171029T010000
END:STANDARD
BEGIN:DAYLIGHT
TZOFFSETFROM:+0100
TZOFFSETTO:+0200
TZNAME:CEST
DTSTART:20180325T010000
END:DAYLIGHT
BEGIN:STANDARD
TZOFFSETFROM:+0200
TZOFFSETTO:+0100
TZNAME:CET
DTSTART:20181028T010000
END:STANDARD
END:VTIMEZONE
BEGIN:VEVENT
DTSTART;VALUE=DATE:20170308
DTEND;VALUE=DATE:20170309
DTSTAMP:20260421T204735
CREATED:20170307T110029Z
LAST-MODIFIED:20170307T110216Z
UID:10003775-1488931200-1489017599@www.soralia.be
SUMMARY:L'égalité s'affiche - Expo à Jemeppe-sur-sambre
DESCRIPTION:Du 6 au 10 mars – Exposition « L’Egalité s’affiche » : composée d’affiches issues de la Triennale Internationale de l’affiche Politique et également d’affiches réalisées suite à des réflexions\, échanges avec les groupes locaux FPS. Ce regard croisé met en perspective les revendications prônées par Soralia. \n\nLe 8 mars de 13h00 à 15h00 : animations\nLe 8 mars à 15h30 : projection du film « Fish Tank »\, suivi d’un débat\nLe 11 mars de 9h30 à 12h30 : Le bien-être des femmes sous toutes ses facettes : ateliers bien-être : initiation au Reiki\, méditation collective\, yoga du rire\, soins et manucure\, confiance en soi.\n\nInscription préalable aux ateliers indispensable auprès de Katja Bragard 071/75 00 14
URL:https://www.soralia.be/accueil/event/legalite-saffiche-expo-a-jemeppe-sur-sambre/
LOCATION:Hall de l’administration communale\, Jemeppe-sur-sambre\, Belgique
CATEGORIES:Egalité femme-homme,Namur,Régional,Thèmes
ATTACH;FMTTYPE=image/png:https://www.soralia.be/wp-content/uploads/2017/01/calendrier-mars.png
ORGANIZER;CN="FPS Namur":MAILTO:francoise.dupont@solidaris.be 
END:VEVENT
END:VCALENDAR