BEGIN:VCALENDAR
VERSION:2.0
PRODID:-//Soralia - ECPv6.15.17.1//NONSGML v1.0//EN
CALSCALE:GREGORIAN
METHOD:PUBLISH
X-ORIGINAL-URL:https://www.soralia.be/accueil
X-WR-CALDESC:Évènements pour Soralia
REFRESH-INTERVAL;VALUE=DURATION:PT1H
X-Robots-Tag:noindex
X-PUBLISHED-TTL:PT1H
BEGIN:VTIMEZONE
TZID:Europe/Paris
BEGIN:DAYLIGHT
TZOFFSETFROM:+0100
TZOFFSETTO:+0200
TZNAME:CEST
DTSTART:20170326T010000
END:DAYLIGHT
BEGIN:STANDARD
TZOFFSETFROM:+0200
TZOFFSETTO:+0100
TZNAME:CET
DTSTART:20171029T010000
END:STANDARD
BEGIN:DAYLIGHT
TZOFFSETFROM:+0100
TZOFFSETTO:+0200
TZNAME:CEST
DTSTART:20180325T010000
END:DAYLIGHT
BEGIN:STANDARD
TZOFFSETFROM:+0200
TZOFFSETTO:+0100
TZNAME:CET
DTSTART:20181028T010000
END:STANDARD
BEGIN:DAYLIGHT
TZOFFSETFROM:+0100
TZOFFSETTO:+0200
TZNAME:CEST
DTSTART:20190331T010000
END:DAYLIGHT
BEGIN:STANDARD
TZOFFSETFROM:+0200
TZOFFSETTO:+0100
TZNAME:CET
DTSTART:20191027T010000
END:STANDARD
END:VTIMEZONE
BEGIN:VEVENT
DTSTART;TZID=Europe/Paris:20180126T193000
DTEND;TZID=Europe/Paris:20180126T223000
DTSTAMP:20260424T171010
CREATED:20171206T125734Z
LAST-MODIFIED:20171206T125734Z
UID:10003893-1516995000-1517005800@www.soralia.be
SUMMARY:Repas solidaire
DESCRIPTION:Soralia de Evere vous invitent à participer au repas solidaire qui aura lieu en janvier à La Fermette \nLes bénéfices seront versés à une association sélectionnée par le comité.
URL:https://www.soralia.be/accueil/event/repas-solidaire/
LOCATION:La Fermette – rue de la Marne  1140 Evere\, Rue de la Marne\, Evere\, Bruxelles\, 1140\, Belgique
ORGANIZER;CN="Comit%C3%A9 local FPS de Evere":MAILTO:fps-fam@fmsb.be
END:VEVENT
END:VCALENDAR