BEGIN:VCALENDAR
VERSION:2.0
PRODID:-//Soralia - ECPv6.15.17.1//NONSGML v1.0//EN
CALSCALE:GREGORIAN
METHOD:PUBLISH
X-ORIGINAL-URL:https://www.soralia.be/accueil
X-WR-CALDESC:Évènements pour Soralia
REFRESH-INTERVAL;VALUE=DURATION:PT1H
X-Robots-Tag:noindex
X-PUBLISHED-TTL:PT1H
BEGIN:VTIMEZONE
TZID:Europe/Paris
BEGIN:DAYLIGHT
TZOFFSETFROM:+0100
TZOFFSETTO:+0200
TZNAME:CEST
DTSTART:20160327T010000
END:DAYLIGHT
BEGIN:STANDARD
TZOFFSETFROM:+0200
TZOFFSETTO:+0100
TZNAME:CET
DTSTART:20161030T010000
END:STANDARD
BEGIN:DAYLIGHT
TZOFFSETFROM:+0100
TZOFFSETTO:+0200
TZNAME:CEST
DTSTART:20170326T010000
END:DAYLIGHT
BEGIN:STANDARD
TZOFFSETFROM:+0200
TZOFFSETTO:+0100
TZNAME:CET
DTSTART:20171029T010000
END:STANDARD
BEGIN:DAYLIGHT
TZOFFSETFROM:+0100
TZOFFSETTO:+0200
TZNAME:CEST
DTSTART:20180325T010000
END:DAYLIGHT
BEGIN:STANDARD
TZOFFSETFROM:+0200
TZOFFSETTO:+0100
TZNAME:CET
DTSTART:20181028T010000
END:STANDARD
END:VTIMEZONE
BEGIN:VEVENT
DTSTART;TZID=Europe/Paris:20170519T093000
DTEND;TZID=Europe/Paris:20170519T110000
DTSTAMP:20260425T051012
CREATED:20170504T074609Z
LAST-MODIFIED:20170504T074609Z
UID:10003803-1495186200-1495191600@www.soralia.be
SUMMARY:Les MèresVeilleuses
DESCRIPTION:Un atelier de ressource et de bien-être pour futures et jeunes mamans. Les séances commencent par un petit rituel « bébé zen »\, un éveil sensoriel et psychomoteur\, un moment de bien-être avec votre enfant. Et pendant que les bébés se reposent\, jouent et mangent\, l’espace d’échange et de parole entre les mamans et futures mamans peut débuter. Ces rencontres permettent de partager son expérience\, ses ressentis\, de déposer ses émotions liées à la grossesse et à l’éducation de votre jeune enfant. \n\nIntervenantes : Amélie Meurens\, animatrice et Marie-Christine Peeters\, infirmière sociale \nInscriptions obligatoires : 071/507 820 ou fps.cs@solidaris.be \n 
URL:https://www.soralia.be/accueil/event/les-meresveilleuses/
LOCATION:Local du CPF de Soignies\, Rempart du Vieux Cimetière 15\, Soignies\, 7060\, Belgique
CATEGORIES:Centre & Soignies,Familles,Régional,Thèmes
ATTACH;FMTTYPE=image/png:https://www.soralia.be/wp-content/uploads/2017/01/calendrier-mai.png
ORGANIZER;CN="FPS Centre & Soignies":MAILTO:fps.cs@solidaris.be
END:VEVENT
END:VCALENDAR