BEGIN:VCALENDAR
VERSION:2.0
PRODID:-//Soralia - ECPv6.15.17.1//NONSGML v1.0//EN
CALSCALE:GREGORIAN
METHOD:PUBLISH
X-WR-CALNAME:Soralia
X-ORIGINAL-URL:https://www.soralia.be/accueil
X-WR-CALDESC:Évènements pour Soralia
REFRESH-INTERVAL;VALUE=DURATION:PT1H
X-Robots-Tag:noindex
X-PUBLISHED-TTL:PT1H
BEGIN:VTIMEZONE
TZID:Europe/Paris
BEGIN:DAYLIGHT
TZOFFSETFROM:+0100
TZOFFSETTO:+0200
TZNAME:CEST
DTSTART:20160327T010000
END:DAYLIGHT
BEGIN:STANDARD
TZOFFSETFROM:+0200
TZOFFSETTO:+0100
TZNAME:CET
DTSTART:20161030T010000
END:STANDARD
BEGIN:DAYLIGHT
TZOFFSETFROM:+0100
TZOFFSETTO:+0200
TZNAME:CEST
DTSTART:20170326T010000
END:DAYLIGHT
BEGIN:STANDARD
TZOFFSETFROM:+0200
TZOFFSETTO:+0100
TZNAME:CET
DTSTART:20171029T010000
END:STANDARD
BEGIN:DAYLIGHT
TZOFFSETFROM:+0100
TZOFFSETTO:+0200
TZNAME:CEST
DTSTART:20180325T010000
END:DAYLIGHT
BEGIN:STANDARD
TZOFFSETFROM:+0200
TZOFFSETTO:+0100
TZNAME:CET
DTSTART:20181028T010000
END:STANDARD
END:VTIMEZONE
BEGIN:VEVENT
DTSTART;TZID=Europe/Paris:20171114T190000
DTEND;TZID=Europe/Paris:20171114T213000
DTSTAMP:20260421T211113
CREATED:20171005T120458Z
LAST-MODIFIED:20171005T121237Z
UID:10003860-1510686000-1510695000@www.soralia.be
SUMMARY:Théâtre-débat sur le thème du logement
DESCRIPTION:Cette soirée vous est proposée dans le cadre de la campagne « Un toit mon droit ! » consacrée à la problématique de l’accès au logement décent pour toutes et tous ! \nProgramme de la soirée \n\n19h00 : Accueil et mot de bienvenue\n19h15: Présentation de la campagne des FPS « Un toit\, mon droit »\n19h45-20h45 : Spectacle « Un p’tit coin de parapluie » par le Théâtre du Copion\n20h45-21h30 : Débat avec la salle et un intervenant\n\nInfos pratiques :\nMaison de repos L’Arbre de Vie (Rue de Pâturages 76 -7390 Quaregnon)\nGratuit sur réservation : 068/84 82 51 – fps.315@solidaris.be \nLa pièce « Un p’tit coin de parapluie » \nGaspard a vécu galère sur galère\, trouver un logement avec ses enfants n’a pas été facile\, Edith possède une maison ouverte à tous\,elle héberge ceux qui sont dans le besoin\, Madame Marjolaine est assistante sociale comme elle dit « elle fait ce qu’elle peut »\, Monsieur Armand dirige sa « Résidence des Capucines »\, les résidents ont l’air d’y être heureux\, Monsieur Dodo la Clé est un propriétaire véreux\, il ne veut surtout pas d’ennuis avec ses locataires… \nDes histoires de gens comme tout le monde\, avec des vies difficiles\, des coups de gueules\, des inquiétudes pour demain\, se loger… c’est un véritable défi!
URL:https://www.soralia.be/accueil/event/theatre-debat-sur-le-theme-du-logement-2/
LOCATION:Maison de repos L’Arbre de Vie\, Rue de Pâturages 76 \, Quaregnon\, 7390\, Belgique
CATEGORIES:Droit & Citoyenneté,Général,Mons-Borinage,Régional,Thèmes
ATTACH;FMTTYPE=image/png:https://www.soralia.be/wp-content/uploads/2017/01/calendrier-nov.png
ORGANIZER;CN="FPS Mons Borinage":MAILTO:fps.315@solidaris.be
END:VEVENT
END:VCALENDAR