BEGIN:VCALENDAR
VERSION:2.0
PRODID:-//Soralia - ECPv6.15.17.1//NONSGML v1.0//EN
CALSCALE:GREGORIAN
METHOD:PUBLISH
X-WR-CALNAME:Soralia
X-ORIGINAL-URL:https://www.soralia.be/accueil
X-WR-CALDESC:Évènements pour Soralia
REFRESH-INTERVAL;VALUE=DURATION:PT1H
X-Robots-Tag:noindex
X-PUBLISHED-TTL:PT1H
BEGIN:VTIMEZONE
TZID:Europe/Paris
BEGIN:DAYLIGHT
TZOFFSETFROM:+0100
TZOFFSETTO:+0200
TZNAME:CEST
DTSTART:20160327T010000
END:DAYLIGHT
BEGIN:STANDARD
TZOFFSETFROM:+0200
TZOFFSETTO:+0100
TZNAME:CET
DTSTART:20161030T010000
END:STANDARD
BEGIN:DAYLIGHT
TZOFFSETFROM:+0100
TZOFFSETTO:+0200
TZNAME:CEST
DTSTART:20170326T010000
END:DAYLIGHT
BEGIN:STANDARD
TZOFFSETFROM:+0200
TZOFFSETTO:+0100
TZNAME:CET
DTSTART:20171029T010000
END:STANDARD
BEGIN:DAYLIGHT
TZOFFSETFROM:+0100
TZOFFSETTO:+0200
TZNAME:CEST
DTSTART:20180325T010000
END:DAYLIGHT
BEGIN:STANDARD
TZOFFSETFROM:+0200
TZOFFSETTO:+0100
TZNAME:CET
DTSTART:20181028T010000
END:STANDARD
END:VTIMEZONE
BEGIN:VEVENT
DTSTART;TZID=Europe/Paris:20171120T123000
DTEND;TZID=Europe/Paris:20171120T150000
DTSTAMP:20260421T215508
CREATED:20170816T095618Z
LAST-MODIFIED:20171024T081227Z
UID:10003824-1511181000-1511190000@www.soralia.be
SUMMARY:Théâtre-débat sur le thème du logement
DESCRIPTION:La campagne 2017 des FPS à pour thématique le logement\, et son accessibilité pour les femmes.\nDans ce cadre-là\, nous vous invitons pour une pièce de théâtre à la MPA qui sera suivie d’un débat afin de faire avancer les choses en matière de discriminations faites aux femmes dans l’octroi d’un logement décent. \nProgramme de l’après-midi : \n\n12h30-13h : Accueil\n13h-13h15 : Présentation de la campagne des FPS « Un toit\, mon droit »\n13h15-14h15 : Spectacle « Un p’tit coin de parapluie » par le Théâtre du Copion\n14h15-15h : Débat avec la salle et un intervenant\n\nInfos pratiques :  \nMPA – Maison Pour Association – Salle ESPACE 80 (80\, route de Mons à 6030 Marchienne-Au-Pont)\nAccessible en Tram (M1 ou M2) ou en bus (ligne 53-71) Arrêt Monceau-sur-Sambre (Moulin)\, depuis la gare de Charleroi Sud\nParking accessible\nRéservations et inscriptions gratuites et obligatoires : 071/507.819 – fps.charleroi@solidaris.be \nLa pièce « Un p’tit coin de parapluie » \nGaspard a vécu galère sur galère\, trouver un logement avec ses enfants n’a pas été facile\, Edith possède une maison ouverte à tous\,elle héberge ceux qui sont dans le besoin\, Madame Marjolaine est assistante sociale comme elle dit « elle fait ce qu’elle peut »\, Monsieur Armand dirige sa « Résidence des Capucines »\, les résidents ont l’air d’y être heureux\, Monsieur Dodo la Clé est un propriétaire véreux\, il ne veut surtout pas d’ennuis avec ses locataires… \nDes histoires de gens comme tout le monde\, avec des vies difficiles\, des coups de gueules\, des inquiétudes pour demain\, se loger… c’est un véritable défi! \n 
URL:https://www.soralia.be/accueil/event/un-petit-coin-de-parapluie-spectacle-du-theatre-du-copion/
LOCATION:Maison Pour Associations MPA\, Route de Mons\, Marchienne-au-Pont\, Hainaut\, 6031\, Belgique
CATEGORIES:Charleroi,Droit & Citoyenneté,Egalité femme-homme,Général,Régional
ATTACH;FMTTYPE=image/png:https://www.soralia.be/wp-content/uploads/2017/01/calendrier-nov.png
END:VEVENT
END:VCALENDAR