BEGIN:VCALENDAR
VERSION:2.0
PRODID:-//Soralia - ECPv6.15.17.1//NONSGML v1.0//EN
CALSCALE:GREGORIAN
METHOD:PUBLISH
X-WR-CALNAME:Soralia
X-ORIGINAL-URL:https://www.soralia.be/accueil
X-WR-CALDESC:Évènements pour Soralia
REFRESH-INTERVAL;VALUE=DURATION:PT1H
X-Robots-Tag:noindex
X-PUBLISHED-TTL:PT1H
BEGIN:VTIMEZONE
TZID:Europe/Paris
BEGIN:DAYLIGHT
TZOFFSETFROM:+0100
TZOFFSETTO:+0200
TZNAME:CEST
DTSTART:20220327T010000
END:DAYLIGHT
BEGIN:STANDARD
TZOFFSETFROM:+0200
TZOFFSETTO:+0100
TZNAME:CET
DTSTART:20221030T010000
END:STANDARD
BEGIN:DAYLIGHT
TZOFFSETFROM:+0100
TZOFFSETTO:+0200
TZNAME:CEST
DTSTART:20230326T010000
END:DAYLIGHT
BEGIN:STANDARD
TZOFFSETFROM:+0200
TZOFFSETTO:+0100
TZNAME:CET
DTSTART:20231029T010000
END:STANDARD
BEGIN:DAYLIGHT
TZOFFSETFROM:+0100
TZOFFSETTO:+0200
TZNAME:CEST
DTSTART:20240331T010000
END:DAYLIGHT
BEGIN:STANDARD
TZOFFSETFROM:+0200
TZOFFSETTO:+0100
TZNAME:CET
DTSTART:20241027T010000
END:STANDARD
END:VTIMEZONE
BEGIN:VEVENT
DTSTART;TZID=Europe/Paris:20231123T110000
DTEND;TZID=Europe/Paris:20231123T120000
DTSTAMP:20260422T114310
CREATED:20231121T151751Z
LAST-MODIFIED:20231121T151751Z
UID:10005894-1700737200-1700740800@www.soralia.be
SUMMARY:Rubans blancs
DESCRIPTION:A l’occasion de la Journée Internationale de lutte contre toutes les formes de violences faites aux femmes\, les Comités SORALIA Koekelberg & Molenbeek se rassembleront le jeudi 23 novembre 2023 à 11h sur le marché du jeudi à Molenbeek pour une distribution de rubans blancs. \nDate : Jeudi 23.11.2023\nHeure : de 11h à 12h\nLieu : sur le marché du jeudi à Molenbeek\nRDV : métro Comte de Flandre\, sortie maison communale
URL:https://www.soralia.be/accueil/event/rubans-blancs/
LOCATION:métro Comte de Flandre
CATEGORIES:Bruxelles,Culture,Droit & Citoyenneté,Egalité femme-homme,Général,Violences
ATTACH;FMTTYPE=image/png:https://www.soralia.be/wp-content/uploads/2017/01/calendrier-nov.png
ORGANIZER;CN="Soralia Koekelberg":MAILTO:karimasaida@hotmail.com
END:VEVENT
END:VCALENDAR