BEGIN:VCALENDAR
VERSION:2.0
PRODID:-//Soralia - ECPv6.15.17.1//NONSGML v1.0//EN
CALSCALE:GREGORIAN
METHOD:PUBLISH
X-ORIGINAL-URL:https://www.soralia.be/accueil
X-WR-CALDESC:Évènements pour Soralia
REFRESH-INTERVAL;VALUE=DURATION:PT1H
X-Robots-Tag:noindex
X-PUBLISHED-TTL:PT1H
BEGIN:VTIMEZONE
TZID:Europe/Paris
BEGIN:DAYLIGHT
TZOFFSETFROM:+0100
TZOFFSETTO:+0200
TZNAME:CEST
DTSTART:20220327T010000
END:DAYLIGHT
BEGIN:STANDARD
TZOFFSETFROM:+0200
TZOFFSETTO:+0100
TZNAME:CET
DTSTART:20221030T010000
END:STANDARD
BEGIN:DAYLIGHT
TZOFFSETFROM:+0100
TZOFFSETTO:+0200
TZNAME:CEST
DTSTART:20230326T010000
END:DAYLIGHT
BEGIN:STANDARD
TZOFFSETFROM:+0200
TZOFFSETTO:+0100
TZNAME:CET
DTSTART:20231029T010000
END:STANDARD
BEGIN:DAYLIGHT
TZOFFSETFROM:+0100
TZOFFSETTO:+0200
TZNAME:CEST
DTSTART:20240331T010000
END:DAYLIGHT
BEGIN:STANDARD
TZOFFSETFROM:+0200
TZOFFSETTO:+0100
TZNAME:CET
DTSTART:20241027T010000
END:STANDARD
END:VTIMEZONE
BEGIN:VEVENT
DTSTART;TZID=Europe/Paris:20230724T130000
DTEND;TZID=Europe/Paris:20230724T160000
DTSTAMP:20260419T214200
CREATED:20230621T124844Z
LAST-MODIFIED:20230621T124844Z
UID:10005808-1690203600-1690214400@www.soralia.be
SUMMARY:[Un été pas comme les autres] - Se ressourcer grâce à un bain de forêt
DESCRIPTION:Les bienfaits de la pratique régulière de la sylvothérapie sont avérés: diminution de la tension artérielle\, baisse du taux de cortisol (une hormone du stress!)\, prévention du risque cardio-vasculaire…: voici donc un outil de relaxation et de méditation à la portée de chacun.e. La découverte de l’écosystème « forêt » permet en outre de se reconnecter à nos rythmes naturels\, souvent malmenés dans la vie quotidienne. \nPrix de l’atelier : 25€ \nInscriptions & infos au 071/507 819 du lundi au vendredi de 9h à 12h. \nLieu de rdv : parking du terrain de football de Lobbes\, Rue d’Hourpes à 6540 Lobbes (à gauche en venant de la Rue d’Anderlues\, juste avant la lisière du bois). \nCoordonnées GPS: 50.373936\, 4.279366 \nPrévoir des chaussures de marche\, des vêtements confortables et adaptés à la météo. \n\n 
URL:https://www.soralia.be/accueil/event/un-ete-pas-comme-les-autres-se-ressourcer-grace-a-un-bain-de-foret/
LOCATION:parking du terrain de football de Lobbes\, Rue d’Hourpes\, Lobbes\, 6540\, Belgique
CATEGORIES:Charleroi,Loisirs
ATTACH;FMTTYPE=image/png:https://www.soralia.be/wp-content/uploads/2017/01/calendrier-juillet.png
END:VEVENT
END:VCALENDAR