BEGIN:VCALENDAR
VERSION:2.0
PRODID:-//Soralia - ECPv6.15.17.1//NONSGML v1.0//EN
CALSCALE:GREGORIAN
METHOD:PUBLISH
X-ORIGINAL-URL:https://www.soralia.be/accueil
X-WR-CALDESC:Évènements pour Soralia
REFRESH-INTERVAL;VALUE=DURATION:PT1H
X-Robots-Tag:noindex
X-PUBLISHED-TTL:PT1H
BEGIN:VTIMEZONE
TZID:Europe/Paris
BEGIN:DAYLIGHT
TZOFFSETFROM:+0100
TZOFFSETTO:+0200
TZNAME:CEST
DTSTART:20220327T010000
END:DAYLIGHT
BEGIN:STANDARD
TZOFFSETFROM:+0200
TZOFFSETTO:+0100
TZNAME:CET
DTSTART:20221030T010000
END:STANDARD
BEGIN:DAYLIGHT
TZOFFSETFROM:+0100
TZOFFSETTO:+0200
TZNAME:CEST
DTSTART:20230326T010000
END:DAYLIGHT
BEGIN:STANDARD
TZOFFSETFROM:+0200
TZOFFSETTO:+0100
TZNAME:CET
DTSTART:20231029T010000
END:STANDARD
BEGIN:DAYLIGHT
TZOFFSETFROM:+0100
TZOFFSETTO:+0200
TZNAME:CEST
DTSTART:20240331T010000
END:DAYLIGHT
BEGIN:STANDARD
TZOFFSETFROM:+0200
TZOFFSETTO:+0100
TZNAME:CET
DTSTART:20241027T010000
END:STANDARD
END:VTIMEZONE
BEGIN:VEVENT
DTSTART;TZID=Europe/Paris:20230308T153000
DTEND;TZID=Europe/Paris:20230308T183000
DTSTAMP:20260423T181106
CREATED:20230209T100640Z
LAST-MODIFIED:20230209T100640Z
UID:10005652-1678289400-1678300200@www.soralia.be
SUMMARY:Manifestation de lutte pour les droits des femmes
DESCRIPTION:Soralia Namur\, avec le Collectif 8 mars Namur\, participe à la Manifestation du 8 mars à Namur. \nRendez-vous à 15h30 place d’Armes\, pour un lâcher de mots féministes. \nDépart de la manifestation à 16h30 – arrivée prévue vers 18h30 au Parc Louise-Marie \nRejoignez-nous et faisons entendre nos voix. \nPossibilité de venir en car au départ de Philippeville.
URL:https://www.soralia.be/accueil/event/manifestation-de-lutte-pour-les-droits-des-femmes/
LOCATION:Place d’Armes à Namur\, place d'Armes\, Namur\, 5000\, Belgique
CATEGORIES:Droit & Citoyenneté,Egalité femme-homme,Namur,Régional
ATTACH;FMTTYPE=image/png:https://www.soralia.be/wp-content/uploads/2017/01/calendrier-mars.png
ORGANIZER;CN="Soralia Namur":MAILTO:soralia.namur@solidaris.be
END:VEVENT
END:VCALENDAR