BEGIN:VCALENDAR
VERSION:2.0
PRODID:-//Soralia - ECPv6.15.17.1//NONSGML v1.0//EN
CALSCALE:GREGORIAN
METHOD:PUBLISH
X-ORIGINAL-URL:https://www.soralia.be/accueil
X-WR-CALDESC:Évènements pour Soralia
REFRESH-INTERVAL;VALUE=DURATION:PT1H
X-Robots-Tag:noindex
X-PUBLISHED-TTL:PT1H
BEGIN:VTIMEZONE
TZID:Europe/Paris
BEGIN:DAYLIGHT
TZOFFSETFROM:+0100
TZOFFSETTO:+0200
TZNAME:CEST
DTSTART:20160327T010000
END:DAYLIGHT
BEGIN:STANDARD
TZOFFSETFROM:+0200
TZOFFSETTO:+0100
TZNAME:CET
DTSTART:20161030T010000
END:STANDARD
BEGIN:DAYLIGHT
TZOFFSETFROM:+0100
TZOFFSETTO:+0200
TZNAME:CEST
DTSTART:20170326T010000
END:DAYLIGHT
BEGIN:STANDARD
TZOFFSETFROM:+0200
TZOFFSETTO:+0100
TZNAME:CET
DTSTART:20171029T010000
END:STANDARD
BEGIN:DAYLIGHT
TZOFFSETFROM:+0100
TZOFFSETTO:+0200
TZNAME:CEST
DTSTART:20180325T010000
END:DAYLIGHT
BEGIN:STANDARD
TZOFFSETFROM:+0200
TZOFFSETTO:+0100
TZNAME:CET
DTSTART:20181028T010000
END:STANDARD
END:VTIMEZONE
BEGIN:VEVENT
DTSTART;TZID=Europe/Paris:20170304T123000
DTEND;TZID=Europe/Paris:20170304T173000
DTSTAMP:20260423T071939
CREATED:20170216T143620Z
LAST-MODIFIED:20170216T143620Z
UID:10003753-1488630600-1488648600@www.soralia.be
SUMMARY:Marche mondiale des femmes
DESCRIPTION:Les femmes serrent la ceinture au gouvernement !\nAction nationale de la Marche Mondiale des femmes \nProgramme : \n\n12 h 45 : Rassemblement à la Place de la Monnaie\n13 h 15 : « Chaine féministe » – Action symbolique des femmes de la MMF contre la politique d’austérité. Chaque participante devra apporter une ceinture afin de pouvoir s’attacher les unes avec les autres (« On se serre la ceinture ! »)\n13 h 45 : Départ à Kartuizercenter\n14 h 05 : Accueil au local « Kartuizercenter »\, rue des Chartreux 70\, 1000 Bruxelles\n14 h 15 – 15 h 45 : Bilan des impacts des politiques d’austérité du gouvernement sur les femmes\, notamment sur la sécurité sociale et la santé (avec la participation de la CSC Patricia Biard \, la FGTB Vroni Lemaire\, Celia Alldridjo représentante de la MMF internationale\, Mme. Maria Arena de la Commission FEMM et EMPL du Parlement européen\, V’la la facture)\n15 h 15 – 15 h 45 : Débats –échanges avec la salle\n16 h – 17 h : Ateliers (créatifs\, revendication\, mobilisation et lobbying)\n17 h – 17 h 15 : Clôture\n\nGarderie sur réservation avant le 2 mars.\nTant que toutes les femmes ne seront pas libres\, nous serons en marche !\nContact Marcela de la Peña : marcela@mondefemmes.org
URL:https://www.soralia.be/accueil/event/marche-mondiale-des-femmes/
LOCATION:Place de la Monnaie\, Place de la monnaie\, Bruxelles\, 1000\, Belgique
CATEGORIES:Egalité femme-homme,Général
ATTACH;FMTTYPE=image/png:https://www.soralia.be/wp-content/uploads/2017/01/calendrier-mars.png
END:VEVENT
END:VCALENDAR