BEGIN:VCALENDAR
VERSION:2.0
PRODID:-//Soralia - ECPv6.15.17.1//NONSGML v1.0//EN
CALSCALE:GREGORIAN
METHOD:PUBLISH
X-WR-CALNAME:Soralia
X-ORIGINAL-URL:https://www.soralia.be/accueil
X-WR-CALDESC:Évènements pour Soralia
REFRESH-INTERVAL;VALUE=DURATION:PT1H
X-Robots-Tag:noindex
X-PUBLISHED-TTL:PT1H
BEGIN:VTIMEZONE
TZID:Europe/Paris
BEGIN:DAYLIGHT
TZOFFSETFROM:+0100
TZOFFSETTO:+0200
TZNAME:CEST
DTSTART:20250330T010000
END:DAYLIGHT
BEGIN:STANDARD
TZOFFSETFROM:+0200
TZOFFSETTO:+0100
TZNAME:CET
DTSTART:20251026T010000
END:STANDARD
BEGIN:DAYLIGHT
TZOFFSETFROM:+0100
TZOFFSETTO:+0200
TZNAME:CEST
DTSTART:20260329T010000
END:DAYLIGHT
BEGIN:STANDARD
TZOFFSETFROM:+0200
TZOFFSETTO:+0100
TZNAME:CET
DTSTART:20261025T010000
END:STANDARD
BEGIN:DAYLIGHT
TZOFFSETFROM:+0100
TZOFFSETTO:+0200
TZNAME:CEST
DTSTART:20270328T010000
END:DAYLIGHT
BEGIN:STANDARD
TZOFFSETFROM:+0200
TZOFFSETTO:+0100
TZNAME:CET
DTSTART:20271031T010000
END:STANDARD
END:VTIMEZONE
BEGIN:VEVENT
DTSTART;TZID=Europe/Paris:20260314T120000
DTEND;TZID=Europe/Paris:20260314T160000
DTSTAMP:20260424T182737
CREATED:20260220T125347Z
LAST-MODIFIED:20260220T132235Z
UID:10006428-1773489600-1773504000@www.soralia.be
SUMMARY:Création d'une oeuvre commune
DESCRIPTION:Dans le cadre des activités autour du 8 mars (Journée internationale des droits des femmes)\, le comité Soralia Koekelberg vous convie à la 6ème édition de la Création d’une œuvre commune sur le thème « Les femmes et la réforme du chômage: la question des aidants proches« . \nQuand? Le samedi 14 mars 2026 de 12h à 16h\nOù? 4 Rue des Tisserands à 1081 Koekelberg (Rez de chaussée)\nPrix? Activité gratuite\nInfos? via mail à soralia.bxl@solidaris.be \nOn vous y attend nombreux.ses !🫶🏼 \n 
URL:https://www.soralia.be/accueil/event/creation-dune-oeuvre-commune-4/
LOCATION:Rue des Tisserands 4\, Rue des Tisserands 4\, Koekelberg\, Bruxelles\, 1081\, Belgium
CATEGORIES:Bruxelles,Culture,Droit & Citoyenneté,Egalité femme-homme,Familles,Général,Loisirs
ATTACH;FMTTYPE=image/png:https://www.soralia.be/wp-content/uploads/2017/01/calendrier-mars.png
ORGANIZER;CN="Soralia Koekelberg":MAILTO:karimasaida@hotmail.com
END:VEVENT
END:VCALENDAR