BEGIN:VCALENDAR
VERSION:2.0
PRODID:-//Soralia - ECPv6.15.17.1//NONSGML v1.0//EN
CALSCALE:GREGORIAN
METHOD:PUBLISH
X-WR-CALNAME:Soralia
X-ORIGINAL-URL:https://www.soralia.be/accueil
X-WR-CALDESC:Évènements pour Soralia
REFRESH-INTERVAL;VALUE=DURATION:PT1H
X-Robots-Tag:noindex
X-PUBLISHED-TTL:PT1H
BEGIN:VTIMEZONE
TZID:Europe/Paris
BEGIN:DAYLIGHT
TZOFFSETFROM:+0100
TZOFFSETTO:+0200
TZNAME:CEST
DTSTART:20170326T010000
END:DAYLIGHT
BEGIN:STANDARD
TZOFFSETFROM:+0200
TZOFFSETTO:+0100
TZNAME:CET
DTSTART:20171029T010000
END:STANDARD
BEGIN:DAYLIGHT
TZOFFSETFROM:+0100
TZOFFSETTO:+0200
TZNAME:CEST
DTSTART:20180325T010000
END:DAYLIGHT
BEGIN:STANDARD
TZOFFSETFROM:+0200
TZOFFSETTO:+0100
TZNAME:CET
DTSTART:20181028T010000
END:STANDARD
BEGIN:DAYLIGHT
TZOFFSETFROM:+0100
TZOFFSETTO:+0200
TZNAME:CEST
DTSTART:20190331T010000
END:DAYLIGHT
BEGIN:STANDARD
TZOFFSETFROM:+0200
TZOFFSETTO:+0100
TZNAME:CET
DTSTART:20191027T010000
END:STANDARD
END:VTIMEZONE
BEGIN:VEVENT
DTSTART;TZID=Europe/Paris:20180806T090000
DTEND;TZID=Europe/Paris:20180806T160000
DTSTAMP:20260421T180220
CREATED:20180515T121554Z
LAST-MODIFIED:20180713T091955Z
UID:10004001-1533546000-1533571200@www.soralia.be
SUMMARY:Un autre regard sur ses choix de vie
DESCRIPTION:Un été pas comme les autres 2018 – Semaine Cré’Action\nUne belle vie c’est quoi ? Faut-il vraiment chercher éperdument le bonheur pour être heureux ? Portons un regard différent sur nos choix de vie et découvrons au terme d’exercices et de débats ce qu’il en est !  Par Leslie Lion – Psychopédagogue et conseillère conjugale et familiale \nDeux groupes de 9h à 12 h et de 13h à 16h \nInscriptions obligatoires: 071/507 820 ou fps.cs@solidaris.be 
URL:https://www.soralia.be/accueil/event/un-autre-regard-sur-ses-choix-de-vie-semaine-creaction/
LOCATION:Salle communale\, chaussée Brunehault 232\, Estinnes-au-Mont\, 7120\, Belgique
CATEGORIES:Centre & Soignies,Droit & Citoyenneté,Général,Régional
ATTACH;FMTTYPE=image/png:https://www.soralia.be/wp-content/uploads/2017/01/calendrier-aout.png
ORGANIZER;CN="FPS Centre & Soignies":MAILTO:fps.cs@solidaris.be
END:VEVENT
END:VCALENDAR