BEGIN:VCALENDAR
VERSION:2.0
PRODID:-//Soralia - ECPv6.15.17.1//NONSGML v1.0//EN
CALSCALE:GREGORIAN
METHOD:PUBLISH
X-WR-CALNAME:Soralia
X-ORIGINAL-URL:https://www.soralia.be/accueil
X-WR-CALDESC:Évènements pour Soralia
REFRESH-INTERVAL;VALUE=DURATION:PT1H
X-Robots-Tag:noindex
X-PUBLISHED-TTL:PT1H
BEGIN:VTIMEZONE
TZID:Europe/Paris
BEGIN:DAYLIGHT
TZOFFSETFROM:+0100
TZOFFSETTO:+0200
TZNAME:CEST
DTSTART:20180325T010000
END:DAYLIGHT
BEGIN:STANDARD
TZOFFSETFROM:+0200
TZOFFSETTO:+0100
TZNAME:CET
DTSTART:20181028T010000
END:STANDARD
BEGIN:DAYLIGHT
TZOFFSETFROM:+0100
TZOFFSETTO:+0200
TZNAME:CEST
DTSTART:20190331T010000
END:DAYLIGHT
BEGIN:STANDARD
TZOFFSETFROM:+0200
TZOFFSETTO:+0100
TZNAME:CET
DTSTART:20191027T010000
END:STANDARD
BEGIN:DAYLIGHT
TZOFFSETFROM:+0100
TZOFFSETTO:+0200
TZNAME:CEST
DTSTART:20200329T010000
END:DAYLIGHT
BEGIN:STANDARD
TZOFFSETFROM:+0200
TZOFFSETTO:+0100
TZNAME:CET
DTSTART:20201025T010000
END:STANDARD
END:VTIMEZONE
BEGIN:VEVENT
DTSTART;TZID=Europe/Paris:20190124T090000
DTEND;TZID=Europe/Paris:20190124T103000
DTSTAMP:20260424T164844
CREATED:20181220T115506Z
LAST-MODIFIED:20181220T115506Z
UID:10004221-1548320400-1548325800@www.soralia.be
SUMMARY:Zenergie à Epinois
DESCRIPTION:Lors de cette activité de détente\, vous apprendrez à vous étirer\, à respirer pour gérer votre stress. L’apprentissage de différentes techniques qui permettent de mieux respirer\, de mieux se connaitre et prendre soin de soi. Vous pourrez\, dès lors\, lorsque vous sentirez que vous en aurez besoin\, mettre en place ces mêmes rituels afin de récupérer l’énergie qui peut vous manquer au quotidien! \n  \nLe prix s’entend pour 10 séances.\nLa première séance est offerte. \nDates:\n24-31 janvier\n7-14-21-28 février\n14-21-28 mars\n4-25 avril\n2-9-16-23 mai\n6-13-20 juin
URL:https://www.soralia.be/accueil/event/zenergie-a-epinois/
LOCATION:Salle communale\, Rue du By\, 32\, Epinois\, Hainaut\, 7134\, Belgique
CATEGORIES:Charleroi,Loisirs
ATTACH;FMTTYPE=image/png:https://www.soralia.be/wp-content/uploads/2017/01/calendrier-janvier.png
END:VEVENT
END:VCALENDAR