BEGIN:VCALENDAR
VERSION:2.0
PRODID:-//Soralia - ECPv6.15.17.1//NONSGML v1.0//EN
CALSCALE:GREGORIAN
METHOD:PUBLISH
X-ORIGINAL-URL:https://www.soralia.be/accueil
X-WR-CALDESC:Évènements pour Soralia
REFRESH-INTERVAL;VALUE=DURATION:PT1H
X-Robots-Tag:noindex
X-PUBLISHED-TTL:PT1H
BEGIN:VTIMEZONE
TZID:Europe/Paris
BEGIN:DAYLIGHT
TZOFFSETFROM:+0100
TZOFFSETTO:+0200
TZNAME:CEST
DTSTART:20170326T010000
END:DAYLIGHT
BEGIN:STANDARD
TZOFFSETFROM:+0200
TZOFFSETTO:+0100
TZNAME:CET
DTSTART:20171029T010000
END:STANDARD
BEGIN:DAYLIGHT
TZOFFSETFROM:+0100
TZOFFSETTO:+0200
TZNAME:CEST
DTSTART:20180325T010000
END:DAYLIGHT
BEGIN:STANDARD
TZOFFSETFROM:+0200
TZOFFSETTO:+0100
TZNAME:CET
DTSTART:20181028T010000
END:STANDARD
BEGIN:DAYLIGHT
TZOFFSETFROM:+0100
TZOFFSETTO:+0200
TZNAME:CEST
DTSTART:20190331T010000
END:DAYLIGHT
BEGIN:STANDARD
TZOFFSETFROM:+0200
TZOFFSETTO:+0100
TZNAME:CET
DTSTART:20191027T010000
END:STANDARD
END:VTIMEZONE
BEGIN:VEVENT
DTSTART;TZID=Europe/Paris:20180810T120000
DTEND;TZID=Europe/Paris:20180810T140000
DTSTAMP:20260421T234518
CREATED:20180516T071149Z
LAST-MODIFIED:20180516T071149Z
UID:10004016-1533902400-1533909600@www.soralia.be
SUMMARY:Auberge Espagnole - Semaine Cré'Action
DESCRIPTION:Nous partagerons des plats sous le principe de l’auberge espagnole. Cuisinez une de vos recettes secrètes et venez la partager en toute convivialité. Nous prenons en charge les boissons et le matériel. \nAvec l’équipe d’animations FPS \nInscriptions obligatoires \n 
URL:https://www.soralia.be/accueil/event/auberge-espagnole-semaine-creaction/
LOCATION:Salle communale\, chaussée Brunehault 232\, Estinnes-au-Mont\, 7120\, Belgique
CATEGORIES:Centre & Soignies,Régional
ATTACH;FMTTYPE=image/png:https://www.soralia.be/wp-content/uploads/2017/01/calendrier-aout.png
ORGANIZER;CN="FPS Centre & Soignies":MAILTO:fps.cs@solidaris.be
END:VEVENT
BEGIN:VEVENT
DTSTART;TZID=Europe/Paris:20180810T090000
DTEND;TZID=Europe/Paris:20180810T120000
DTSTAMP:20260421T234518
CREATED:20180516T070715Z
LAST-MODIFIED:20180516T070715Z
UID:10004015-1533891600-1533902400@www.soralia.be
SUMMARY:Destination Lecture - Semaine Cré'Action
DESCRIPTION:S’évader au cœur du bien-être en écoutant des textes nous transportant vers des destinations de rêve\, de repos et de sérénité. \nPar Deborah Barbarossa\, animatrice socioculturelle FPS \nDeux groupes de 9h à 10h30 et de 10h30 à 12h \nInscriptions obligatoires
URL:https://www.soralia.be/accueil/event/destination-lecture-semaine-creaction/
LOCATION:Salle communale\, chaussée Brunehault 232\, Estinnes-au-Mont\, 7120\, Belgique
CATEGORIES:Centre & Soignies,Régional
ATTACH;FMTTYPE=image/png:https://www.soralia.be/wp-content/uploads/2017/01/calendrier-aout.png
ORGANIZER;CN="FPS Centre & Soignies":MAILTO:fps.cs@solidaris.be
END:VEVENT
BEGIN:VEVENT
DTSTART;TZID=Europe/Paris:20180810T090000
DTEND;TZID=Europe/Paris:20180810T120000
DTSTAMP:20260421T234518
CREATED:20180516T065834Z
LAST-MODIFIED:20180516T065834Z
UID:10004014-1533891600-1533902400@www.soralia.be
SUMMARY:Balade Nature - Semaine Cré'Action
DESCRIPTION:Balade champêtre sur le Ravel. \nAvec Géraldine Dujardin\, animatrice socioculturelle FPS \nDeux groupes de 9h à 10h30 ou de 10h30 à 12h \nInscriptions obligatoires
URL:https://www.soralia.be/accueil/event/balade-nature-semaine-creaction/
LOCATION:Salle communale\, chaussée Brunehault 232\, Estinnes-au-Mont\, 7120\, Belgique
CATEGORIES:Centre & Soignies,Régional
ATTACH;FMTTYPE=image/png:https://www.soralia.be/wp-content/uploads/2017/01/calendrier-aout.png
ORGANIZER;CN="FPS Centre & Soignies":MAILTO:fps.cs@solidaris.be
END:VEVENT
BEGIN:VEVENT
DTSTART;TZID=Europe/Paris:20180810T090000
DTEND;TZID=Europe/Paris:20180810T120000
DTSTAMP:20260421T234518
CREATED:20180516T065334Z
LAST-MODIFIED:20180516T065914Z
UID:10004013-1533891600-1533902400@www.soralia.be
SUMMARY:Pizza de Papa - Semaine Cré'Action
DESCRIPTION:A vos platines ! Farine\, eau\, levure\, tomates\, fromage et garniture à volonté… et hop au four. Les pizzas n’auront plus de secret pour vous. \nPar Rocco Campagna\, pizzaiolo à ses heures perdues. \nInscriptions obligatoires \n 
URL:https://www.soralia.be/accueil/event/pizza-de-papa/
LOCATION:Salle communale\, chaussée Brunehault 232\, Estinnes-au-Mont\, 7120\, Belgique
CATEGORIES:Centre & Soignies,Régional
ATTACH;FMTTYPE=image/png:https://www.soralia.be/wp-content/uploads/2017/01/calendrier-aout.png
ORGANIZER;CN="FPS Centre & Soignies":MAILTO:fps.cs@solidaris.be
END:VEVENT
BEGIN:VEVENT
DTSTART;TZID=Europe/Paris:20180809T090000
DTEND;TZID=Europe/Paris:20180809T160000
DTSTAMP:20260421T234518
CREATED:20180516T064609Z
LAST-MODIFIED:20180516T064609Z
UID:10004012-1533805200-1533830400@www.soralia.be
SUMMARY:Massage Métamorphique - Semaine Cré'Action
DESCRIPTION:Cette technique est une profonde relaxation qui permet à la personne de se reconnecter avec son moi profond. Elle aide à lâcher ses schémas d’inconfort comme le stress\, l’anxiété et l’angoisse. La personne se reconnait en toute originalité et commence à vivre de façon harmonieuse. \nPar Françoise Bousson\, massothérapeute. \nDeux groupes de 9h à 12h et de 13h à 16h \nInscriptions obligatoires \n 
URL:https://www.soralia.be/accueil/event/massage-metamorphique-semaine-creaction/
LOCATION:Salle communale\, chaussée Brunehault 232\, Estinnes-au-Mont\, 7120\, Belgique
CATEGORIES:Centre & Soignies,Régional
ATTACH;FMTTYPE=image/png:https://www.soralia.be/wp-content/uploads/2017/01/calendrier-aout.png
ORGANIZER;CN="FPS Centre & Soignies":MAILTO:fps.cs@solidaris.be
END:VEVENT
BEGIN:VEVENT
DTSTART;TZID=Europe/Paris:20180809T090000
DTEND;TZID=Europe/Paris:20180809T160000
DTSTAMP:20260421T234518
CREATED:20180515T135757Z
LAST-MODIFIED:20180515T135757Z
UID:10004011-1533805200-1533830400@www.soralia.be
SUMMARY:Aquarelle - Semaine Cré'Action
DESCRIPTION:Cette journée est consacrée à l’aquarelle dans ce qu’elle a de thérapeutique : le lâcher-prise. \nL’animatrice vous invitera à jouer avec les taches de couleurs posées sur papier mouillé et à y faire naître les différentes humeurs du ciel. Elle vous contera la magie de l’eau\, des papiers\, des couleurs et vous révélera le mystère de leur transparence et leur opacité. \nLes personnes possédant déjà un matériel d’aquarelliste peuvent l’apporter. \nPar Joëlle Daniau\, artiste peintre polyvalente et animatrice Hainaut Culture Tourisme \nInscriptions obligatoires \n 
URL:https://www.soralia.be/accueil/event/aquarelle-semaine-creaction/
LOCATION:Salle communale\, chaussée Brunehault 232\, Estinnes-au-Mont\, 7120\, Belgique
CATEGORIES:Centre & Soignies,Régional
ATTACH;FMTTYPE=image/png:https://www.soralia.be/wp-content/uploads/2017/01/calendrier-aout.png
ORGANIZER;CN="FPS Centre & Soignies":MAILTO:fps.cs@solidaris.be
END:VEVENT
BEGIN:VEVENT
DTSTART;TZID=Europe/Paris:20180808T130000
DTEND;TZID=Europe/Paris:20180808T160000
DTSTAMP:20260421T234518
CREATED:20180515T135524Z
LAST-MODIFIED:20180515T135524Z
UID:10004010-1533733200-1533744000@www.soralia.be
SUMMARY:Atelier d'Ecriture - Semaine Cré'Action
DESCRIPTION:Atelier à la portée de toutes. Libérer son imaginaire en jouant avec les mots\, les sons\, les images\, les clichés\, les stéréotypes. Parler de notre rôle de femme et laisser un souvenir de nos textes sur un marque page réalisé par collage. \nPar Deborah Barbarossa\, animatrice socioculturelle FPS \nInscriptions obligatoires
URL:https://www.soralia.be/accueil/event/atelier-decriture-semaine-creaction/
LOCATION:Salle communale\, chaussée Brunehault 232\, Estinnes-au-Mont\, 7120\, Belgique
CATEGORIES:Centre & Soignies,Egalité femme-homme,Régional
ATTACH;FMTTYPE=image/png:https://www.soralia.be/wp-content/uploads/2017/01/calendrier-aout.png
ORGANIZER;CN="FPS Centre & Soignies":MAILTO:fps.cs@solidaris.be
END:VEVENT
BEGIN:VEVENT
DTSTART;TZID=Europe/Paris:20180808T090000
DTEND;TZID=Europe/Paris:20180808T160000
DTSTAMP:20260421T234518
CREATED:20180515T133053Z
LAST-MODIFIED:20180515T133053Z
UID:10004007-1533718800-1533744000@www.soralia.be
SUMMARY:Expression Primitive - Semaine Cré'Action
DESCRIPTION:Cette technique de danse d’origine afro-américaine\, est construite sur les gestes et rythmes « premiers »\, « primitifs » : la pulsation\, le battement du cœur\, du souffle respiratoire\, de la marche… L’expression primitive associe la voix au mouvement. C’est une danse poétique aux gestes symboliques\, une danse conviviale\, chaleureuse et ludique\, qui redonne joie et confiance en soi\, qui régularise l’humeur et qui peut avoir un grand pouvoir thérapeutique. \nAvec Sylvie Bruno\, danse-thérapeute \nInscriptions obligatoires
URL:https://www.soralia.be/accueil/event/expression-primitive-semaine-creaction/
LOCATION:Salle communale\, chaussée Brunehault 232\, Estinnes-au-Mont\, 7120\, Belgique
CATEGORIES:Centre & Soignies,Régional
ATTACH;FMTTYPE=image/png:https://www.soralia.be/wp-content/uploads/2017/01/calendrier-aout.png
ORGANIZER;CN="FPS Centre & Soignies":MAILTO:fps.cs@solidaris.be
END:VEVENT
BEGIN:VEVENT
DTSTART;TZID=Europe/Paris:20180808T090000
DTEND;TZID=Europe/Paris:20180808T120000
DTSTAMP:20260421T234518
CREATED:20180515T135238Z
LAST-MODIFIED:20180515T135238Z
UID:10004009-1533718800-1533729600@www.soralia.be
SUMMARY:Atelier Origami - Semaine Cré'Action
DESCRIPTION:Qui n’a jamais plié une serviette ou une feuille pour en faire un chapeau ou une cocotte ? Quelle satisfaction de créer des objets à partir d’un matériau aussi commun et banal qu’un bout de papier ! Devenu un art à part entière au Japon\, les origamis se déclinent à l’infini. Nous vous proposons de vous accompagner dans la découverte de pliages de papiers sans découpe et sans collage pour des petits objets décoratifs et/ou utiles que vous pourrez créer et reproduire à volonté. De plus\, une fois que vous aurez compris les principes de base des pliages\, vous pourrez vous aventurer pour tester d’autres modèles chez vous. \nPar Laureline Ziwny\, animatrice socioculturelle FPS \nInscriptions obligatoires
URL:https://www.soralia.be/accueil/event/atelier-origami-semaine-creaction/
LOCATION:Salle communale\, chaussée Brunehault 232\, Estinnes-au-Mont\, 7120\, Belgique
CATEGORIES:Centre & Soignies,Régional
ATTACH;FMTTYPE=image/png:https://www.soralia.be/wp-content/uploads/2017/01/calendrier-aout.png
ORGANIZER;CN="FPS Centre & Soignies":MAILTO:fps.cs@solidaris.be
END:VEVENT
BEGIN:VEVENT
DTSTART;TZID=Europe/Paris:20180808T090000
DTEND;TZID=Europe/Paris:20180808T120000
DTSTAMP:20260421T234518
CREATED:20180515T134736Z
LAST-MODIFIED:20180515T134736Z
UID:10004008-1533718800-1533729600@www.soralia.be
SUMMARY:Atelier Reliure - Semaine Cré'Action
DESCRIPTION:Le papier est partout autour de nous\, alors pourquoi ne pas l’utiliser pour créer des objets… ou… un journal. Les ingrédients indispensables : 40 feuilles de papier A4 ou un peu plus suivant le nombre de pages désiré\, 2 feuilles de carton de 16 cm/22 cm\, 1 languette de carton de 16 cm/2cm\, du fil et une aiguille\, 1 tube de colle\, une « chute » de tissus de 40 cm/30 cm qui servira de couverture\, 1 soupçon de décoration (ruban\, bouton…) et le tout saupoudré d’un zeste de créativité… \nPar Nathalie Oliverio\, artiste récup’ \nInscriptions obligatoires
URL:https://www.soralia.be/accueil/event/atelier-reliure-semaine-creaction/
LOCATION:Salle communale\, chaussée Brunehault 232\, Estinnes-au-Mont\, 7120\, Belgique
CATEGORIES:Centre & Soignies,Régional
ATTACH;FMTTYPE=image/png:https://www.soralia.be/wp-content/uploads/2017/01/calendrier-aout.png
ORGANIZER;CN="FPS Centre & Soignies":MAILTO:fps.cs@solidaris.be
END:VEVENT
BEGIN:VEVENT
DTSTART;TZID=Europe/Paris:20180807T130000
DTEND;TZID=Europe/Paris:20180807T160000
DTSTAMP:20260421T234518
CREATED:20180515T132628Z
LAST-MODIFIED:20180515T132628Z
UID:10004006-1533646800-1533657600@www.soralia.be
SUMMARY:Bouge et Danse - Semaine Cré'Action
DESCRIPTION:Echauffement des articulations\, stretching\, exercices de respiration\, expression corporelle\, chorégraphies… Laissons-nous emporter par le rythme et la musique\, bougeons et dansons\, dans la joie et la bonne humeur. \nPar Géraldine Dujardin\, animatrice socioculturelle FPS \nInscriptions obligatoires \n 
URL:https://www.soralia.be/accueil/event/bouge-et-danse-semaine-creaction/
LOCATION:Salle communale\, chaussée Brunehault 232\, Estinnes-au-Mont\, 7120\, Belgique
CATEGORIES:Centre & Soignies,Régional
ATTACH;FMTTYPE=image/png:https://www.soralia.be/wp-content/uploads/2017/01/calendrier-aout.png
ORGANIZER;CN="FPS Centre & Soignies":MAILTO:fps.cs@solidaris.be
END:VEVENT
BEGIN:VEVENT
DTSTART;TZID=Europe/Paris:20180807T130000
DTEND;TZID=Europe/Paris:20180807T160000
DTSTAMP:20260421T234518
CREATED:20180515T131307Z
LAST-MODIFIED:20180515T131307Z
UID:10004005-1533646800-1533657600@www.soralia.be
SUMMARY:Psycho-Généalogie - Semaine Cré'Action
DESCRIPTION:Cauchemars\, asthme\, échecs récurrents ou phobies…. Et si nos troubles « commémoraient » les faits marquants de nos ancêtres ? Cette technique qui étudie les répétitions sur plusieurs générations donne des résultats étonnants… Nous pourrons lors de cet atelier analyser ensemble nos arbres généalogiques. \nAvec Davina Ingala – Kinésiologue \nInscriptions obligatoires
URL:https://www.soralia.be/accueil/event/psycho-genealogie-semaine-creaction/
LOCATION:Salle communale\, chaussée Brunehault 232\, Estinnes-au-Mont\, 7120\, Belgique
CATEGORIES:Centre & Soignies,Régional
ATTACH;FMTTYPE=image/png:https://www.soralia.be/wp-content/uploads/2017/01/calendrier-aout.png
ORGANIZER;CN="FPS Centre & Soignies":MAILTO:fps.cs@solidaris.be
END:VEVENT
BEGIN:VEVENT
DTSTART;TZID=Europe/Paris:20180807T090000
DTEND;TZID=Europe/Paris:20180807T120000
DTSTAMP:20260421T234518
CREATED:20180515T130318Z
LAST-MODIFIED:20180515T130318Z
UID:10004004-1533632400-1533643200@www.soralia.be
SUMMARY:Energie Tibétaine - Semaine Cré'Action
DESCRIPTION:Utiliser\, gérer et améliorer la qualité de notre énergie grâce à une technique facile à apprendre. L’énergie tibétaine en forme de 8… Nous apprendrons à la tester\, la débloquer pour améliorer sa circulation et permettre ainsi au bien-être de reprendre sa place dans notre vie. \nAvec Davina Ingala – Kinésiologue \nInscriptions obligatoires \n 
URL:https://www.soralia.be/accueil/event/energie-tibetaine-semaine-creaction/
LOCATION:Salle communale\, chaussée Brunehault 232\, Estinnes-au-Mont\, 7120\, Belgique
CATEGORIES:Centre & Soignies,Régional
ATTACH;FMTTYPE=image/png:https://www.soralia.be/wp-content/uploads/2017/01/calendrier-aout.png
ORGANIZER;CN="FPS Centre & Soignies":MAILTO:fps.cs@solidaris.be
END:VEVENT
BEGIN:VEVENT
DTSTART;TZID=Europe/Paris:20180807T090000
DTEND;TZID=Europe/Paris:20180807T120000
DTSTAMP:20260421T234518
CREATED:20180515T123229Z
LAST-MODIFIED:20180515T125445Z
UID:10004003-1533632400-1533643200@www.soralia.be
SUMMARY:Danses d'Amérique latine - Semaine Cré'Action
DESCRIPTION:Salsa\, mérengué\, bachatta\, cumbia\, cha-cha-cha\, tango…  \nSeul\, à deux\, en cercle\, en lignes\, ​de pas en figures\, de figures en chorégraphies simples ; laissons-nous emporter par les rythmes joyeux. Niveau débutant. \nPar Catherine Henry\, animatrice Hainaut Culture Tourisme \nInscriptions obligatoires
URL:https://www.soralia.be/accueil/event/danses-damerique-latine-semaine-creaction/
LOCATION:Salle communale\, chaussée Brunehault 232\, Estinnes-au-Mont\, 7120\, Belgique
CATEGORIES:Centre & Soignies,Régional
ATTACH;FMTTYPE=image/png:https://www.soralia.be/wp-content/uploads/2017/01/calendrier-aout.png
ORGANIZER;CN="FPS Centre & Soignies":MAILTO:fps.cs@solidaris.be
END:VEVENT
BEGIN:VEVENT
DTSTART;TZID=Europe/Paris:20180806T090000
DTEND;TZID=Europe/Paris:20180806T160000
DTSTAMP:20260421T234518
CREATED:20180515T122227Z
LAST-MODIFIED:20180515T122344Z
UID:10004002-1533546000-1533571200@www.soralia.be
SUMMARY:Massage des mains - Semaine Cré'Action
DESCRIPTION:Continuellement sollicitées\, nos mains se sentent souvent raides et fatiguées. Le modelage des mains enlève les tensions\, assouplit les articulations ; il procure détente et bien-être\, diminue le stress et redonne la souplesse à nos mains. \nAvec Françoise Bousson\, massothérapeute \nDeux groupes de 9h à 12h et de 13h à 16h \nInscriptions obligatoires \n 
URL:https://www.soralia.be/accueil/event/massage-des-mains-semaine-creaction/
LOCATION:Salle communale\, chaussée Brunehault 232\, Estinnes-au-Mont\, 7120\, Belgique
CATEGORIES:Centre & Soignies,Régional
ATTACH;FMTTYPE=image/png:https://www.soralia.be/wp-content/uploads/2017/01/calendrier-aout.png
ORGANIZER;CN="FPS Centre & Soignies":MAILTO:fps.cs@solidaris.be
END:VEVENT
END:VCALENDAR