BEGIN:VCALENDAR
VERSION:2.0
PRODID:-//Soralia - ECPv6.15.17.1//NONSGML v1.0//EN
CALSCALE:GREGORIAN
METHOD:PUBLISH
X-ORIGINAL-URL:https://www.soralia.be/accueil
X-WR-CALDESC:Évènements pour Soralia
REFRESH-INTERVAL;VALUE=DURATION:PT1H
X-Robots-Tag:noindex
X-PUBLISHED-TTL:PT1H
BEGIN:VTIMEZONE
TZID:Europe/Paris
BEGIN:DAYLIGHT
TZOFFSETFROM:+0100
TZOFFSETTO:+0200
TZNAME:CEST
DTSTART:20170326T010000
END:DAYLIGHT
BEGIN:STANDARD
TZOFFSETFROM:+0200
TZOFFSETTO:+0100
TZNAME:CET
DTSTART:20171029T010000
END:STANDARD
BEGIN:DAYLIGHT
TZOFFSETFROM:+0100
TZOFFSETTO:+0200
TZNAME:CEST
DTSTART:20180325T010000
END:DAYLIGHT
BEGIN:STANDARD
TZOFFSETFROM:+0200
TZOFFSETTO:+0100
TZNAME:CET
DTSTART:20181028T010000
END:STANDARD
BEGIN:DAYLIGHT
TZOFFSETFROM:+0100
TZOFFSETTO:+0200
TZNAME:CEST
DTSTART:20190331T010000
END:DAYLIGHT
BEGIN:STANDARD
TZOFFSETFROM:+0200
TZOFFSETTO:+0100
TZNAME:CET
DTSTART:20191027T010000
END:STANDARD
BEGIN:DAYLIGHT
TZOFFSETFROM:+0100
TZOFFSETTO:+0200
TZNAME:CEST
DTSTART:20200329T010000
END:DAYLIGHT
BEGIN:STANDARD
TZOFFSETFROM:+0200
TZOFFSETTO:+0100
TZNAME:CET
DTSTART:20201025T010000
END:STANDARD
END:VTIMEZONE
BEGIN:VEVENT
DTSTART;TZID=Europe/Paris:20190203T150000
DTEND;TZID=Europe/Paris:20190203T170000
DTSTAMP:20260423T090142
CREATED:20190131T133615Z
LAST-MODIFIED:20190131T133615Z
UID:10004385-1549206000-1549213200@www.soralia.be
SUMMARY:Goûter aux crêpes
DESCRIPTION:Le comité local FPS et l’USC de Jodoigne vous invitent à leur traditionnel goûter aux crêpes.\nVenez nombreux vous régaler et participer à cet après-midi animé par LES AMIS DE LA CHANSON.
URL:https://www.soralia.be/accueil/event/gouter-aux-crepes/
LOCATION:Salle Saint-Lambert\, Rue de la Cure\, Jodoigne\, 1370\, Belgique
CATEGORIES:Brabant wallon,Familles,Général,Loisirs,Régional
END:VEVENT
BEGIN:VEVENT
DTSTART;TZID=Europe/Paris:20181124T120000
DTEND;TZID=Europe/Paris:20181124T150000
DTSTAMP:20260423T090142
CREATED:20180911T091728Z
LAST-MODIFIED:20180911T142941Z
UID:10004100-1543060800-1543071600@www.soralia.be
SUMMARY:Repas d'automne des FPS de Jodoigne
DESCRIPTION:Traditionnel souper des FPS de Jodoigne. \nAu menu :\nSauret\, pomme de terre en chemise 8€ ou Cuisse de poulet\, sauce champignons 15€ \nPlus d’infos :\nMadeleine Lekenne : 010/81 35 69 ou 0478/36 40 36\nNicole Peeters : 010/81 42 43 ou 0478/94 02 76
URL:https://www.soralia.be/accueil/event/repas-dautomne-des-fps-de-jodoigne/
LOCATION:Salle Saint-Lambert\, Rue de la Cure\, Jodoigne\, 1370\, Belgique
CATEGORIES:Brabant wallon,Loisirs
ORGANIZER;CN="FPS Brabant wallon":MAILTO:fpsbw@solidaris.be
END:VEVENT
END:VCALENDAR