BEGIN:VCALENDAR
VERSION:2.0
PRODID:-//Soralia - ECPv6.15.17.1//NONSGML v1.0//EN
CALSCALE:GREGORIAN
METHOD:PUBLISH
X-WR-CALNAME:Soralia
X-ORIGINAL-URL:https://www.soralia.be/accueil
X-WR-CALDESC:Évènements pour Soralia
REFRESH-INTERVAL;VALUE=DURATION:PT1H
X-Robots-Tag:noindex
X-PUBLISHED-TTL:PT1H
BEGIN:VTIMEZONE
TZID:Europe/Paris
BEGIN:DAYLIGHT
TZOFFSETFROM:+0100
TZOFFSETTO:+0200
TZNAME:CEST
DTSTART:20170326T010000
END:DAYLIGHT
BEGIN:STANDARD
TZOFFSETFROM:+0200
TZOFFSETTO:+0100
TZNAME:CET
DTSTART:20171029T010000
END:STANDARD
BEGIN:DAYLIGHT
TZOFFSETFROM:+0100
TZOFFSETTO:+0200
TZNAME:CEST
DTSTART:20180325T010000
END:DAYLIGHT
BEGIN:STANDARD
TZOFFSETFROM:+0200
TZOFFSETTO:+0100
TZNAME:CET
DTSTART:20181028T010000
END:STANDARD
BEGIN:DAYLIGHT
TZOFFSETFROM:+0100
TZOFFSETTO:+0200
TZNAME:CEST
DTSTART:20190331T010000
END:DAYLIGHT
BEGIN:STANDARD
TZOFFSETFROM:+0200
TZOFFSETTO:+0100
TZNAME:CET
DTSTART:20191027T010000
END:STANDARD
END:VTIMEZONE
BEGIN:VEVENT
DTSTART;TZID=Europe/Paris:20180827T090000
DTEND;TZID=Europe/Paris:20180827T120000
DTSTAMP:20260423T171834
CREATED:20180515T100916Z
LAST-MODIFIED:20180713T092338Z
UID:10003998-1535360400-1535371200@www.soralia.be
SUMMARY:Ateliers Re'Belles
DESCRIPTION:Un été pas comme les autres 2018\n \nLaureline Ziwny et Géraldine Renna\, animatrices socioculturelSoralia\, vous proposent trois matinées de débats\, réflexions et travaux pratiques afin de déconstruire les stéréotypes de genre et de se reconnecter à notre beauté\, unique et donc parfaite. \n  \n  \n  \n1. Les médias et moi : constater\, objectiver et réfléchir sur les stéréotypes de genre et l’image de la femme dans les médias et l’inconscient collectif. \n2. Les autres\, mon image et moi : notre rapport à notre image… celle que les autres nous renvoient et la critique que nous faisons de nous-mêmes. \n3. Moi et moi : développer sa beauté intérieure\, celle qui nous permet de nous sentir bien et de rayonner… Même si nous ne sommes pas toutes des égéries de magazines de mode. \nDate du module : du lundi 27 au mercredi 29 août 2018\n \nInscriptions obligatoires : 071/507 820 ou fps.cs@solidaris.be 
URL:https://www.soralia.be/accueil/event/rebelles-un-ete-pas-comme-les-autres/
LOCATION:Solidaris La Hestre\, rue Ferrer 114\, La Hestre\, 7170\, Belgique
CATEGORIES:Centre & Soignies,Egalité femme-homme,Général,Régional
ATTACH;FMTTYPE=image/png:https://www.soralia.be/wp-content/uploads/2017/01/calendrier-aout.png
ORGANIZER;CN="FPS Centre & Soignies":MAILTO:fps.cs@solidaris.be
END:VEVENT
END:VCALENDAR