BEGIN:VCALENDAR
VERSION:2.0
PRODID:-//Soralia - ECPv6.15.17.1//NONSGML v1.0//EN
CALSCALE:GREGORIAN
METHOD:PUBLISH
X-WR-CALNAME:Soralia
X-ORIGINAL-URL:https://www.soralia.be/accueil
X-WR-CALDESC:Évènements pour Soralia
REFRESH-INTERVAL;VALUE=DURATION:PT1H
X-Robots-Tag:noindex
X-PUBLISHED-TTL:PT1H
BEGIN:VTIMEZONE
TZID:Europe/Paris
BEGIN:DAYLIGHT
TZOFFSETFROM:+0100
TZOFFSETTO:+0200
TZNAME:CEST
DTSTART:20170326T010000
END:DAYLIGHT
BEGIN:STANDARD
TZOFFSETFROM:+0200
TZOFFSETTO:+0100
TZNAME:CET
DTSTART:20171029T010000
END:STANDARD
BEGIN:DAYLIGHT
TZOFFSETFROM:+0100
TZOFFSETTO:+0200
TZNAME:CEST
DTSTART:20180325T010000
END:DAYLIGHT
BEGIN:STANDARD
TZOFFSETFROM:+0200
TZOFFSETTO:+0100
TZNAME:CET
DTSTART:20181028T010000
END:STANDARD
BEGIN:DAYLIGHT
TZOFFSETFROM:+0100
TZOFFSETTO:+0200
TZNAME:CEST
DTSTART:20190331T010000
END:DAYLIGHT
BEGIN:STANDARD
TZOFFSETFROM:+0200
TZOFFSETTO:+0100
TZNAME:CET
DTSTART:20191027T010000
END:STANDARD
END:VTIMEZONE
BEGIN:VEVENT
DTSTART;TZID=Europe/Paris:20180920T100000
DTEND;TZID=Europe/Paris:20180921T180000
DTSTAMP:20260424T124048
CREATED:20180903T143321Z
LAST-MODIFIED:20180903T143321Z
UID:10004091-1537437600-1537552800@www.soralia.be
SUMMARY:Salon Charleroi Hainaut Seniors
DESCRIPTION:Pour votre cœur\, vos habitudes de vie comptent \nCe salon « amélioré » propose aussi bien des ateliers conseils sur votre future pension (secteur public et privé) ou sur votre consommation d’énergie que des conférences\, des spectacles\, des informations disponibles dans les 85 stands à votre disposition\, des initiations\, un espace relooking  – des conférences\, des visites gratuites de résidences-services… \nSoralia du Centre et de Soignies seront présentes avec l’ensemble du Réseau Solidaris.
URL:https://www.soralia.be/accueil/event/salon-charleroi-hainaut-seniors/
LOCATION:Spiroudome\, rue des Olympiades 2\, Charleroi\, 6000
CATEGORIES:Centre & Soignies,Régional,Santé,Thèmes
ATTACH;FMTTYPE=image/png:https://www.soralia.be/wp-content/uploads/2017/01/calendrier-sept.png
ORGANIZER;CN="FPS Centre & Soignies":MAILTO:fps.cs@solidaris.be
END:VEVENT
END:VCALENDAR